BEGIN:VCALENDAR
VERSION:2.0
PRODID:-//MCC do Brasil - ECPv6.15.11//NONSGML v1.0//EN
CALSCALE:GREGORIAN
METHOD:PUBLISH
X-WR-CALNAME:MCC do Brasil
X-ORIGINAL-URL:https://www.cursilho.org.br
X-WR-CALDESC:Eventos para MCC do Brasil
REFRESH-INTERVAL;VALUE=DURATION:PT1H
X-Robots-Tag:noindex
X-PUBLISHED-TTL:PT1H
BEGIN:VTIMEZONE
TZID:America/Sao_Paulo
BEGIN:STANDARD
TZOFFSETFROM:-0300
TZOFFSETTO:-0300
TZNAME:-03
DTSTART:20240101T000000
END:STANDARD
END:VTIMEZONE
BEGIN:VEVENT
DTSTART;VALUE=DATE:20251002
DTEND;VALUE=DATE:20251006
DTSTAMP:20260421T173157
CREATED:20251002T171501Z
LAST-MODIFIED:20251002T171501Z
UID:64079-1759363200-1759708799@www.cursilho.org.br
SUMMARY:02/10 - 22° CURSILHO DE ADULTO DA DIOCESE DE NAVIRAÍ MS - GED NAVIRAÍ
DESCRIPTION:
URL:https://www.cursilho.org.br/event/02-10-22-cursilho-de-adulto-da-diocese-de-navirai-ms-ged-navirai/
LOCATION:GED NAVIRAÍ\, R. Campanário\, 144\, Centro\, Naviraí - MS\, 79950-000\, Brasil
CATEGORIES:Cursilho
ORGANIZER;CN="Gelton Fernandes Goncalves":MAILTO:geltonfg@hotmail.com
END:VEVENT
BEGIN:VEVENT
DTSTART;VALUE=DATE:20251002
DTEND;VALUE=DATE:20251006
DTSTAMP:20260421T173157
CREATED:20250926T114433Z
LAST-MODIFIED:20250926T114433Z
UID:64068-1759363200-1759708799@www.cursilho.org.br
SUMMARY:02/10 - 48º CURSILHO MISTO PARA JOVENS - GED DOURADOS
DESCRIPTION:
URL:https://www.cursilho.org.br/event/02-10-48o-cursilho-misto-para-jovens-ged-dourados/
LOCATION:GED DOURADOS\, R. João Cândido da Câmara\, 400\, Centro\, Dourados\, Minas Gerais\, 79804-000\, Brasil
CATEGORIES:Cursilho
END:VEVENT
BEGIN:VEVENT
DTSTART;VALUE=DATE:20251002
DTEND;VALUE=DATE:20251006
DTSTAMP:20260421T173157
CREATED:20250904T145828Z
LAST-MODIFIED:20250904T145828Z
UID:63999-1759363200-1759708799@www.cursilho.org.br
SUMMARY:02/10 - 48º CURSILHO MISTO PARA JOVENS - GED DOURADOS-MS
DESCRIPTION:
URL:https://www.cursilho.org.br/event/02-10-48o-cursilho-misto-para-jovens-ged-dourados-ms/
LOCATION:GED DOURADOS-MS\, R. João Cândido da Câmara\, 400 - Centro\, Dourados - MS\, MINAS GERAIS\, 79826-010\, Brasil
CATEGORIES:Cursilho
ORGANIZER;CN="CLAUDIO RENATO PADIM BARBOSA":MAILTO:claudiopadim@hotmail.com
END:VEVENT
BEGIN:VEVENT
DTSTART;VALUE=DATE:20251002
DTEND;VALUE=DATE:20251006
DTSTAMP:20260421T173157
CREATED:20250331T143659Z
LAST-MODIFIED:20250331T143659Z
UID:63464-1759363200-1759708799@www.cursilho.org.br
SUMMARY:02/10 - 57º CURSILHO PARA MULHERES - GED GOVERNADOR VALADARES
DESCRIPTION:
URL:https://www.cursilho.org.br/event/02-10-57o-cursilho-para-mulheres-ged-governador-valadares/
LOCATION:Cúria Diocesana de Governador Valadares\, Av. Brasil\, 2770 – Centro\, Governador Valadares\, Minas Gerais\, 35010-020\, Brasil
CATEGORIES:Cursilho
END:VEVENT
BEGIN:VEVENT
DTSTART;VALUE=DATE:20251001
DTEND;VALUE=DATE:20251006
DTSTAMP:20260421T173157
CREATED:20250828T121323Z
LAST-MODIFIED:20250828T121323Z
UID:63954-1759276800-1759708799@www.cursilho.org.br
SUMMARY:01/10 - 48° CURSILHO PARA JOVENS - GED DOURADOS
DESCRIPTION:
URL:https://www.cursilho.org.br/event/01-10-48-cursilho-para-jovens-ged-dourados/
LOCATION:GED DOURADOS\, R. João Cândido da Câmara\, 400\, Centro\, Dourados\, Minas Gerais\, 79804-000\, Brasil
CATEGORIES:Cursilho
ORGANIZER;CN="GUILHERME CARNEIRO MEDINA":MAILTO:priscilamariadasilva24@gmail.com
END:VEVENT
BEGIN:VEVENT
DTSTART;VALUE=DATE:20250926
DTEND;VALUE=DATE:20250929
DTSTAMP:20260421T173157
CREATED:20250926T114311Z
LAST-MODIFIED:20250926T114311Z
UID:64065-1758844800-1759103999@www.cursilho.org.br
SUMMARY:26/09 - 176º CURSILHO MASCULINO - GED JATAÍ GOIÁS
DESCRIPTION:
URL:https://www.cursilho.org.br/event/26-09-176o-cursilho-masculino-ged-jatai-goias/
LOCATION:GED JATAÍ\, Praça Dom Germano\, 660 - Centro\, Jataí - GO\, 75800-035 ​\, Brasil
CATEGORIES:Cursilho
ORGANIZER;CN="Eduvaldo Campos Soares":MAILTO:eduvaldo.campos@gmail.com
END:VEVENT
BEGIN:VEVENT
DTSTART;VALUE=DATE:20250926
DTEND;VALUE=DATE:20250929
DTSTAMP:20260421T173157
CREATED:20250918T114303Z
LAST-MODIFIED:20250918T114303Z
UID:64035-1758844800-1759103999@www.cursilho.org.br
SUMMARY:26/09 - 97º CURSILHO ADULTO MASCULINO - GED PALMAS/FRANCISCO BELTRÃO
DESCRIPTION:
URL:https://www.cursilho.org.br/event/26-09-97o-cursilho-adulto-masculino-ged-palmas-francisco-beltrao/
LOCATION:GED Palmas / Francisco Beltrão\, Rua Bispo Dom Carlos\, 819\, Sala 01 - Centro\, Palmas - PR\, 85.690-025\, Brasil
CATEGORIES:Cursilho
ORGANIZER;CN="Diogo Willian Likes Pastre":MAILTO:diogopastre@gmail.com
END:VEVENT
BEGIN:VEVENT
DTSTART;VALUE=DATE:20250926
DTEND;VALUE=DATE:20250929
DTSTAMP:20260421T173157
CREATED:20250909T142600Z
LAST-MODIFIED:20250909T142600Z
UID:64003-1758844800-1759103999@www.cursilho.org.br
SUMMARY:26/09 - 105º CURSILHO DE HOMENS - GED PELOTAS
DESCRIPTION:
URL:https://www.cursilho.org.br/event/26-09-105o-cursilho-de-homens-ged-pelotas/
LOCATION:GED PELOTAS\, Av. Domingos de Almeida 3150 - Areal\, Pelotas\, Brasil
CATEGORIES:Cursilho
ORGANIZER;CN="Fernanda Borchardt Veiras":MAILTO:fernandaveiras@yahoo.com.br
END:VEVENT
BEGIN:VEVENT
DTSTART;VALUE=DATE:20250926
DTEND;VALUE=DATE:20250929
DTSTAMP:20260421T173157
CREATED:20250902T172053Z
LAST-MODIFIED:20250902T172053Z
UID:63984-1758844800-1759103999@www.cursilho.org.br
SUMMARY:26/09 - 248º CURSILHO FEMININO -  GED NITERÓI
DESCRIPTION:
URL:https://www.cursilho.org.br/event/26-09-248o-cursilho-feminino-ged-niteroi/
LOCATION:GED NITERÓI\, R. Renato Fleming\, 22\, Jardim Catarina\, São Gonçalo\, Rio de Janeiro\, (21) 2701-6081\, Brasil
CATEGORIES:Cursilho
ORGANIZER;CN="Daniela Alves Gomes":MAILTO:danielaalvesgomes2@gmail.com
END:VEVENT
BEGIN:VEVENT
DTSTART;VALUE=DATE:20250926
DTEND;VALUE=DATE:20250929
DTSTAMP:20260421T173157
CREATED:20250901T130239Z
LAST-MODIFIED:20250901T130239Z
UID:63972-1758844800-1759103999@www.cursilho.org.br
SUMMARY:26/09 - 83° CURSILHO MASCULINO ADULTO - GED FOZ DO IGUAÇU
DESCRIPTION:
URL:https://www.cursilho.org.br/event/26-09-83-cursilho-masculino-adulto-ged-foz-do-iguacu/
LOCATION:GED FOZ DO IGUAÇU\, Rua Patrulheiro Venanti Otremba\, nº 585\, Foz do Iguaçu\, PR\, 85852-020\, Brasil
CATEGORIES:Cursilho
ORGANIZER;CN="Marcos Aur%C3%A9lio Magalh%C3%A3es Aguayo":MAILTO:contasfull@gmail.com
END:VEVENT
BEGIN:VEVENT
DTSTART;VALUE=DATE:20250926
DTEND;VALUE=DATE:20250929
DTSTAMP:20260421T173157
CREATED:20250828T120950Z
LAST-MODIFIED:20250828T120950Z
UID:63948-1758844800-1759103999@www.cursilho.org.br
SUMMARY:26/09 - 83º CURSILHO MASCULINO - GED FOZ DO IGUAÇU
DESCRIPTION:
URL:https://www.cursilho.org.br/event/26-09-83o-cursilho-masculino-ged-foz-do-iguacu/
LOCATION:GED FOZ DO IGUAÇU\, Rua Patrulheiro Venanti Otremba\, nº 585\, Foz do Iguaçu\, PR\, 85852-020\, Brasil
CATEGORIES:Cursilho
ORGANIZER;CN="Lucas Eduardo Ghellere":MAILTO:cursilhofoz@gmail.com
END:VEVENT
BEGIN:VEVENT
DTSTART;VALUE=DATE:20250926
DTEND;VALUE=DATE:20250929
DTSTAMP:20260421T173157
CREATED:20250819T114315Z
LAST-MODIFIED:20250819T114315Z
UID:63925-1758844800-1759103999@www.cursilho.org.br
SUMMARY:26/09 - 225º CURSILHO PARA MULHERES - GED CAMPINAS
DESCRIPTION:
URL:https://www.cursilho.org.br/event/26-09-225o-cursilho-para-mulheres-ged-campinas/
LOCATION:GED CAMPINAS\, Av. Aquidaban\, 744 - Vila Lídia\, Campinas - SP\, 13026-510\, Brasil
CATEGORIES:Cursilho
END:VEVENT
BEGIN:VEVENT
DTSTART;VALUE=DATE:20250926
DTEND;VALUE=DATE:20250929
DTSTAMP:20260421T173157
CREATED:20250520T143741Z
LAST-MODIFIED:20250520T143741Z
UID:63640-1758844800-1759103999@www.cursilho.org.br
SUMMARY:26/09 - 117º  CURSILHO FEMININO ADULTO - GED GUAXUPÉ
DESCRIPTION:
URL:https://www.cursilho.org.br/event/26-09-117o-cursilho-feminino-adulto-ged-guaxupe/
LOCATION:GED GUAXUPÉ\, R. Francisco Ribeiro do Valle\, 242\, Guaxupé - MG\, Minas Gerais\, 37800-000\, Brasil
CATEGORIES:Cursilho
ORGANIZER;CN="JOAQUIM CANDIDO DE AVELAR FILHO":MAILTO:quinzinhoavelar@yahoo.com.br
END:VEVENT
BEGIN:VEVENT
DTSTART;VALUE=DATE:20250925
DTEND;VALUE=DATE:20250929
DTSTAMP:20260421T173157
CREATED:20250923T142842Z
LAST-MODIFIED:20250923T142842Z
UID:64052-1758758400-1759103999@www.cursilho.org.br
SUMMARY:25/09 - 22º CURSILHO DE ADULTOS HOMENS - GED NAVIRAÍ
DESCRIPTION:
URL:https://www.cursilho.org.br/event/25-09-22o-cursilho-de-adultos-homens-ged-navirai/
LOCATION:Ged  Naviraí
CATEGORIES:Cursilho
ORGANIZER;CN="FABIO LOPES JUNIOR":MAILTO:fabiolopesjunior588@gmail.com
END:VEVENT
BEGIN:VEVENT
DTSTART;VALUE=DATE:20250925
DTEND;VALUE=DATE:20250929
DTSTAMP:20260421T173157
CREATED:20250722T115225Z
LAST-MODIFIED:20250722T115225Z
UID:63836-1758758400-1759103999@www.cursilho.org.br
SUMMARY:25/09 - 150° CURSILHO PARA MULHERES -  GED CAMPO GRANDE
DESCRIPTION:
URL:https://www.cursilho.org.br/event/25-09-150-cursilho-para-mulheres-ged-campo-grande/
LOCATION:GED CAMPO GRANDE MS\, Rua Amando de Oliveira\, 448 – Bairro Amambai\, Campo Grande – MS\, 79008-010\, Brasil
CATEGORIES:Cursilho
ORGANIZER;CN="LILIAM MARIA MAKSOUD GON%C3%87ALVES":MAILTO:cursilhocg.mcc@gmail.com
END:VEVENT
BEGIN:VEVENT
DTSTART;VALUE=DATE:20250925
DTEND;VALUE=DATE:20250929
DTSTAMP:20260421T173157
CREATED:20250124T152955Z
LAST-MODIFIED:20250124T152955Z
UID:63208-1758758400-1759103999@www.cursilho.org.br
SUMMARY:25/09 - 28º CURSILHO MISTO PARA JOVENS - GED RONDONÓPOLIS-GUIRATINGA
DESCRIPTION:
URL:https://www.cursilho.org.br/event/25-09-28o-cursilho-misto-para-jovens-ged-rondonopolis-guiratinga/
LOCATION:GED RONDONOPOLIS – GUIRATINGA\, Av. Frei Servácio\, 393 La Salle I\,\, Rondonópolis - MT\, 78710-004\, Brasil
CATEGORIES:Cursilho
ORGANIZER;CN="Cr%C3%ADsley do Nascimento Nunes":MAILTO:crislleynunes22@outlook.com
END:VEVENT
BEGIN:VEVENT
DTSTART;VALUE=DATE:20250919
DTEND;VALUE=DATE:20250922
DTSTAMP:20260421T173157
CREATED:20250918T130320Z
LAST-MODIFIED:20250918T130320Z
UID:64044-1758240000-1758499199@www.cursilho.org.br
SUMMARY:19/09 - 108º CURSILHO MASCULINO - GED SANTA CRUZ DO SUL
DESCRIPTION:
URL:https://www.cursilho.org.br/event/19-09-108o-cursilho-masculino-ged-santa-cruz-do-sul-4/
LOCATION:Santa Cruz do Sul\, Rua Thomaz Flores\, 675 - Centro\, Santa Cruz do Sul\, Rio Grande do Sul\, 96810-068\, Brasil
CATEGORIES:Cursilho
ORGANIZER;CN="ERISON SILVA PEREIRA":MAILTO:c.erison.pereira@gmail.com
END:VEVENT
BEGIN:VEVENT
DTSTART;VALUE=DATE:20250919
DTEND;VALUE=DATE:20250922
DTSTAMP:20260421T173157
CREATED:20250908T120348Z
LAST-MODIFIED:20250908T120348Z
UID:64001-1758240000-1758499199@www.cursilho.org.br
SUMMARY:19/09 - 83º CURSILHO MASCULINO PARA JOVENS - GED CURITIBA
DESCRIPTION:
URL:https://www.cursilho.org.br/event/19-09-83o-cursilho-masculino-para-jovens-ged-curitiba/
LOCATION:GED CURITIBA\, PR\, Brasil
CATEGORIES:Cursilho
ORGANIZER;CN="Allan Hildebrant":MAILTO:cursilhocuritiba@gmail.com
END:VEVENT
BEGIN:VEVENT
DTSTART;VALUE=DATE:20250919
DTEND;VALUE=DATE:20250922
DTSTAMP:20260421T173157
CREATED:20250903T135113Z
LAST-MODIFIED:20250903T135113Z
UID:63990-1758240000-1758499199@www.cursilho.org.br
SUMMARY:19/09 - 108º CURSILHO MASCULINO - GED SANTA CRUZ DO SUL
DESCRIPTION:
URL:https://www.cursilho.org.br/event/19-09-108o-cursilho-masculino-ged-santa-cruz-do-sul-3/
LOCATION:Santa Cruz do Sul\, Rua Thomaz Flores\, 675 - Centro\, Santa Cruz do Sul\, Rio Grande do Sul\, 96810-068\, Brasil
CATEGORIES:Cursilho
ORGANIZER;CN="JO%C3%83O ERNANI RODRIGUES DA SILVA":MAILTO:joao@joaoernani.com.br
END:VEVENT
BEGIN:VEVENT
DTSTART;VALUE=DATE:20250919
DTEND;VALUE=DATE:20250922
DTSTAMP:20260421T173157
CREATED:20250902T171915Z
LAST-MODIFIED:20250902T171915Z
UID:63982-1758240000-1758499199@www.cursilho.org.br
SUMMARY:19/09  - 40º CURSILHO JOVEM MISTO  - GED NITERÓI
DESCRIPTION: 
URL:https://www.cursilho.org.br/event/19-09-40o-cursilho-jovem-misto-ged-niteroi/
LOCATION:GED NITERÓI\, R. Renato Fleming\, 22\, Jardim Catarina\, São Gonçalo\, Rio de Janeiro\, (21) 2701-6081\, Brasil
CATEGORIES:Cursilho
ORGANIZER;CN="Daniela Alves Gomes":MAILTO:danielaalvesgomes2@gmail.com
END:VEVENT
BEGIN:VEVENT
DTSTART;VALUE=DATE:20250919
DTEND;VALUE=DATE:20250922
DTSTAMP:20260421T173157
CREATED:20250828T121512Z
LAST-MODIFIED:20250828T121512Z
UID:63957-1758240000-1758499199@www.cursilho.org.br
SUMMARY:19/09 - 83º CURSILHO JOVEM MASCULINO - GED CURITIBA
DESCRIPTION:
URL:https://www.cursilho.org.br/event/19-09-83o-cursilho-jovem-masculino-ged-curitiba/
LOCATION:GED CURITIBA\, PR\, Brasil
CATEGORIES:Cursilho
ORGANIZER;CN="HERON SANTOS DE OLIVEIRA FILHO":MAILTO:alavancacursilho@gmail.com
END:VEVENT
BEGIN:VEVENT
DTSTART;VALUE=DATE:20250919
DTEND;VALUE=DATE:20250922
DTSTAMP:20260421T173157
CREATED:20250819T134711Z
LAST-MODIFIED:20250819T134711Z
UID:63931-1758240000-1758499199@www.cursilho.org.br
SUMMARY:19/09 - 83º CURSILHO PARA JOVENS MASCULINO - GED CURITIBA
DESCRIPTION:
URL:https://www.cursilho.org.br/event/19-09-83o-cursilho-para-jovens-masculino-ged-curitiba/
LOCATION:GED CURITIBA\, PR\, Brasil
CATEGORIES:Cursilho
ORGANIZER;CN="Ellen Selenko dos Santos":MAILTO:avancacursilho@gmail.com
END:VEVENT
BEGIN:VEVENT
DTSTART;VALUE=DATE:20250919
DTEND;VALUE=DATE:20250922
DTSTAMP:20260421T173157
CREATED:20250815T172954Z
LAST-MODIFIED:20250815T172954Z
UID:63912-1758240000-1758499199@www.cursilho.org.br
SUMMARY:19/09 - 108º CURSILHO MASCULINO - GED SANTA CRUZ DO SUL
DESCRIPTION:
URL:https://www.cursilho.org.br/event/19-09-108o-cursilho-masculino-ged-santa-cruz-do-sul-2/
LOCATION:Santa Cruz do Sul\, Rua Thomaz Flores\, 675 - Centro\, Santa Cruz do Sul\, Rio Grande do Sul\, 96810-068\, Brasil
CATEGORIES:Cursilho
ORGANIZER;CN="JO%C3%83O ERNANI RODRIGUES DA SILVA":MAILTO:joao@joaoernani.com.br
END:VEVENT
BEGIN:VEVENT
DTSTART;VALUE=DATE:20250919
DTEND;VALUE=DATE:20250922
DTSTAMP:20260421T173157
CREATED:20250808T120255Z
LAST-MODIFIED:20250808T120255Z
UID:63889-1758240000-1758499199@www.cursilho.org.br
SUMMARY:19/09 - 108º CURSILHO MASCULINO  - GED SANTA CRUZ DO SUL
DESCRIPTION:
URL:https://www.cursilho.org.br/event/19-09-108o-cursilho-masculino-ged-santa-cruz-do-sul/
LOCATION:Santa Cruz do Sul\, Rua Thomaz Flores\, 675 - Centro\, Santa Cruz do Sul\, Rio Grande do Sul\, 96810-068\, Brasil
CATEGORIES:Cursilho
ORGANIZER;CN="JO%C3%83O ERNANI RODRIGUES DA SILVA":MAILTO:joao@joaoernani.com.br
END:VEVENT
BEGIN:VEVENT
DTSTART;VALUE=DATE:20250919
DTEND;VALUE=DATE:20250922
DTSTAMP:20260421T173157
CREATED:20250703T121354Z
LAST-MODIFIED:20250703T121354Z
UID:63765-1758240000-1758499199@www.cursilho.org.br
SUMMARY:19/09 - 35º CURSILHO PARA JOVENS - GED SÃO CARLOS
DESCRIPTION:
URL:https://www.cursilho.org.br/event/19-09-35o-cursilho-para-jovens-ged-sao-carlos/
LOCATION:GED SÃO CARLOS\, Av. José Pereira Lopes\, 386 – Vila Prado\, São Carlos – SP\, 13574-380\, Brasil
CATEGORIES:Cursilho
ORGANIZER;CN="Paula de Oliveira Vianna":MAILTO:secretariagedsc@gmail.com
END:VEVENT
BEGIN:VEVENT
DTSTART;VALUE=DATE:20250919
DTEND;VALUE=DATE:20250922
DTSTAMP:20260421T173157
CREATED:20250520T143522Z
LAST-MODIFIED:20250520T143522Z
UID:63637-1758240000-1758499199@www.cursilho.org.br
SUMMARY:19/09 - 121º CURSILHO MASCULINO ADULTO - GED GUAXUPÉ
DESCRIPTION:
URL:https://www.cursilho.org.br/event/19-09-121o-cursilho-masculino-adulto-ged-guaxupe/
LOCATION:GED GUAXUPÉ\, R. Francisco Ribeiro do Valle\, 242\, Guaxupé - MG\, Minas Gerais\, 37800-000\, Brasil
CATEGORIES:Cursilho
ORGANIZER;CN="JOAQUIM CANDIDO DE AVELAR FILHO":MAILTO:quinzinhoavelar@yahoo.com.br
END:VEVENT
BEGIN:VEVENT
DTSTART;VALUE=DATE:20250918
DTEND;VALUE=DATE:20250922
DTSTAMP:20260421T173157
CREATED:20250722T115406Z
LAST-MODIFIED:20250722T115406Z
UID:63839-1758153600-1758499199@www.cursilho.org.br
SUMMARY:18/09 - 154° CURSILHO PARA HOMENS - GED CAMPO GRANDE
DESCRIPTION:
URL:https://www.cursilho.org.br/event/18-09-154-cursilho-para-homens-ged-campo-grande/
LOCATION:GED CAMPO GRANDE MS\, Rua Amando de Oliveira\, 448 – Bairro Amambai\, Campo Grande – MS\, 79008-010\, Brasil
CATEGORIES:Cursilho
ORGANIZER;CN="M%C3%81RIO M%C3%81RCIO ORRO GON%C3%87ALVES":MAILTO:cursilhocg.mcc@gmail.com
END:VEVENT
BEGIN:VEVENT
DTSTART;VALUE=DATE:20250918
DTEND;VALUE=DATE:20250922
DTSTAMP:20260421T173157
CREATED:20250331T143540Z
LAST-MODIFIED:20250331T143540Z
UID:63462-1758153600-1758499199@www.cursilho.org.br
SUMMARY:18/09 - 57º CURSILHO PARA HOMENS - GED GOVERNADOR VALADARES
DESCRIPTION:
URL:https://www.cursilho.org.br/event/18-09-57o-cursilho-para-homens-ged-governador-valadares/
LOCATION:Cúria Diocesana de Governador Valadares\, Av. Brasil\, 2770 – Centro\, Governador Valadares\, Minas Gerais\, 35010-020\, Brasil
CATEGORIES:Cursilho
END:VEVENT
BEGIN:VEVENT
DTSTART;VALUE=DATE:20250912
DTEND;VALUE=DATE:20250915
DTSTAMP:20260421T173157
CREATED:20250814T115216Z
LAST-MODIFIED:20250814T115216Z
UID:63906-1757635200-1757894399@www.cursilho.org.br
SUMMARY:12/09 - 274º RETIRO MASCULINO DA DIOCESE DE JOINVILLE - GED SÃO BENTO DO SUL
DESCRIPTION:
URL:https://www.cursilho.org.br/event/12-09-274o-retiro-masculino-da-diocese-de-joinville-ged-sao-bento-do-sul/
LOCATION:SÃO BENTO DO SUL\, São Bento do Sul\, Santa Catarina\, Brasil
CATEGORIES:Cursilho
ORGANIZER;CN="ADRIAN DILVANO NASCIMENTO":MAILTO:adriannascimento16@gmail.com
END:VEVENT
BEGIN:VEVENT
DTSTART;VALUE=DATE:20250911
DTEND;VALUE=DATE:20250915
DTSTAMP:20260421T173157
CREATED:20250829T123038Z
LAST-MODIFIED:20250829T123038Z
UID:63969-1757548800-1757894399@www.cursilho.org.br
SUMMARY:11/09 - 9° CURSILHO PARA MULHERES DE MANTENA - GED TEÓFILO OTONI
DESCRIPTION:
URL:https://www.cursilho.org.br/event/11-09-9-cursilho-para-mulheres-de-mantena-ged-teofilo-otoni/
LOCATION:GED Teófilo Otoni\, Padre Virgulino N°: 751\, Teófilo Otoni\, MINAS GERAIS\, 39.800-025\, Brasil
CATEGORIES:Cursilho
ORGANIZER;CN="Solange Rocha Pereira":MAILTO:cursilhomantena@gmail.com
END:VEVENT
END:VCALENDAR