BEGIN:VCALENDAR
VERSION:2.0
PRODID:-//MCC do Brasil - ECPv6.15.11//NONSGML v1.0//EN
CALSCALE:GREGORIAN
METHOD:PUBLISH
X-WR-CALNAME:MCC do Brasil
X-ORIGINAL-URL:https://www.cursilho.org.br
X-WR-CALDESC:Eventos para MCC do Brasil
REFRESH-INTERVAL;VALUE=DURATION:PT1H
X-Robots-Tag:noindex
X-PUBLISHED-TTL:PT1H
BEGIN:VTIMEZONE
TZID:America/Sao_Paulo
BEGIN:STANDARD
TZOFFSETFROM:-0300
TZOFFSETTO:-0300
TZNAME:-03
DTSTART:20240101T000000
END:STANDARD
END:VTIMEZONE
BEGIN:VEVENT
DTSTART;VALUE=DATE:20260227
DTEND;VALUE=DATE:20260302
DTSTAMP:20260421T090005
CREATED:20260209T125517Z
LAST-MODIFIED:20260209T125517Z
UID:64535-1772150400-1772409599@www.cursilho.org.br
SUMMARY:27/02 - 1° CURSILHO MISTO PARA JOVENS - GED UNAÍ DIOCESE DE PARACATU
DESCRIPTION:
URL:https://www.cursilho.org.br/event/27-02-1-cursilho-misto-para-jovens-ged-unai-diocese-de-paracatu/
LOCATION:GED UNAÍ DIOCESE DE PARACATU\, Praça Caldeira Brant\, 147Centro\, Paracatu\, MINAS GERAIS\, 38600-291\, Brazil
CATEGORIES:Cursilho
ORGANIZER;CN="Luciene Assun%C3%A7%C3%A3o Moreira":MAILTO:mcc.unai@hotmail.com
END:VEVENT
BEGIN:VEVENT
DTSTART;VALUE=DATE:20260222
DTEND;VALUE=DATE:20260223
DTSTAMP:20260421T090005
CREATED:20260115T135201Z
LAST-MODIFIED:20260115T135201Z
UID:64476-1771718400-1771804799@www.cursilho.org.br
SUMMARY:20/02 - 156º CURSILHO PARA HOMENS - GED BOTUCATU
DESCRIPTION:
URL:https://www.cursilho.org.br/event/20-02-156o-cursilho-para-homens-ged-botucatu/
LOCATION:GED BOTUCATU\, Botucatu\, São Paulo\, Brasil
CATEGORIES:Cursilho
ORGANIZER;CN="Janderson de Oliveira e Silva":MAILTO:mccbcursilho@gmail.com
END:VEVENT
BEGIN:VEVENT
DTSTART;VALUE=DATE:20260130
DTEND;VALUE=DATE:20260202
DTSTAMP:20260421T090005
CREATED:20260119T112520Z
LAST-MODIFIED:20260119T112520Z
UID:64497-1769731200-1769990399@www.cursilho.org.br
SUMMARY:30/01 - 61° CURSILHO PARA JOVENS - GED SÃO JOÃO DA BOA VISTA
DESCRIPTION:
URL:https://www.cursilho.org.br/event/30-01-61-cursilho-para-jovens-ged-sao-joao-da-boa-vista/
LOCATION:GED SÃO JOÃO DA BOA VISTA
CATEGORIES:Cursilho
ORGANIZER;CN="SUZANA DOS REIS DA SILVA":MAILTO:gedsaojoaodaboavista@gmail.com
END:VEVENT
BEGIN:VEVENT
DTSTART;VALUE=DATE:20260123
DTEND;VALUE=DATE:20260126
DTSTAMP:20260421T090005
CREATED:20260119T112719Z
LAST-MODIFIED:20260119T112719Z
UID:64499-1769126400-1769385599@www.cursilho.org.br
SUMMARY:23/01 - 9º CURSILHO PARA JOVENS MASCULINO - GED OURINHOS
DESCRIPTION:
URL:https://www.cursilho.org.br/event/23-01-9o-cursilho-para-jovens-masculino-ged-ourinhos/
LOCATION:GED OURINHOS\, R. Arlíndo Luz\, 446 - Centro\, Ourinhos - SP\, SÃO PAULO\, 19900-011\, Brasil
CATEGORIES:Cursilho
ORGANIZER;CN="Guilherme Mateus Sampaio":MAILTO:matsampa2016@gmail.com
END:VEVENT
BEGIN:VEVENT
DTSTART;VALUE=DATE:20260123
DTEND;VALUE=DATE:20260126
DTSTAMP:20260421T090005
CREATED:20251216T140908Z
LAST-MODIFIED:20251216T140908Z
UID:64379-1769126400-1769385599@www.cursilho.org.br
SUMMARY:23/01 - 9º CURSILHO MASCULINO PARA JOVENS - GED OURINHOS
DESCRIPTION:
URL:https://www.cursilho.org.br/event/23-01-9o-cursilho-masculino-para-jovens-ged-ourinhos/
LOCATION:GED OURINHOS\, R. Arlíndo Luz\, 446 - Centro\, Ourinhos - SP\, SÃO PAULO\, 19900-011\, Brasil
CATEGORIES:Cursilho
ORGANIZER;CN="Guilherme Mateus Sampaio":MAILTO:matsampa2016@gmail.com
END:VEVENT
BEGIN:VEVENT
DTSTART;VALUE=DATE:20260123
DTEND;VALUE=DATE:20260126
DTSTAMP:20260421T090005
CREATED:20251125T143734Z
LAST-MODIFIED:20251125T143734Z
UID:64295-1769126400-1769385599@www.cursilho.org.br
SUMMARY:23/01 - 9º CURSILHO JOVEM FEMININO - GED OURINHOS
DESCRIPTION:
URL:https://www.cursilho.org.br/event/23-01-9o-cursilho-jovem-feminino-ged-ourinhos/
LOCATION:GED OURINHOS\, R. Arlíndo Luz\, 446 - Centro\, Ourinhos - SP\, SÃO PAULO\, 19900-011\, Brasil
CATEGORIES:Cursilho
ORGANIZER;CN="Fabio Henrique da Silva":MAILTO:fabiohenrique.edinho@gmail.com
END:VEVENT
BEGIN:VEVENT
DTSTART;VALUE=DATE:20251212
DTEND;VALUE=DATE:20251215
DTSTAMP:20260421T090005
CREATED:20251013T124815Z
LAST-MODIFIED:20251013T124815Z
UID:64121-1765497600-1765756799@www.cursilho.org.br
SUMMARY:12/12 - 13º ENCONTRO DECOLORES - GED APUCARANA
DESCRIPTION:
URL:https://www.cursilho.org.br/event/12-12-13o-encontro-decolores-ged-apucarana/
LOCATION:APUCARANA\, Rua Panamá\, 114\, Apucarana\, Paraná\, 86804-010\, Brasil
CATEGORIES:Cursilho
ORGANIZER;CN="Gabriel A":MAILTO:alavancas@cursilhoapucarana.com.br
END:VEVENT
BEGIN:VEVENT
DTSTART;VALUE=DATE:20251128
DTEND;VALUE=DATE:20251201
DTSTAMP:20260421T090005
CREATED:20251112T120632Z
LAST-MODIFIED:20251112T120632Z
UID:64277-1764288000-1764547199@www.cursilho.org.br
SUMMARY:28/11 - 23° CURSILHO PARA JOVENS - GED LORENA
DESCRIPTION:
URL:https://www.cursilho.org.br/event/28-11-23-cursilho-para-jovens-ged-lorena/
LOCATION:GED LORENA\, R. Hepacare\, 28 - Centro\, Lorena - SP\,\, São Paulo\, 12600-340\, Brasil
CATEGORIES:Cursilho
ORGANIZER;CN="Felipe Couto de Ara%C3%BAjo":MAILTO:felipecouto.scro2014@gmail.com
END:VEVENT
BEGIN:VEVENT
DTSTART;VALUE=DATE:20251128
DTEND;VALUE=DATE:20251201
DTSTAMP:20260421T090005
CREATED:20251008T154158Z
LAST-MODIFIED:20251008T154158Z
UID:64110-1764288000-1764547199@www.cursilho.org.br
SUMMARY:28/11 - 94º CURSILHO FEMININO - GED OLIVEIRA
DESCRIPTION:
URL:https://www.cursilho.org.br/event/28-11-94o-cursilho-feminino-ged-oliveira/
LOCATION:GED OLIVEIRA\, Pça. D. Manoelita Chagas\, 40 Centro\, Oliveira/MG\, Minas Gerais\, 35540-000\, Brasil
CATEGORIES:Cursilho
ORGANIZER;CN="Wagner Henrique Raimundo":MAILTO:ged_oliveira@hotmail.com
END:VEVENT
BEGIN:VEVENT
DTSTART;VALUE=DATE:20251128
DTEND;VALUE=DATE:20251201
DTSTAMP:20260421T090005
CREATED:20250819T140336Z
LAST-MODIFIED:20250819T140336Z
UID:63940-1764288000-1764547199@www.cursilho.org.br
SUMMARY:28/11 - ENCONTRO DIOCESANO PARA JOVENS CURSILHISTAS - GED CURITIBA
DESCRIPTION:
URL:https://www.cursilho.org.br/event/28-11-encontro-diocesano-para-jovens-cursilhistas-ged-curitiba/
LOCATION:GED CURITIBA\, PR\, Brasil
CATEGORIES:Cursilho
ORGANIZER;CN="Ellen Selenko dos Santos":MAILTO:avancacursilho@gmail.com
END:VEVENT
BEGIN:VEVENT
DTSTART;VALUE=DATE:20251121
DTEND;VALUE=DATE:20251124
DTSTAMP:20260421T090005
CREATED:20251030T120233Z
LAST-MODIFIED:20251030T120233Z
UID:64251-1763683200-1763942399@www.cursilho.org.br
SUMMARY:21/11 - 94º CURSILHO MASCULINO - GED OLIVEIRA
DESCRIPTION:
URL:https://www.cursilho.org.br/event/21-11-94o-cursilho-masculino-ged-oliveira-2/
LOCATION:GED OLIVEIRA\, Pça. D. Manoelita Chagas\, 40 Centro\, Oliveira/MG\, Minas Gerais\, 35540-000\, Brasil
CATEGORIES:Cursilho
ORGANIZER;CN="Isaias Vieira":MAILTO:cursilista1979@gmail.com
END:VEVENT
BEGIN:VEVENT
DTSTART;VALUE=DATE:20251121
DTEND;VALUE=DATE:20251124
DTSTAMP:20260421T090005
CREATED:20251022T115957Z
LAST-MODIFIED:20251022T115957Z
UID:64220-1763683200-1763942399@www.cursilho.org.br
SUMMARY:21/11 - 2º CURSILHO MISTO - GED DE ITABUNA/BA
DESCRIPTION:
URL:https://www.cursilho.org.br/event/21-11-2o-cursilho-misto-ged-de-itabuna-ba/
LOCATION:ITABUNA – BA
CATEGORIES:Cursilho
ORGANIZER;CN="Tassio Oliveira Rios":MAILTO:tassio_rios@yahoo.com.br
END:VEVENT
BEGIN:VEVENT
DTSTART;VALUE=DATE:20251121
DTEND;VALUE=DATE:20251124
DTSTAMP:20260421T090005
CREATED:20251008T154044Z
LAST-MODIFIED:20251008T154044Z
UID:64107-1763683200-1763942399@www.cursilho.org.br
SUMMARY:21/11 - 94º CURSILHO MASCULINO - GED OLIVEIRA
DESCRIPTION:
URL:https://www.cursilho.org.br/event/21-11-94o-cursilho-masculino-ged-oliveira/
LOCATION:GED OLIVEIRA\, Pça. D. Manoelita Chagas\, 40 Centro\, Oliveira/MG\, Minas Gerais\, 35540-000\, Brasil
CATEGORIES:Cursilho
ORGANIZER;CN="Wagner Henrique Raimundo":MAILTO:ged_oliveira@hotmail.com
END:VEVENT
BEGIN:VEVENT
DTSTART;VALUE=DATE:20251121
DTEND;VALUE=DATE:20251124
DTSTAMP:20260421T090005
CREATED:20250918T130517Z
LAST-MODIFIED:20250918T130517Z
UID:64047-1763683200-1763942399@www.cursilho.org.br
SUMMARY:21/11 - 30º CURSILHO JOVEM MASCULINO - GED DA CAMPANHA - MG
DESCRIPTION:
URL:https://www.cursilho.org.br/event/21-11-30o-cursilho-jovem-masculino-ged-da-campanha-mg/
LOCATION:GED DA CAMPANHA-MG\, R. Maestro Pompeu\, 150 - Centro\, Campanha\, minas gerais\, 37400-000\, Brazil
CATEGORIES:Cursilho
ORGANIZER;CN="Joelma De Paula Silva Machado":MAILTO:joelma_ged@yahoo.com
END:VEVENT
BEGIN:VEVENT
DTSTART;VALUE=DATE:20251114
DTEND;VALUE=DATE:20251117
DTSTAMP:20260421T090005
CREATED:20251020T125847Z
LAST-MODIFIED:20251020T125847Z
UID:64214-1763078400-1763337599@www.cursilho.org.br
SUMMARY:14/11 - 77º CURSILHO MASCULINO ADULTO - GED OURINHOS
DESCRIPTION:
URL:https://www.cursilho.org.br/event/14-11-77o-cursilho-masculino-adulto-ged-ourinhos/
LOCATION:GED OURINHOS\, R. Arlíndo Luz\, 446 - Centro\, Ourinhos - SP\, SÃO PAULO\, 19900-011\, Brasil
CATEGORIES:Cursilho
ORGANIZER;CN="LEONARDO DE OLIVEIRA ABRANTES":MAILTO:LEONARDO_ABRANTES@OUTLOOK.COM
END:VEVENT
BEGIN:VEVENT
DTSTART;VALUE=DATE:20251114
DTEND;VALUE=DATE:20251117
DTSTAMP:20260421T090005
CREATED:20251010T145241Z
LAST-MODIFIED:20251010T145241Z
UID:64118-1763078400-1763337599@www.cursilho.org.br
SUMMARY:14/11 - 77º CURSILHO MASCULINO - GED OURINHOS
DESCRIPTION:
URL:https://www.cursilho.org.br/event/14-11-77o-cursilho-masculino-ged-ourinhos/
LOCATION:GED OURINHOS\, R. Arlíndo Luz\, 446 - Centro\, Ourinhos - SP\, SÃO PAULO\, 19900-011\, Brasil
CATEGORIES:Cursilho
ORGANIZER;CN="Fabio Henrique da Silva":MAILTO:fabiohenrique.edinho@gmail.com
END:VEVENT
BEGIN:VEVENT
DTSTART;VALUE=DATE:20251114
DTEND;VALUE=DATE:20251117
DTSTAMP:20260421T090005
CREATED:20250924T114220Z
LAST-MODIFIED:20250924T114220Z
UID:64061-1763078400-1763337599@www.cursilho.org.br
SUMMARY:14/11 - 150º CURSILHO PARA MULHERES - GED BOTUCATU
DESCRIPTION:
URL:https://www.cursilho.org.br/event/14-11-150o-cursilho-para-mulheres-ged-botucatu/
LOCATION:GED BOTUCATU\, Botucatu\, São Paulo\, Brasil
CATEGORIES:Cursilho
ORGANIZER;CN="Janderson de Oliveira e Silva":MAILTO:mccbcursilho@gmail.com
END:VEVENT
BEGIN:VEVENT
DTSTART;VALUE=DATE:20251114
DTEND;VALUE=DATE:20251117
DTSTAMP:20260421T090005
CREATED:20250903T135314Z
LAST-MODIFIED:20250903T135314Z
UID:63993-1763078400-1763337599@www.cursilho.org.br
SUMMARY:14/11 - 77º CURSILHO PARA HOMENS - GED OURINHOS
DESCRIPTION:
URL:https://www.cursilho.org.br/event/14-11-77o-cursilho-para-homens-ged-ourinhos/
LOCATION:GED OURINHOS\, R. Arlíndo Luz\, 446 - Centro\, Ourinhos - SP\, SÃO PAULO\, 19900-011\, Brasil
CATEGORIES:Cursilho
ORGANIZER;CN="Rafael Totti Salmazo - ME":MAILTO:rafaeltsalmazo@terra.com.br
END:VEVENT
BEGIN:VEVENT
DTSTART;VALUE=DATE:20251114
DTEND;VALUE=DATE:20251117
DTSTAMP:20260421T090005
CREATED:20250819T135447Z
LAST-MODIFIED:20250819T135447Z
UID:63936-1763078400-1763337599@www.cursilho.org.br
SUMMARY:14/11- 242º CURSILHO MASCULINO - GED CURITIBA
DESCRIPTION:
URL:https://www.cursilho.org.br/event/14-11-242o-cursilho-masculino-ged-curitiba/
LOCATION:GED CURITIBA\, PR\, Brasil
CATEGORIES:Cursilho
ORGANIZER;CN="Ellen Selenko dos Santos":MAILTO:avancacursilho@gmail.com
END:VEVENT
BEGIN:VEVENT
DTSTART;VALUE=DATE:20251114
DTEND;VALUE=DATE:20251117
DTSTAMP:20260421T090005
CREATED:20250715T143433Z
LAST-MODIFIED:20250715T143433Z
UID:63806-1763078400-1763337599@www.cursilho.org.br
SUMMARY:14/11 - 30º CURSILHO JOVEM FEMININO - GED DA CAMPANHA - MG
DESCRIPTION:
URL:https://www.cursilho.org.br/event/14-11-30o-cursilho-jovem-feminino-ged-da-campanha-mg/
LOCATION:GED DA CAMPANHA-MG\, R. Maestro Pompeu\, 150 - Centro\, Campanha\, minas gerais\, 37400-000\, Brazil
CATEGORIES:Cursilho
ORGANIZER;CN="Joelma De Paula Silva Machado":MAILTO:joelma_ged@yahoo.com
END:VEVENT
BEGIN:VEVENT
DTSTART;VALUE=DATE:20251107
DTEND;VALUE=DATE:20251110
DTSTAMP:20260421T090005
CREATED:20251103T130641Z
LAST-MODIFIED:20251103T130641Z
UID:64257-1762473600-1762732799@www.cursilho.org.br
SUMMARY:07/11- 143° CURSILHO PARA HOMENS - GED SÃO JOÃO DA BOA VISTA
DESCRIPTION:
URL:https://www.cursilho.org.br/event/07-11-143-cursilho-para-homens-ged-sao-joao-da-boa-vista/
LOCATION:GED SÃO JOÃO DA BOA VISTA
CATEGORIES:Cursilho
ORGANIZER;CN="SUZANA DOS REIS DA SILVA":MAILTO:gedsaojoaodaboavista@gmail.com
END:VEVENT
BEGIN:VEVENT
DTSTART;VALUE=DATE:20251107
DTEND;VALUE=DATE:20251110
DTSTAMP:20260421T090005
CREATED:20251014T171640Z
LAST-MODIFIED:20251014T171640Z
UID:64132-1762473600-1762732799@www.cursilho.org.br
SUMMARY:07/11 - 213º CURSILHO PARA HOMENS - GED PONTA GROSSA
DESCRIPTION:
URL:https://www.cursilho.org.br/event/07-11-213o-cursilho-para-homens-ged-ponta-grossa/
LOCATION:GED PONTA GROSSA\, Pça. Marechal Floriano Peixoto\, 581\, Ponta Grossa - Paraná\, 84.001-970\, Brasil
CATEGORIES:Cursilho
ORGANIZER;CN="Ademir Engee":MAILTO:mccgedpontagrossa@gmail.com
END:VEVENT
BEGIN:VEVENT
DTSTART;VALUE=DATE:20251107
DTEND;VALUE=DATE:20251110
DTSTAMP:20260421T090005
CREATED:20250715T143302Z
LAST-MODIFIED:20250715T143302Z
UID:63804-1762473600-1762732799@www.cursilho.org.br
SUMMARY:07/11 - 30º CURSILHO JOVEM MASCULINO - GED DA CAMPANHA - MG
DESCRIPTION:
URL:https://www.cursilho.org.br/event/07-11-30o-cursilho-jovem-masculino-ged-da-campanha-mg/
LOCATION:GED DA CAMPANHA-MG\, R. Maestro Pompeu\, 150 - Centro\, Campanha\, minas gerais\, 37400-000\, Brazil
CATEGORIES:Cursilho
ORGANIZER;CN="Joelma De Paula Silva Machado":MAILTO:joelma_ged@yahoo.com
END:VEVENT
BEGIN:VEVENT
DTSTART;VALUE=DATE:20251024
DTEND;VALUE=DATE:20251027
DTSTAMP:20260421T090005
CREATED:20251013T151352Z
LAST-MODIFIED:20251013T151352Z
UID:64127-1761264000-1761523199@www.cursilho.org.br
SUMMARY:24/10 - 6º CURSILHO MASCULINO - GED EUNAPOLIS
DESCRIPTION:
URL:https://www.cursilho.org.br/event/24-10-6o-cursilho-masculino-ged-eunapolis/
LOCATION:EUNAPOLIS\, Praça Frei Calixto\, s/nº – Centro\, EUNAPOLIS\, BAHIA\, 45820-430\, Brasil
CATEGORIES:Cursilho
ORGANIZER;CN="eliana jorge":MAILTO:gedeunapolis@gmail.com
END:VEVENT
BEGIN:VEVENT
DTSTART;VALUE=DATE:20251024
DTEND;VALUE=DATE:20251027
DTSTAMP:20260421T090005
CREATED:20251009T124347Z
LAST-MODIFIED:20251009T124347Z
UID:64112-1761264000-1761523199@www.cursilho.org.br
SUMMARY:24/10 - 255° CURSILHO MASCULINO - GED NITERÓI
DESCRIPTION:
URL:https://www.cursilho.org.br/event/24-10-255-cursilho-masculino-ged-niteroi/
LOCATION:GED NITERÓI\, R. Renato Fleming\, 22\, Jardim Catarina\, São Gonçalo\, Rio de Janeiro\, (21) 2701-6081\, Brasil
CATEGORIES:Cursilho
ORGANIZER;CN="DIEGO RIBEIRO GAVINHO":MAILTO:diegogavinho89@gmail.com
END:VEVENT
BEGIN:VEVENT
DTSTART;VALUE=DATE:20251024
DTEND;VALUE=DATE:20251027
DTSTAMP:20260421T090005
CREATED:20250918T114746Z
LAST-MODIFIED:20250918T114746Z
UID:64041-1761264000-1761523199@www.cursilho.org.br
SUMMARY:24/10 -  213º CURSILHO FEMININO - GED TAUBATÉ
DESCRIPTION:
URL:https://www.cursilho.org.br/event/24-10-213o-cursilho-feminino-ged-taubate-2/
LOCATION:GED TAUBATÉ\, Rua Maria Basso Monteiro s/n\, Taubaté\, SP\, Brasil\, SÃO PAULO\, Brasil
CATEGORIES:Cursilho
ORGANIZER;CN="ALEX PRADO FURINI":MAILTO:alexfurini@hotmail.com
END:VEVENT
BEGIN:VEVENT
DTSTART;VALUE=DATE:20251024
DTEND;VALUE=DATE:20251027
DTSTAMP:20260421T090005
CREATED:20250918T114605Z
LAST-MODIFIED:20250918T114605Z
UID:64038-1761264000-1761523199@www.cursilho.org.br
SUMMARY:24/10 - 6º CURSILHO MASCULINO DA DIOCESE DE EUNÁPOLIS - GED EUNÁPOLIS
DESCRIPTION:
URL:https://www.cursilho.org.br/event/24-10-6o-cursilho-masculino-da-diocese-de-eunapolis-ged-eunapolis/
LOCATION:EUNAPOLIS\, Praça Frei Calixto\, s/nº – Centro\, EUNAPOLIS\, BAHIA\, 45820-430\, Brasil
CATEGORIES:Cursilho
ORGANIZER;CN="Eliana Jorge Clebe":MAILTO:gedeunapolis@gmail.com
END:VEVENT
BEGIN:VEVENT
DTSTART;VALUE=DATE:20251024
DTEND;VALUE=DATE:20251027
DTSTAMP:20260421T090005
CREATED:20250909T142945Z
LAST-MODIFIED:20250909T142945Z
UID:64008-1761264000-1761523199@www.cursilho.org.br
SUMMARY:24/10 - 213º CURSILHO FEMININO - GED TAUBATÉ
DESCRIPTION:
URL:https://www.cursilho.org.br/event/24-10-213o-cursilho-feminino-ged-taubate/
LOCATION:GED TAUBATÉ\, Rua Maria Basso Monteiro s/n\, Taubaté\, SP\, Brasil\, SÃO PAULO\, Brasil
CATEGORIES:Cursilho
ORGANIZER;CN="Luciana Ribeiro Carvalho":MAILTO:luciana_carvalho2025@outlook.com
END:VEVENT
BEGIN:VEVENT
DTSTART;VALUE=DATE:20251024
DTEND;VALUE=DATE:20251027
DTSTAMP:20260421T090005
CREATED:20250902T172216Z
LAST-MODIFIED:20250902T172216Z
UID:63987-1761264000-1761523199@www.cursilho.org.br
SUMMARY:24/10 - 255º CURSILHO MASCULINO - GED NITERÓI
DESCRIPTION:
URL:https://www.cursilho.org.br/event/24-10-255o-cursilho-masculino-ged-niteroi/
LOCATION:GED NITERÓI\, R. Renato Fleming\, 22\, Jardim Catarina\, São Gonçalo\, Rio de Janeiro\, (21) 2701-6081\, Brasil
CATEGORIES:Cursilho
ORGANIZER;CN="Daniela Alves Gomes":MAILTO:danielaalvesgomes2@gmail.com
END:VEVENT
BEGIN:VEVENT
DTSTART;VALUE=DATE:20251024
DTEND;VALUE=DATE:20251027
DTSTAMP:20260421T090005
CREATED:20250203T181111Z
LAST-MODIFIED:20250203T181111Z
UID:63242-1761264000-1761523199@www.cursilho.org.br
SUMMARY:24/10 - 189º CURSILHO FEMININO - GED JUNDIAÍ
DESCRIPTION:
URL:https://www.cursilho.org.br/event/24-10-189o-cursilho-feminino-ged-jundiai/
LOCATION:JUNDIAI\, Estrada do Garcia 905 Jardim Santhiago\, Campo Limpo Paulista/SP\, SP\, 13232-400\, Brasil
CATEGORIES:Cursilho
ORGANIZER;CN="EMERSON BARCARO":MAILTO:contato@cursilhojundiai.com.br
END:VEVENT
END:VCALENDAR