BEGIN:VCALENDAR
VERSION:2.0
PRODID:-//MCC do Brasil - ECPv6.15.11//NONSGML v1.0//EN
CALSCALE:GREGORIAN
METHOD:PUBLISH
X-ORIGINAL-URL:https://www.cursilho.org.br
X-WR-CALDESC:Eventos para MCC do Brasil
REFRESH-INTERVAL;VALUE=DURATION:PT1H
X-Robots-Tag:noindex
X-PUBLISHED-TTL:PT1H
BEGIN:VTIMEZONE
TZID:America/Sao_Paulo
BEGIN:STANDARD
TZOFFSETFROM:-0300
TZOFFSETTO:-0300
TZNAME:-03
DTSTART:20240101T000000
END:STANDARD
END:VTIMEZONE
BEGIN:VEVENT
DTSTART;VALUE=DATE:20250228
DTEND;VALUE=DATE:20250304
DTSTAMP:20260423T002118
CREATED:20250227T123157Z
LAST-MODIFIED:20250227T144402Z
UID:63314-1740700800-1741046399@www.cursilho.org.br
SUMMARY:28/02 - 75° Cursilho Misto - Diocese São Luiz de Cáceres - MT | Homenageado: Padre Anselmo Mandrile
DESCRIPTION:
URL:https://www.cursilho.org.br/event/75-cursilho-misto-diocese-sao-luiz-de-caceres-mt-homenageado-padre-anselmo-mandrile/
LOCATION:Mirassol d’Oeste/ Centro Comunitário Jesus de Nazaré\, Rua Vinte e Oito de Outubro 3337\, Mirassol d'Oeste\, Mato Grosso\, 78280-000\, Brasil
CATEGORIES:Cursilho
ATTACH;FMTTYPE=image/png:https://www.cursilho.org.br/wp-content/uploads/2025/02/REDES-SOCIAIS-2025-2.png
ORGANIZER;CN="GED S%C3%A3o Lu%C3%ADs de C%C3%A1ceres":MAILTO:gedcaceresmt@gmail.com
END:VEVENT
BEGIN:VEVENT
DTSTART;VALUE=DATE:20250228
DTEND;VALUE=DATE:20250303
DTSTAMP:20260423T002118
CREATED:20250227T134316Z
LAST-MODIFIED:20250227T134316Z
UID:63320-1740700800-1740959999@www.cursilho.org.br
SUMMARY:28/02 - 52° CURSILHO ADULTO MASCULINO - GED CAÇADOR
DESCRIPTION:
URL:https://www.cursilho.org.br/event/28-02-52-cursilho-adulto-masculino-ged-cacador/
LOCATION:Ged Caçador\, R. 7 de Setembro\, 120 - Centro\, Caçador - SC\, 89500-000\, Brasil
CATEGORIES:Cursilho
ORGANIZER;CN="Taynara Augusto":MAILTO:augtaynara@icloud.com
END:VEVENT
BEGIN:VEVENT
DTSTART;VALUE=DATE:20250221
DTEND;VALUE=DATE:20250224
DTSTAMP:20260423T002118
CREATED:20250218T155429Z
LAST-MODIFIED:20250218T155429Z
UID:63300-1740096000-1740355199@www.cursilho.org.br
SUMMARY:21/02 - 75° CURSILHO FEMININO - GED OURINHOS
DESCRIPTION:
URL:https://www.cursilho.org.br/event/21-02-75-cursilho-feminino-ged-ourinhos/
LOCATION:GED OURINHOS\, R. Arlíndo Luz\, 446 - Centro\, Ourinhos - SP\, SÃO PAULO\, 19900-011\, Brasil
CATEGORIES:Cursilho
ORGANIZER;CN="Fabio Henrique da Silva":MAILTO:fabiohenrique.edinho@gmail.com
END:VEVENT
BEGIN:VEVENT
DTSTART;VALUE=DATE:20250221
DTEND;VALUE=DATE:20250224
DTSTAMP:20260423T002118
CREATED:20250214T154620Z
LAST-MODIFIED:20250214T154620Z
UID:63270-1740096000-1740355199@www.cursilho.org.br
SUMMARY:21/02 - 75º CURSILHO FEMININO - GED OURINHOS
DESCRIPTION:
URL:https://www.cursilho.org.br/event/21-02-75o-cursilho-feminino-ged-ourinhos/
LOCATION:GED OURINHOS\, R. Arlíndo Luz\, 446 - Centro\, Ourinhos - SP\, SÃO PAULO\, 19900-011\, Brasil
CATEGORIES:Cursilho
ORGANIZER;CN="Fabio Henrique da Silva":MAILTO:fabiohenrique.edinho@gmail.com
END:VEVENT
BEGIN:VEVENT
DTSTART;VALUE=DATE:20250221
DTEND;VALUE=DATE:20250224
DTSTAMP:20260423T002118
CREATED:20250109T172922Z
LAST-MODIFIED:20250109T172922Z
UID:63176-1740096000-1740355199@www.cursilho.org.br
SUMMARY:21/02 - 40º CURSILHO MASCULINO DE ITAJUBÁ - GED POUSO ALEGRE
DESCRIPTION:
URL:https://www.cursilho.org.br/event/21-02-40o-cursilho-masculino-de-itajuba-ged-pouso-alegre/
LOCATION:Pouso Alegre\, Praça Zeca Borges\, S/N Centro\, Senador Amaral – MG\, 37615-000\, Brasil
CATEGORIES:Cursilho
ORGANIZER;CN="Evandro Costa":MAILTO:evandrinhojj@gmail.com
END:VEVENT
BEGIN:VEVENT
DTSTART;VALUE=DATE:20250221
DTEND;VALUE=DATE:20250224
DTSTAMP:20260423T002118
CREATED:20250106T140324Z
LAST-MODIFIED:20250106T140324Z
UID:63059-1740096000-1740355199@www.cursilho.org.br
SUMMARY:21/02 - CURSILHO MASCULINO - GED SÃO CARLOS
DESCRIPTION:
URL:https://www.cursilho.org.br/event/21-02-cursilho-masculino-ged-sao-carlos/
LOCATION:GED SÃO CARLOS\, Av. José Pereira Lopes\, 386 – Vila Prado\, São Carlos – SP\, 13574-380\, Brasil
CATEGORIES:Cursilho
ORGANIZER;CN="Paula de Oliveira Vianna":MAILTO:secretariagedsc@gmail.com
END:VEVENT
BEGIN:VEVENT
DTSTART;VALUE=DATE:20250214
DTEND;VALUE=DATE:20250217
DTSTAMP:20260423T002118
CREATED:20250212T132554Z
LAST-MODIFIED:20250212T132554Z
UID:63265-1739491200-1739750399@www.cursilho.org.br
SUMMARY:14/02 - 5º CURSILHO MISTO JOVEM - GED RIO DO SUL SC
DESCRIPTION:
URL:https://www.cursilho.org.br/event/14-02-5o-cursilho-misto-jovem-ged-rio-do-sul-sc/
LOCATION:GED RIO DO SUL – SC\, Rio do Oeste\, Santa Catarina
CATEGORIES:Cursilho
ORGANIZER;CN="Sueli Teresinha dos Santos Saettini":MAILTO:suelis@epagri.sc.gov.br
END:VEVENT
BEGIN:VEVENT
DTSTART;VALUE=DATE:20250214
DTEND;VALUE=DATE:20250217
DTSTAMP:20260423T002118
CREATED:20250211T131732Z
LAST-MODIFIED:20250211T131732Z
UID:63260-1739491200-1739750399@www.cursilho.org.br
SUMMARY:14/02 - 114º CURSILHO FEMININO ADULTO - GED JACAREZINHO
DESCRIPTION:
URL:https://www.cursilho.org.br/event/14-02-114o-cursilho-feminino-adulto-ged-jacarezinho/
LOCATION:GED JACAREZINHO\, Av. Manoel Ribas\, Jacarezinho - PR\, Brasil
CATEGORIES:Cursilho
ORGANIZER;CN="Erasto de Mello J%C3%BAnior":MAILTO:erasto.junior@yahoo.com.br
END:VEVENT
END:VCALENDAR