BEGIN:VCALENDAR
VERSION:2.0
PRODID:-//MCC do Brasil - ECPv6.15.11//NONSGML v1.0//EN
CALSCALE:GREGORIAN
METHOD:PUBLISH
X-WR-CALNAME:MCC do Brasil
X-ORIGINAL-URL:https://www.cursilho.org.br
X-WR-CALDESC:Eventos para MCC do Brasil
REFRESH-INTERVAL;VALUE=DURATION:PT1H
X-Robots-Tag:noindex
X-PUBLISHED-TTL:PT1H
BEGIN:VTIMEZONE
TZID:America/Sao_Paulo
BEGIN:STANDARD
TZOFFSETFROM:-0300
TZOFFSETTO:-0300
TZNAME:-03
DTSTART:20240101T000000
END:STANDARD
END:VTIMEZONE
BEGIN:VEVENT
DTSTART;VALUE=DATE:20250516
DTEND;VALUE=DATE:20250519
DTSTAMP:20260422T175316
CREATED:20250514T172937Z
LAST-MODIFIED:20250514T172937Z
UID:63603-1747353600-1747612799@www.cursilho.org.br
SUMMARY:129º CURSILHO FEMININO - GED UMUARAMA
DESCRIPTION:
URL:https://www.cursilho.org.br/event/129o-cursilho-feminino-ged-umuarama/
LOCATION:UMUARAMA\, Avenida Pe José Germano Neto Júnior\, 4260\, Umuarama\, Paraná\, 87503-650\, Brasil
CATEGORIES:Cursilho
ORGANIZER;CN="nelson venturin":MAILTO:nelson.delta@hotmail.com
END:VEVENT
BEGIN:VEVENT
DTSTART;VALUE=DATE:20250516
DTEND;VALUE=DATE:20250519
DTSTAMP:20260422T175316
CREATED:20250415T132211Z
LAST-MODIFIED:20250415T132211Z
UID:63505-1747353600-1747612799@www.cursilho.org.br
SUMMARY:16/05 - 212º CURSILHO PARA HOMENS - GED PONTA GROSSA
DESCRIPTION:
URL:https://www.cursilho.org.br/event/16-05-212o-cursilho-para-homens-ged-ponta-grossa/
LOCATION:GED PONTA GROSSA\, Pça. Marechal Floriano Peixoto\, 581\, Ponta Grossa - Paraná\, 84.001-970\, Brasil
CATEGORIES:Cursilho
ORGANIZER;CN="Ademir Engee":MAILTO:mccgedpontagrossa@gmail.com
END:VEVENT
BEGIN:VEVENT
DTSTART;VALUE=DATE:20250516
DTEND;VALUE=DATE:20250519
DTSTAMP:20260422T175316
CREATED:20250402T144910Z
LAST-MODIFIED:20250402T144910Z
UID:63471-1747353600-1747612799@www.cursilho.org.br
SUMMARY:16/05 - 117º CURSILHO ADULTO MASCULINO  - GED DA CAMPANHA - MG
DESCRIPTION:
URL:https://www.cursilho.org.br/event/16-05-117o-cursilho-adulto-masculino-ged-da-campanha-mg/
LOCATION:GED DA CAMPANHA-MG\, R. Maestro Pompeu\, 150 - Centro\, Campanha\, minas gerais\, 37400-000\, Brazil
CATEGORIES:Cursilho
ORGANIZER;CN="Joelma De Paula Silva Machado":MAILTO:joelma_ged@yahoo.com
END:VEVENT
BEGIN:VEVENT
DTSTART;VALUE=DATE:20250515
DTEND;VALUE=DATE:20250519
DTSTAMP:20260422T175316
CREATED:20250217T141034Z
LAST-MODIFIED:20250217T141034Z
UID:63284-1747267200-1747612799@www.cursilho.org.br
SUMMARY:15/05 - 65º CURSILHO PARA JOVENS MISTO - GED CAMPO GRANDE
DESCRIPTION:
URL:https://www.cursilho.org.br/event/15-05-65o-cursilho-para-jovens-misto-ged-campo-grande/
LOCATION:Campo Grande MS\, Rua Amando de Oliveira\, 448\, Bairro Amambai\, Campo Grande – MS\, 79008-010\, Brasil
CATEGORIES:Cursilho
ORGANIZER;CN="LUCIANA ALVES GAZAL":MAILTO:cursilhocg.mcc@gmail.com
END:VEVENT
BEGIN:VEVENT
DTSTART;VALUE=DATE:20250502
DTEND;VALUE=DATE:20250505
DTSTAMP:20260422T175316
CREATED:20250429T115318Z
LAST-MODIFIED:20250429T115318Z
UID:63563-1746144000-1746403199@www.cursilho.org.br
SUMMARY:02/05 - 184º CURSILHO FEMININO - GED LEOPOLDINA
DESCRIPTION:
URL:https://www.cursilho.org.br/event/02-05-184o-cursilho-feminino-ged-leopoldina/
LOCATION:GED LEOPOLDINA\, Praça Dom Helvécio nº: 75\, Catedral \,Leopoldina\, 36700-128\, Brasil
CATEGORIES:Cursilho
ORGANIZER;CN="Ana Maria do Amaral":MAILTO:mccsetoruba@yahoo.com.br
END:VEVENT
BEGIN:VEVENT
DTSTART;VALUE=DATE:20250502
DTEND;VALUE=DATE:20250505
DTSTAMP:20260422T175316
CREATED:20250414T144143Z
LAST-MODIFIED:20250414T144143Z
UID:63501-1746144000-1746403199@www.cursilho.org.br
SUMMARY:02/05 - 23º CURSILHO MASCULINO - GED VITÓRIA DA CONQUISTA
DESCRIPTION:
URL:https://www.cursilho.org.br/event/02-05-23o-cursilho-masculino-ged-vitoria-da-conquista/
LOCATION:GED VITÓRIA DA CONQUISTA\, Praça Tancredo Neves\, 181 - Centro\, Vitória da conquista\, Bahia\, 45000-525\, Brazil
CATEGORIES:Cursilho
ORGANIZER;CN="Leila Cristina Silva Santos":MAILTO:leila_cris93@hotmail.com
END:VEVENT
BEGIN:VEVENT
DTSTART;VALUE=DATE:20250501
DTEND;VALUE=DATE:20250505
DTSTAMP:20260422T175316
CREATED:20250430T132900Z
LAST-MODIFIED:20250430T132900Z
UID:63566-1746057600-1746403199@www.cursilho.org.br
SUMMARY:01/05 - 47º CURSILHO JOVEM - GED DOURADOS
DESCRIPTION:
URL:https://www.cursilho.org.br/event/01-05-47o-cursilho-jovem-ged-dourados/
LOCATION:GED DOURADOS\, R. João Cândido da Câmara\, 400\, Centro\, Dourados\, Minas Gerais\, 79804-000\, Brasil
CATEGORIES:Cursilho
ORGANIZER;CN="LAYANE FERNANDES BAUMER":MAILTO:layanebaumer@yahoo.com.br
END:VEVENT
BEGIN:VEVENT
DTSTART;VALUE=DATE:20250501
DTEND;VALUE=DATE:20250505
DTSTAMP:20260422T175316
CREATED:20250428T133953Z
LAST-MODIFIED:20250428T133953Z
UID:63561-1746057600-1746403199@www.cursilho.org.br
SUMMARY:01/05 - 47º  CURSILHO MISTO PARA JOVENS DA DIOCESE DE DOURADOS/MS - GED DOURADOS
DESCRIPTION:
URL:https://www.cursilho.org.br/event/01-05-47o-cursilho-misto-para-jovens-da-diocese-de-dourados-ms-ged-dourados/
LOCATION:GED DOURADOS-MS\, R. João Cândido da Câmara\, 400 - Centro\, Dourados - MS\, MINAS GERAIS\, 79826-010\, Brasil
CATEGORIES:Cursilho
ORGANIZER;CN="Aline Hellen dos Santos Viscardi":MAILTO:aline_viscardi@hotmail.com
END:VEVENT
BEGIN:VEVENT
DTSTART;VALUE=DATE:20250501
DTEND;VALUE=DATE:20250505
DTSTAMP:20260422T175316
CREATED:20250422T140429Z
LAST-MODIFIED:20250422T140429Z
UID:63521-1746057600-1746403199@www.cursilho.org.br
SUMMARY:01/05 - 20º CURSILHO PARA JOVENS - GED NAVIRAÍ
DESCRIPTION:
URL:https://www.cursilho.org.br/event/01-05-20o-cursilho-para-jovens-ged-navirai-3/
LOCATION:Ged  Naviraí
CATEGORIES:Cursilho
ORGANIZER;CN="Rafael Henrique da Rocha":MAILTO:rafael_bio@outlook.com
END:VEVENT
BEGIN:VEVENT
DTSTART;VALUE=DATE:20250501
DTEND;VALUE=DATE:20250505
DTSTAMP:20260422T175316
CREATED:20250409T144333Z
LAST-MODIFIED:20250409T144333Z
UID:63496-1746057600-1746403199@www.cursilho.org.br
SUMMARY:01/05 - 20º CURSILHO PARA JOVENS - GED NAVIRAÍ
DESCRIPTION:
URL:https://www.cursilho.org.br/event/01-05-20o-cursilho-para-jovens-ged-navirai-2/
LOCATION:GED NAVIRAÍ\, R. Campanário\, 144\, Centro\, Naviraí - MS\, 79950-000\, Brasil
CATEGORIES:Cursilho
ORGANIZER;CN="Vilma Gomes Pereira":MAILTO:rafael_bio@outlook.com
END:VEVENT
BEGIN:VEVENT
DTSTART;VALUE=DATE:20250501
DTEND;VALUE=DATE:20250505
DTSTAMP:20260422T175316
CREATED:20250402T145453Z
LAST-MODIFIED:20250402T145453Z
UID:63480-1746057600-1746403199@www.cursilho.org.br
SUMMARY:01/05 - 20º CURSILHO PARA JOVENS - GED NAVIRAÍ
DESCRIPTION:
URL:https://www.cursilho.org.br/event/01-05-20o-cursilho-para-jovens-ged-navirai/
LOCATION:GED NAVIRAÍ\, R. Campanário\, 144\, Centro\, Naviraí - MS\, 79950-000\, Brasil
CATEGORIES:Cursilho
ORGANIZER;CN="Rafael Henrique da Rocha":MAILTO:rafael_bio@outlook.com
END:VEVENT
BEGIN:VEVENT
DTSTART;VALUE=DATE:20250501
DTEND;VALUE=DATE:20250505
DTSTAMP:20260422T175316
CREATED:20250331T143314Z
LAST-MODIFIED:20250331T143314Z
UID:63457-1746057600-1746403199@www.cursilho.org.br
SUMMARY:01/05 - 28º CURSILHO PARA RAPAZES - GED GOVERNADOR VALADARES
DESCRIPTION:
URL:https://www.cursilho.org.br/event/01-05-28o-cursilho-para-rapazes-ged-governador-valadares/
LOCATION:Cúria Diocesana de Governador Valadares\, Av. Brasil\, 2770 – Centro\, Governador Valadares\, Minas Gerais\, 35010-020\, Brasil
CATEGORIES:Cursilho
END:VEVENT
BEGIN:VEVENT
DTSTART;VALUE=DATE:20250426
DTEND;VALUE=DATE:20250428
DTSTAMP:20260422T175316
CREATED:20250326T142122Z
LAST-MODIFIED:20250326T142122Z
UID:63383-1745625600-1745798399@www.cursilho.org.br
SUMMARY:26/04 - ASSEMBLEIA DIOCESANA - DIOCESE DE ITUMBIARA-GO
DESCRIPTION:
URL:https://www.cursilho.org.br/event/26-04-assembleia-diocesana-diocese-de-itumbiara-go/
LOCATION:DIOCESE DE ITUMBIARA-GO\, Rua Paranaiba\, 160 - 1 - Centro\, Itumbiara - GO\, Itumbiara\, GOIAS\, 35171-133\, Brazil
CATEGORIES:Cursilho
ORGANIZER;CN="Terezinha de Jesus Luiza Cunha":MAILTO:lavabemgo@uol.com.br
END:VEVENT
BEGIN:VEVENT
DTSTART;VALUE=DATE:20250426
DTEND;VALUE=DATE:20250428
DTSTAMP:20260422T175316
CREATED:20250326T141142Z
LAST-MODIFIED:20250326T141142Z
UID:63375-1745625600-1745798399@www.cursilho.org.br
SUMMARY:26/04 - 10º ASSEMBLEIA DIOCESANA - GED DA CAMPANHA
DESCRIPTION:
URL:https://www.cursilho.org.br/event/26-04-10o-assembleia-diocesana-ged-da-campanha/
LOCATION:GED DA CAMPANHA-MG\, R. Maestro Pompeu\, 150 - Centro\, Campanha\, minas gerais\, 37400-000\, Brazil
CATEGORIES:Cursilho
ORGANIZER;CN="Tatiana L Angelico":MAILTO:tatilb2015@gmail.com
END:VEVENT
BEGIN:VEVENT
DTSTART;VALUE=DATE:20250425
DTEND;VALUE=DATE:20250428
DTSTAMP:20260422T175316
CREATED:20250409T124457Z
LAST-MODIFIED:20250409T124457Z
UID:63487-1745539200-1745798399@www.cursilho.org.br
SUMMARY:25/04 - 129º CURSILHO MASCULINO - GED UMUARAMA
DESCRIPTION:
URL:https://www.cursilho.org.br/event/25-04-129o-cursilho-masculino-ged-umuarama/
LOCATION:UMUARAMA\, Avenida Pe José Germano Neto Júnior\, 4260\, Umuarama\, Paraná\, 87503-650\, Brasil
CATEGORIES:Cursilho
ORGANIZER;CN="nelson venturin":MAILTO:nelson.delta@hotmail.com
END:VEVENT
BEGIN:VEVENT
DTSTART;VALUE=DATE:20250425
DTEND;VALUE=DATE:20250428
DTSTAMP:20260422T175316
CREATED:20250407T134851Z
LAST-MODIFIED:20250407T134851Z
UID:63484-1745539200-1745798399@www.cursilho.org.br
SUMMARY:25/04 - 11º CURSILHO MISTO PARA JOVENS - GED MACAPÁ/AMAPÁ
DESCRIPTION:
URL:https://www.cursilho.org.br/event/25-04-11o-cursilho-misto-para-jovens-ged-macapa-amapa/
LOCATION:GED MACAPÁ\, Rua São José\, nº: 1790. Bairro: Central.\, Macapá-AP\, 68.900-110.\, Brasil
CATEGORIES:Cursilho
ORGANIZER;CN="Istefany Liandra Paix%C3%A3o Silveira":MAILTO:istefanyliandra@gmail.com
END:VEVENT
BEGIN:VEVENT
DTSTART;VALUE=DATE:20250425
DTEND;VALUE=DATE:20250428
DTSTAMP:20260422T175316
CREATED:20250319T142629Z
LAST-MODIFIED:20250319T142629Z
UID:63366-1745539200-1745798399@www.cursilho.org.br
SUMMARY:25/04 - 16⁰ CURSILHO MISTO DA DIOCESE DE PATOS-PB - GED PATOS-PB
DESCRIPTION:
URL:https://www.cursilho.org.br/event/25-04-16%e2%81%b0-cursilho-misto-da-diocese-de-patos-pb-ged-patos-pb/
LOCATION:DIOCESE DE PATOS – PB\, Rua Peregrino Filho\, 76 | Centro\, Patos\, Paraíba\, 58700-450\, Brasil
CATEGORIES:Cursilho
ORGANIZER;CN="Gerusa L%C3%ADgia Delfino de Medeiros":MAILTO:Gerusa Lígia Delfino de Medeiros gerusaligiadelfinodemedeiros@gmail.com
END:VEVENT
BEGIN:VEVENT
DTSTART;VALUE=DATE:20250425
DTEND;VALUE=DATE:20250428
DTSTAMP:20260422T175316
CREATED:20250203T180019Z
LAST-MODIFIED:20250203T180019Z
UID:63226-1745539200-1745798399@www.cursilho.org.br
SUMMARY:25/04 - 227° CURSILHO MASCULINO - GED JUNDIAÍ
DESCRIPTION:
URL:https://www.cursilho.org.br/event/25-04-227-cursilho-masculino-ged-jundiai/
LOCATION:JUNDIAI\, Estrada do Garcia 905 Jardim Santhiago\, Campo Limpo Paulista/SP\, SP\, 13232-400\, Brasil
CATEGORIES:Cursilho
ORGANIZER;CN="EMERSON BARCARO":MAILTO:contato@cursilhojundiai.com.br
END:VEVENT
BEGIN:VEVENT
DTSTART;VALUE=DATE:20250425
DTEND;VALUE=DATE:20250427
DTSTAMP:20260422T175316
CREATED:20250425T134207Z
LAST-MODIFIED:20250425T134207Z
UID:63558-1745539200-1745711999@www.cursilho.org.br
SUMMARY:25/04 - 93º CURSILHO MASCULINO - GED JABOTICABAL
DESCRIPTION:
URL:https://www.cursilho.org.br/event/25-04-93o-cursilho-masculino-ged-jaboticabal/
LOCATION:GED JABOTICABAL\, Endereço: Rua Tibiriçá\, 879 Centro\, Ribeirão Preto – SP\, 14010-090\, Brasil
CATEGORIES:Cursilho
ORGANIZER;CN="Camila Sant' Anna Donadon":MAILTO:camila.donadon@yahoo.com.br
END:VEVENT
BEGIN:VEVENT
DTSTART;VALUE=DATE:20250412
DTEND;VALUE=DATE:20250415
DTSTAMP:20260422T175316
CREATED:20250317T142108Z
LAST-MODIFIED:20250317T142108Z
UID:63353-1744416000-1744675199@www.cursilho.org.br
SUMMARY:12/04 - 270º CURSILHO FEMININO ADULTO - SETOR JOINVILLE NORTE E SUL - GED JOINVILLE
DESCRIPTION:
URL:https://www.cursilho.org.br/event/12-04-270o-cursilho-feminino-adulto-setor-joinville-norte-e-sul-ged-joinville/
LOCATION:GED Joinville\, R. Ingrácio José Corrêa - 170\, Mafra\, Santa Catarina - SC\, 89303-088\, Brasil
CATEGORIES:Cursilho
ORGANIZER;CN="THAIANA ALVES ROCHA FRANCA":MAILTO:cursilhojoinvillenorte@gmail.com
END:VEVENT
BEGIN:VEVENT
DTSTART;VALUE=DATE:20250411
DTEND;VALUE=DATE:20250414
DTSTAMP:20260422T175316
CREATED:20250331T143845Z
LAST-MODIFIED:20250331T143845Z
UID:63466-1744329600-1744588799@www.cursilho.org.br
SUMMARY:11/04 - 246° CURSILHO FEMININO (SETOR ALCÂNTARA) - GED NITERÓI
DESCRIPTION:
URL:https://www.cursilho.org.br/event/11-04-246-cursilho-feminino-setor-alcantara-ged-niteroi/
LOCATION:GED NITERÓI\, R. Renato Fleming\, 22\, Jardim Catarina\, São Gonçalo\, Rio de Janeiro\, (21) 2701-6081\, Brasil
CATEGORIES:Cursilho
ORGANIZER;CN="Daniela Alves Gomes":MAILTO:danielaalvesgomes2@gmail.com
END:VEVENT
BEGIN:VEVENT
DTSTART;VALUE=DATE:20250411
DTEND;VALUE=DATE:20250414
DTSTAMP:20260422T175316
CREATED:20250317T141816Z
LAST-MODIFIED:20250317T141816Z
UID:63350-1744329600-1744588799@www.cursilho.org.br
SUMMARY:11/04 - 143º CURSILHO PARA MULHERES - GED SÃO JOÃO DA BOA VISTA
DESCRIPTION:
URL:https://www.cursilho.org.br/event/11-04-143o-cursilho-para-mulheres-ged-sao-joao-da-boa-vista/
LOCATION:GED SÃO JOÃO DA BOA VISTA
CATEGORIES:Cursilho
ORGANIZER;CN="SUZANA DOS REIS DA SILVA":MAILTO:gedsaojoaodaboavista@gmail.com
END:VEVENT
BEGIN:VEVENT
DTSTART;VALUE=DATE:20250410
DTEND;VALUE=DATE:20250414
DTSTAMP:20260422T175316
CREATED:20250401T133559Z
LAST-MODIFIED:20250401T133559Z
UID:63468-1744243200-1744588799@www.cursilho.org.br
SUMMARY:10/04 - 178º  CURSILHO MASCULINO - GED DA ARQUIDIOCESE DE GOIÂNIA
DESCRIPTION:
URL:https://www.cursilho.org.br/event/10-04-178o-cursilho-masculino-ged-da-arquidiocese-de-goiania/
LOCATION:Arquidiocese de Goiânia\, Praça Dom Emanuel\, S/N\, St. Central\, Goiânia\, 74001-970\, Brazil
CATEGORIES:Cursilho
END:VEVENT
BEGIN:VEVENT
DTSTART;VALUE=DATE:20250405
DTEND;VALUE=DATE:20250408
DTSTAMP:20260422T175316
CREATED:20250317T141159Z
LAST-MODIFIED:20250317T141159Z
UID:63347-1743811200-1744070399@www.cursilho.org.br
SUMMARY:05/04 - 39º CURSILHO MISTO PARA JOVENS - GED PARANAVAÍ
DESCRIPTION:
URL:https://www.cursilho.org.br/event/05-04-39o-cursilho-misto-para-jovens-ged-paranavai/
LOCATION:GED DIOCESE DE PARANAVAÍ\, Rua Francisco Vieira Borges\, 373\, Paranavaí\, 87705-180\, Brazil
CATEGORIES:Cursilho
ORGANIZER;CN="Ricardo Fermiano":MAILTO:alavancagedparanavai@hotmail.com
END:VEVENT
BEGIN:VEVENT
DTSTART;VALUE=DATE:20250404
DTEND;VALUE=DATE:20250407
DTSTAMP:20260422T175316
CREATED:20250331T142748Z
LAST-MODIFIED:20250331T142748Z
UID:63448-1743724800-1743983999@www.cursilho.org.br
SUMMARY:04/04 - 121º CURSILHO DE MULHERES - GED PASSO FUNDO
DESCRIPTION:
URL:https://www.cursilho.org.br/event/04-04-121o-cursilho-de-mulheres-ged-passo-fundo/
LOCATION:CASA DE RETIROS – ARQUIDIOCESE DE PASSO FUNDO/RS\, R. Padre Nóbrega\, 486 - Vila Lucas Araujo\, Passo Fundo\, Rio Grande do Sul\, 99072-290\, Brasil
CATEGORIES:Cursilho
ORGANIZER;CN="DIRCEU ANTONIO MARINI":MAILTO:ged.passofundo@gmail.com
END:VEVENT
BEGIN:VEVENT
DTSTART;VALUE=DATE:20250404
DTEND;VALUE=DATE:20250407
DTSTAMP:20260422T175316
CREATED:20250331T142430Z
LAST-MODIFIED:20250331T142430Z
UID:63443-1743724800-1743983999@www.cursilho.org.br
SUMMARY:04/04 - 8º CURSILHO DIOCESANO FEMININO ADULTO - GED SÃO JOÃO DEL REI
DESCRIPTION:
URL:https://www.cursilho.org.br/event/04-04-8o-cursilho-diocesano-feminino-adulto-ged-sao-joao-del-rei/
LOCATION:GED São João Del Rei\, Praça Frei Orlando\, 130\, São João del Rei - MG\, 36307-352\, Brasil
CATEGORIES:Cursilho
ORGANIZER;CN="Renata Fernanda da Cruz Silva":MAILTO:fernandarenata013@gmail.com
END:VEVENT
BEGIN:VEVENT
DTSTART;VALUE=DATE:20250404
DTEND;VALUE=DATE:20250407
DTSTAMP:20260422T175316
CREATED:20250326T142405Z
LAST-MODIFIED:20250326T142405Z
UID:63387-1743724800-1743983999@www.cursilho.org.br
SUMMARY:04/04 - 143° CURSILHO PARA MULHERES  - GED SÃO JOÃO DA BOA VISTA
DESCRIPTION:
URL:https://www.cursilho.org.br/event/04-04-143-cursilho-para-mulheres-ged-sao-joao-da-boa-vista/
LOCATION:GED SÃO JOÃO DA BOA VISTA
CATEGORIES:Cursilho
ORGANIZER;CN="SUZANA DOS REIS DA SILVA":MAILTO:gedsaojoaodaboavista@gmail.com
END:VEVENT
BEGIN:VEVENT
DTSTART;VALUE=DATE:20250404
DTEND;VALUE=DATE:20250407
DTSTAMP:20260422T175316
CREATED:20250326T141400Z
LAST-MODIFIED:20250326T141400Z
UID:63378-1743724800-1743983999@www.cursilho.org.br
SUMMARY:04/04 - 202° CURSILHO PARA MULHERES - GED PONTA GROSSA
DESCRIPTION:
URL:https://www.cursilho.org.br/event/04-04-202-cursilho-para-mulheres-ged-ponta-grossa/
LOCATION:GED PONTA GROSSA\, Pça. Marechal Floriano Peixoto\, 581\, Ponta Grossa - Paraná\, 84.001-970\, Brasil
CATEGORIES:Cursilho
ORGANIZER;CN="Ademir Engee":MAILTO:mccgedpontagrossa@gmail.com
END:VEVENT
BEGIN:VEVENT
DTSTART;VALUE=DATE:20250404
DTEND;VALUE=DATE:20250407
DTSTAMP:20260422T175316
CREATED:20250220T153105Z
LAST-MODIFIED:20250220T153105Z
UID:63302-1743724800-1743983999@www.cursilho.org.br
SUMMARY:04/04 - 119º CURSILHO MASCULINO ADULTO - GED JACAREZINHO
DESCRIPTION:
URL:https://www.cursilho.org.br/event/04-04-119o-cursilho-masculino-adulto-ged-jacarezinho/
LOCATION:GED JACAREZINHO\, Av. Manoel Ribas\, Jacarezinho - PR\, Brasil
CATEGORIES:Cursilho
ORGANIZER;CN="Erasto de Mello J%C3%BAnior":MAILTO:erasto.junior@yahoo.com.br
END:VEVENT
BEGIN:VEVENT
DTSTART;VALUE=DATE:20250404
DTEND;VALUE=DATE:20250405
DTSTAMP:20260422T175316
CREATED:20250317T140909Z
LAST-MODIFIED:20250317T140909Z
UID:63345-1743724800-1743811199@www.cursilho.org.br
SUMMARY:04/04 - 34º CURSILHO PARA JOVENS - GED BELO HORIZONTE
DESCRIPTION:
URL:https://www.cursilho.org.br/event/04-04-34o-cursilho-para-jovens-ged-belo-horizonte/
LOCATION:GED BELO  HORIZONTE\, Av. Brasil\, 2079\, Bairro Savassi\, Belo Horizonte - MG\, MINAS GERAIS\, 30140-008\, Brasil
CATEGORIES:Cursilho
ORGANIZER;CN="Vin%C3%ADcius de Matos Brand%C3%A3o Raposo":MAILTO:cursilhobh@outlook.com
END:VEVENT
END:VCALENDAR