BEGIN:VCALENDAR
VERSION:2.0
PRODID:-//MCC do Brasil - ECPv6.15.11//NONSGML v1.0//EN
CALSCALE:GREGORIAN
METHOD:PUBLISH
X-WR-CALNAME:MCC do Brasil
X-ORIGINAL-URL:https://www.cursilho.org.br
X-WR-CALDESC:Eventos para MCC do Brasil
REFRESH-INTERVAL;VALUE=DURATION:PT1H
X-Robots-Tag:noindex
X-PUBLISHED-TTL:PT1H
BEGIN:VTIMEZONE
TZID:America/Sao_Paulo
BEGIN:STANDARD
TZOFFSETFROM:-0300
TZOFFSETTO:-0300
TZNAME:-03
DTSTART:20240101T000000
END:STANDARD
END:VTIMEZONE
BEGIN:VEVENT
DTSTART;VALUE=DATE:20250606
DTEND;VALUE=DATE:20250609
DTSTAMP:20260422T123601
CREATED:20250603T134818Z
LAST-MODIFIED:20250603T134818Z
UID:63685-1749168000-1749427199@www.cursilho.org.br
SUMMARY:06/06 - 13º CURSILHO MISTO PARA JOVENS - GED COROMANDEL
DESCRIPTION:
URL:https://www.cursilho.org.br/event/06-06-13o-cursilho-misto-para-jovens-ged-coromandel/
LOCATION:COROMANDEL MG\, Av. Dr. Humberto Machado\, 242. São Domingos\, Coromandel\, Minas Gerais\, 38550-000\, Brasil
CATEGORIES:Cursilho
ORGANIZER;CN="Fl%C3%A1via Bittencourt Machado de Resende":MAILTO:flaviabittencourt.mr@hotmail.com
END:VEVENT
BEGIN:VEVENT
DTSTART;VALUE=DATE:20250606
DTEND;VALUE=DATE:20250609
DTSTAMP:20260422T123601
CREATED:20250422T140101Z
LAST-MODIFIED:20250422T140101Z
UID:63516-1749168000-1749427199@www.cursilho.org.br
SUMMARY:06/06 - 13º CURSILHO MISTO PARA JOVENS - GED PATOS DE  MINAS
DESCRIPTION:
URL:https://www.cursilho.org.br/event/06-06-13o-cursilho-misto-para-jovens-ged-patos-de-minas/
LOCATION:GED PATOS DE MINAS\, Rua Tiradentes\, 388 - Centro\, Patos de Minas/MG\, Minas Gerais\, 38700-134\, Brasil
CATEGORIES:Cursilho
ORGANIZER;CN="BIANCA GONCALVES CAETANO":MAILTO:biancaagc@hotmail.com
END:VEVENT
BEGIN:VEVENT
DTSTART;VALUE=DATE:20250606
DTEND;VALUE=DATE:20250609
DTSTAMP:20260422T123601
CREATED:20250203T180312Z
LAST-MODIFIED:20250203T180312Z
UID:63230-1749168000-1749427199@www.cursilho.org.br
SUMMARY:06/06 - 188º CURSILHO FEMININO - GED JUNDIAÍ
DESCRIPTION:
URL:https://www.cursilho.org.br/event/06-06-188o-cursilho-feminino-ged-jundiai/
LOCATION:JUNDIAI\, Estrada do Garcia 905 Jardim Santhiago\, Campo Limpo Paulista/SP\, SP\, 13232-400\, Brasil
CATEGORIES:Cursilho
ORGANIZER;CN="EMERSON BARCARO":MAILTO:contato@cursilhojundiai.com.br
END:VEVENT
BEGIN:VEVENT
DTSTART;VALUE=DATE:20250530
DTEND;VALUE=DATE:20250602
DTSTAMP:20260422T123601
CREATED:20250526T173949Z
LAST-MODIFIED:20250526T173949Z
UID:63657-1748563200-1748822399@www.cursilho.org.br
SUMMARY:30/05 - 37° CURSILHO FEMININO - GED CRICIÚMA
DESCRIPTION:
URL:https://www.cursilho.org.br/event/30-05-37-cursilho-feminino-ged-criciuma/
LOCATION:GED CRICIÚMA\, R. Pedro Manoel Apolinário\, 90 - Santa Barbara\, Criciúma - SC\, 88804-350\, Brasil
CATEGORIES:Cursilho
ORGANIZER;CN="Kalinca Paulo de Souza Vuolo":MAILTO:mccsantoantonio@gmail.com
END:VEVENT
BEGIN:VEVENT
DTSTART;VALUE=DATE:20250530
DTEND;VALUE=DATE:20250602
DTSTAMP:20260422T123601
CREATED:20250523T122532Z
LAST-MODIFIED:20250523T122532Z
UID:63649-1748563200-1748822399@www.cursilho.org.br
SUMMARY:30/05 - 99º CURSILHO MASCULINO - GED MACEIÓ
DESCRIPTION:
URL:https://www.cursilho.org.br/event/30-05-99o-cursilho-masculino-ged-maceio/
LOCATION:GED MACEIÓ\, R. Prof. Ângelo Neto\, 279 \, Farol\, Maceió\, Alagoas\, 57017-530\, Brasil
CATEGORIES:Cursilho
ORGANIZER;CN="THAYSE DE SOUZA MENDES":MAILTO:mendes.thayse@hotmail.com
END:VEVENT
BEGIN:VEVENT
DTSTART;VALUE=DATE:20250530
DTEND;VALUE=DATE:20250602
DTSTAMP:20260422T123601
CREATED:20250515T174352Z
LAST-MODIFIED:20250515T174352Z
UID:63620-1748563200-1748822399@www.cursilho.org.br
SUMMARY:30/05 - 93º CURSILHO FEMININO - GED DE OLIVEIRA
DESCRIPTION:
URL:https://www.cursilho.org.br/event/30-05-93o-cursilho-feminino-ged-de-oliveira/
LOCATION:GED OLIVEIRA\, Pça. D. Manoelita Chagas\, 40 Centro\, Oliveira/MG\, Minas Gerais\, 35540-000\, Brasil
CATEGORIES:Cursilho
ORGANIZER;CN="Priscila Eliazar Neves":MAILTO:ged_oliveira@hotmail.com
END:VEVENT
BEGIN:VEVENT
DTSTART;VALUE=DATE:20250530
DTEND;VALUE=DATE:20250602
DTSTAMP:20260422T123601
CREATED:20250409T124638Z
LAST-MODIFIED:20250409T124638Z
UID:63490-1748563200-1748822399@www.cursilho.org.br
SUMMARY:30/05 - 96° CURSILHO FEMININO - GED ILHÉUS
DESCRIPTION:
URL:https://www.cursilho.org.br/event/30-05-96-cursilho-feminino-ged-ilheus/
LOCATION:GED ILHEUS\, ILHÉUS\, Bahia
CATEGORIES:Cursilho
ORGANIZER;CN="Raquel Adriane Santos Rodrigues da SIlva":MAILTO:maluiza6junho@gmail.com
END:VEVENT
BEGIN:VEVENT
DTSTART;VALUE=DATE:20250529
DTEND;VALUE=DATE:20250602
DTSTAMP:20260422T123601
CREATED:20250527T143649Z
LAST-MODIFIED:20250527T143649Z
UID:63667-1748476800-1748822399@www.cursilho.org.br
SUMMARY:29/05 - 101º CURSILHO PARA MULHERES - GED TOLEDO
DESCRIPTION:
URL:https://www.cursilho.org.br/event/29-05-101o-cursilho-para-mulheres-ged-toledo/
LOCATION:GED TOLEDO\, R. Gen. Rondon\, 2006 - Jardim La Salle\, Toledo - PR\, 85901-160\, Brasil
CATEGORIES:Cursilho
ORGANIZER;CN="Willy Michael Paulini Lima":MAILTO:willymichael.adv@gmail.com
END:VEVENT
BEGIN:VEVENT
DTSTART;VALUE=DATE:20250529
DTEND;VALUE=DATE:20250602
DTSTAMP:20260422T123601
CREATED:20250526T174402Z
LAST-MODIFIED:20250526T174402Z
UID:63659-1748476800-1748822399@www.cursilho.org.br
SUMMARY:29/05 - 98º CURSILHO DE HOMENS - GED NOVO HAMBURGO
DESCRIPTION:
URL:https://www.cursilho.org.br/event/29-05-98o-cursilho-de-homens-ged-novo-hamburgo/
LOCATION:GED NOVO HAMBURGO\, R. Bela Vista\, 151 - Primavera\, Novo Hamburgo\, RIO GRANDE DO SUL\, 93344-240\, Brazil
CATEGORIES:Cursilho
ORGANIZER;CN="LUIS HUMBERTO HUGENTHOBLER":MAILTO:hugenthobler21@gmail.com
END:VEVENT
BEGIN:VEVENT
DTSTART;VALUE=DATE:20250529
DTEND;VALUE=DATE:20250602
DTSTAMP:20260422T123601
CREATED:20250515T132401Z
LAST-MODIFIED:20250515T132401Z
UID:63608-1748476800-1748822399@www.cursilho.org.br
SUMMARY:29/05 - 84º CURSILHO MASCULINO - GED GUARAPUAVA
DESCRIPTION:
URL:https://www.cursilho.org.br/event/29-05-84o-cursilho-masculino-ged-guarapuava/
LOCATION:GED GUARAPUAVA\, Avenida Presidente Getúlio Vargas\, nº 170 - Centro\, Pitanga\, Paraná\, 85200-000\, Brasil
CATEGORIES:Cursilho
ORGANIZER;CN="Jos%C3%A9 Edilson Barbosa":MAILTO:alavancaguarapuava@gmail.com
END:VEVENT
BEGIN:VEVENT
DTSTART;VALUE=DATE:20250529
DTEND;VALUE=DATE:20250602
DTSTAMP:20260422T123601
CREATED:20250506T140634Z
LAST-MODIFIED:20250506T140634Z
UID:63583-1748476800-1748822399@www.cursilho.org.br
SUMMARY:29/05 - 27º CURSILHO MISTO PARA JOVENS - GED RONDONÓPOLIS-GUIRATINGA
DESCRIPTION:
URL:https://www.cursilho.org.br/event/29-05-27o-cursilho-misto-para-jovens-ged-rondonopolis-guiratinga/
LOCATION:GED RONDONOPOLIS – GUIRATINGA\, Av. Frei Servácio\, 393 La Salle I\,\, Rondonópolis - MT\, 78710-004\, Brasil
CATEGORIES:Cursilho
ORGANIZER;CN="Milla Munique Rodrigues Franco":MAILTO:millamunique14@gmail.com
END:VEVENT
BEGIN:VEVENT
DTSTART;VALUE=DATE:20250529
DTEND;VALUE=DATE:20250602
DTSTAMP:20260422T123601
CREATED:20250422T140958Z
LAST-MODIFIED:20250422T140958Z
UID:63526-1748476800-1748822399@www.cursilho.org.br
SUMMARY:29/05 - 43° CURSILHO MASCULINO - GED UNAÍ DIOCESE DE PARACATU
DESCRIPTION:
URL:https://www.cursilho.org.br/event/29-05-43-cursilho-masculino-ged-unai-diocese-de-paracatu/
LOCATION:GED UNAÍ DIOCESE DE PARACATU\, Praça Caldeira Brant\, 147Centro\, Paracatu\, MINAS GERAIS\, 38600-291\, Brazil
CATEGORIES:Cursilho
ORGANIZER;CN="Luciene Assun%C3%A7%C3%A3o Moreira":MAILTO:mcc.unai@hotmail.com
END:VEVENT
BEGIN:VEVENT
DTSTART;VALUE=DATE:20250529
DTEND;VALUE=DATE:20250602
DTSTAMP:20260422T123601
CREATED:20250415T144309Z
LAST-MODIFIED:20250415T144309Z
UID:63507-1748476800-1748822399@www.cursilho.org.br
SUMMARY:29/05 - 177º CURSILHO MASCULINO - GED SOROCABA
DESCRIPTION:
URL:https://www.cursilho.org.br/event/29-05-177o-cursilho-masculino-ged-sorocaba/
LOCATION:GED SOROCABA\, Avenida Doutor Eugênio Salerno\, 60\, Sorocaba\, SP\, Brazil\, SOROCABA\, SÃO PAULO\, 18035-430\, Brazil
CATEGORIES:Cursilho
ORGANIZER;CN="ROZANIA APARECIDA CINTO E FRARE":MAILTO:rozaniafrare@gmail.com
END:VEVENT
BEGIN:VEVENT
DTSTART;VALUE=DATE:20250529
DTEND;VALUE=DATE:20250602
DTSTAMP:20260422T123601
CREATED:20250331T143425Z
LAST-MODIFIED:20250331T143425Z
UID:63460-1748476800-1748822399@www.cursilho.org.br
SUMMARY:29/05 - 28º CURSILHO PARA MOÇAS - GED GOVERNADOR VALADARES
DESCRIPTION:
URL:https://www.cursilho.org.br/event/29-05-28o-cursilho-para-mocas-ged-governador-valadares/
LOCATION:Cúria Diocesana de Governador Valadares\, Av. Brasil\, 2770 – Centro\, Governador Valadares\, Minas Gerais\, 35010-020\, Brasil
CATEGORIES:Cursilho
END:VEVENT
BEGIN:VEVENT
DTSTART;VALUE=DATE:20250529
DTEND;VALUE=DATE:20250602
DTSTAMP:20260422T123601
CREATED:20250217T120724Z
LAST-MODIFIED:20250217T120724Z
UID:63278-1748476800-1748822399@www.cursilho.org.br
SUMMARY:29/05 - 149º CURSILHO PARA MULHERES - GED CAMPO GRANDE
DESCRIPTION:
URL:https://www.cursilho.org.br/event/29-05-149o-cursilho-para-mulheres-ged-campo-grande/
LOCATION:GED CAMPO GRANDE MS\, Rua Amando de Oliveira\, 448 – Bairro Amambai\, Campo Grande – MS\, 79008-010\, Brasil
CATEGORIES:Cursilho
ORGANIZER;CN="MARIA INEZ PEREIRA MENDES":MAILTO:cursilhocg.mcc@gmail.com
END:VEVENT
BEGIN:VEVENT
DTSTART;VALUE=DATE:20250529
DTEND;VALUE=DATE:20250602
DTSTAMP:20260422T123601
CREATED:20250113T172353Z
LAST-MODIFIED:20250113T172353Z
UID:63185-1748476800-1748822399@www.cursilho.org.br
SUMMARY:29/05 - 116º CURSILHO MASCULINO DA ARQUIDIOCESE DE CUIABÁ - GED CUIABÁ
DESCRIPTION:
URL:https://www.cursilho.org.br/event/29-05-116o-cursilho-masculino-da-arquidiocese-de-cuiaba-ged-cuiaba/
LOCATION:GED CUIABÁ\, Av. Fernando Corrêa da Costa\, 3342 - Jardim Shangri-lá\, Cuiabá\, Mato Grosso\, 78070-001\, Brasil
CATEGORIES:Cursilho
ORGANIZER;CN="LEONARDO AFONSO MENDES":MAILTO:cursilhocuiaba@gmail.com
END:VEVENT
BEGIN:VEVENT
DTSTART;VALUE=DATE:20250523
DTEND;VALUE=DATE:20250526
DTSTAMP:20260422T123601
CREATED:20250522T120830Z
LAST-MODIFIED:20250522T120830Z
UID:63646-1747958400-1748217599@www.cursilho.org.br
SUMMARY:23/05 - 84º CURSILHO FEMININO - GED SÃO CARLOS
DESCRIPTION:
URL:https://www.cursilho.org.br/event/23-05-84o-cursilho-feminino-ged-sao-carlos/
LOCATION:GED SÃO CARLOS\, Av. José Pereira Lopes\, 386 – Vila Prado\, São Carlos – SP\, 13574-380\, Brasil
CATEGORIES:Cursilho
ORGANIZER;CN="Meire Estela Silva Godoy":MAILTO:meireestelagodoy@gmail.com
END:VEVENT
BEGIN:VEVENT
DTSTART;VALUE=DATE:20250523
DTEND;VALUE=DATE:20250526
DTSTAMP:20260422T123601
CREATED:20250520T122719Z
LAST-MODIFIED:20250520T122719Z
UID:63634-1747958400-1748217599@www.cursilho.org.br
SUMMARY:23/05 - 96º CURSILHO FEMININO - GED MACEIÓ
DESCRIPTION:
URL:https://www.cursilho.org.br/event/23-05-96o-cursilho-feminino-ged-maceio/
LOCATION:GED MACEIÓ\, R. Prof. Ângelo Neto\, 279 \, Farol\, Maceió\, Alagoas\, 57017-530\, Brasil
CATEGORIES:Cursilho
ORGANIZER;CN="THAYSE DE SOUZA MENDES":MAILTO:mendes.thayse@hotmail.com
END:VEVENT
BEGIN:VEVENT
DTSTART;VALUE=DATE:20250523
DTEND;VALUE=DATE:20250526
DTSTAMP:20260422T123601
CREATED:20250519T134637Z
LAST-MODIFIED:20250519T134637Z
UID:63630-1747958400-1748217599@www.cursilho.org.br
SUMMARY:23/05 - 105º CURSILHO DE MULHERES - GED SANTA CRUZ DO SUL
DESCRIPTION:
URL:https://www.cursilho.org.br/event/23-05-105o-cursilho-de-mulheres-ged-santa-cruz-do-sul/
LOCATION:Santa Cruz do Sul\, Rua Thomaz Flores\, 675 - Centro\, Santa Cruz do Sul\, Rio Grande do Sul\, 96810-068\, Brasil
CATEGORIES:Cursilho
ORGANIZER;CN="JO%C3%83O ERNANI RODRIGUES DA SILVA":MAILTO:joao@joaoernani.com.br
END:VEVENT
BEGIN:VEVENT
DTSTART;VALUE=DATE:20250523
DTEND;VALUE=DATE:20250526
DTSTAMP:20260422T123601
CREATED:20250506T135132Z
LAST-MODIFIED:20250506T135132Z
UID:63574-1747958400-1748217599@www.cursilho.org.br
SUMMARY:23/05 - 16º CURSILHO MISTO DIOCESANO - GED ARACAJU
DESCRIPTION:
URL:https://www.cursilho.org.br/event/23-05-16o-cursilho-misto-diocesano-ged-aracaju/
LOCATION:GED ARACAJU\, R. Projetada 3\, 460 - Jabotiana - Paróquia Nossa Senhora da Luz\, Aracaju\, Sergipe\, 49095-799\, Brazil
CATEGORIES:Cursilho
ORGANIZER;CN="Maria In%C3%AAs Monteiro Farias Cerqueira":MAILTO:inesmonteiro503@gmail.com
END:VEVENT
BEGIN:VEVENT
DTSTART;VALUE=DATE:20250523
DTEND;VALUE=DATE:20250526
DTSTAMP:20260422T123601
CREATED:20250402T145021Z
LAST-MODIFIED:20250402T145021Z
UID:63473-1747958400-1748217599@www.cursilho.org.br
SUMMARY:23/05 - 110º CURSILHO ADULTO FEMININO - GED DA CAMPANHA - MG
DESCRIPTION:
URL:https://www.cursilho.org.br/event/23-05-110o-cursilho-adulto-feminino-ged-da-campanha-mg/
LOCATION:GED DA CAMPANHA-MG\, R. Maestro Pompeu\, 150 - Centro\, Campanha\, minas gerais\, 37400-000\, Brazil
CATEGORIES:Cursilho
ORGANIZER;CN="Joelma De Paula Silva Machado":MAILTO:joelma_ged@yahoo.com
END:VEVENT
BEGIN:VEVENT
DTSTART;VALUE=DATE:20250523
DTEND;VALUE=DATE:20250526
DTSTAMP:20260422T123601
CREATED:20250326T141551Z
LAST-MODIFIED:20250326T141551Z
UID:63381-1747958400-1748217599@www.cursilho.org.br
SUMMARY:23/05 - 76º  CURSILHO FEMININO - GED OURINHOS
DESCRIPTION:
URL:https://www.cursilho.org.br/event/23-05-76o-cursilho-feminino-ged-ourinhos/
LOCATION:GED OURINHOS\, R. Arlíndo Luz\, 446 - Centro\, Ourinhos - SP\, SÃO PAULO\, 19900-011\, Brasil
CATEGORIES:Cursilho
ORGANIZER;CN="Fabio Henrique da Silva":MAILTO:fabiohenrique.edinho@gmail.com
END:VEVENT
BEGIN:VEVENT
DTSTART;VALUE=DATE:20250523
DTEND;VALUE=DATE:20250526
DTSTAMP:20260422T123601
CREATED:20250326T140956Z
LAST-MODIFIED:20250326T140956Z
UID:63372-1747958400-1748217599@www.cursilho.org.br
SUMMARY:23/05 - 114° CURSILHO MASCULINO - GED CASCAVEL PR
DESCRIPTION:
URL:https://www.cursilho.org.br/event/23-05-114-cursilho-masculino-ged-cascavel-pr/
LOCATION:GED Cascavel\, Cascavel\, Paraná\, Brasil
CATEGORIES:ASSEMBLEIA DIOCESANA,Cursilho
ORGANIZER;CN="Sidinei Edimar Nardi":MAILTO:nardirepresentacao@outlook.com
END:VEVENT
BEGIN:VEVENT
DTSTART;VALUE=DATE:20250523
DTEND;VALUE=DATE:20250526
DTSTAMP:20260422T123601
CREATED:20250519T121034Z
LAST-MODIFIED:20250519T121034Z
UID:63625-1747958400-1748217599@www.cursilho.org.br
SUMMARY:23/05 - 10° CURSILHO MISTO PARA JOVENS -  GED DUQUE DE CAXIAS
DESCRIPTION:
URL:https://www.cursilho.org.br/event/23-05-10-cursilho-misto-para-jovens-ged-duque-de-caxias/
LOCATION:GED DUQUE DE CAXIAS\, Av. Governador Leonel de Moura Brizola\, 1861 - Centro\, Duque de Caxias - RJ\, 25020-001\, Brasil
CATEGORIES:Cursilho
ORGANIZER;CN="Larissa Fernanda F%C3%A9lix da Silva":MAILTO:larifernanda.felix@hotmail.com
END:VEVENT
BEGIN:VEVENT
DTSTART;VALUE=DATE:20250522
DTEND;VALUE=DATE:20250526
DTSTAMP:20260422T123601
CREATED:20250515T132249Z
LAST-MODIFIED:20250515T132249Z
UID:63605-1747872000-1748217599@www.cursilho.org.br
SUMMARY:22/05 - 81º CURSILHO FEMININO - GED GUARAPUAVA
DESCRIPTION:
URL:https://www.cursilho.org.br/event/22-05-81o-cursilho-feminino-ged-guarapuava/
LOCATION:GED GUARAPUAVA\, Avenida Presidente Getúlio Vargas\, nº 170 - Centro\, Pitanga\, Paraná\, 85200-000\, Brasil
CATEGORIES:Cursilho
ORGANIZER;CN="Jos%C3%A9 Edilson Barbosa":MAILTO:alavancaguarapuava@gmail.com
END:VEVENT
BEGIN:VEVENT
DTSTART;VALUE=DATE:20250522
DTEND;VALUE=DATE:20250526
DTSTAMP:20260422T123601
CREATED:20250331T142933Z
LAST-MODIFIED:20250331T142933Z
UID:63451-1747872000-1748217599@www.cursilho.org.br
SUMMARY:22/05 - 101º CURSILHO PARA HOMENS - GED TOLEDO
DESCRIPTION:
URL:https://www.cursilho.org.br/event/22-05-101o-cursilho-para-homens-ged-toledo/
LOCATION:GED TOLEDO\, R. Gen. Rondon\, 2006 - Jardim La Salle\, Toledo - PR\, 85901-160\, Brasil
CATEGORIES:Cursilho
ORGANIZER;CN="Willy Michael Paulini Lima":MAILTO:willymichael.adv@gmail.com
END:VEVENT
BEGIN:VEVENT
DTSTART;VALUE=DATE:20250522
DTEND;VALUE=DATE:20250526
DTSTAMP:20260422T123601
CREATED:20250331T142607Z
LAST-MODIFIED:20250331T142607Z
UID:63445-1747872000-1748217599@www.cursilho.org.br
SUMMARY:22/05 - 106º CURSILHO FEMININO - GED PETRÓPOLIS
DESCRIPTION:
URL:https://www.cursilho.org.br/event/22-05-106o-cursilho-feminino-ged-petropolis/
LOCATION:GED PETROPOLIS\, Avenida Simao da Mota\, 256\, Centro\, Mage - RJ\, RIO DE JANEIRO\, 25.900-001.\, Brasil
CATEGORIES:Cursilho
ORGANIZER;CN="Roselea Dias":MAILTO:roseleadias@gmail.com
END:VEVENT
BEGIN:VEVENT
DTSTART;VALUE=DATE:20250522
DTEND;VALUE=DATE:20250526
DTSTAMP:20260422T123601
CREATED:20250217T140843Z
LAST-MODIFIED:20250217T140843Z
UID:63281-1747872000-1748217599@www.cursilho.org.br
SUMMARY:22/05 - 153º CURSILHO PARA HOMENS - GED CAMPO GRANDE
DESCRIPTION:
URL:https://www.cursilho.org.br/event/22-05-153o-cursilho-para-homens-ged-campo-grande/
LOCATION:Campo Grande MS\, Rua Amando de Oliveira\, 448\, Bairro Amambai\, Campo Grande – MS\, 79008-010\, Brasil
CATEGORIES:Cursilho
ORGANIZER;CN="LUIS CARLOS DE LIMA":MAILTO:cursilhocg.mcc@gmail.com
END:VEVENT
BEGIN:VEVENT
DTSTART;VALUE=DATE:20250522
DTEND;VALUE=DATE:20250526
DTSTAMP:20260422T123601
CREATED:20250120T171825Z
LAST-MODIFIED:20250120T171825Z
UID:63199-1747872000-1748217599@www.cursilho.org.br
SUMMARY:22/05 - 115º CURSILHO PARA MULHERES - GED RONDONÓPOLIS/GUIRATINGA
DESCRIPTION:
URL:https://www.cursilho.org.br/event/22-05-115o-cursilho-para-mulheres-ged-rondonopolis-guiratinga/
LOCATION:GED RONDONOPOLIS – GUIRATINGA\, Av. Frei Servácio\, 393 La Salle I\,\, Rondonópolis - MT\, 78710-004\, Brasil
CATEGORIES:Cursilho
ORGANIZER;CN="Luzilene da Silva Oliveira Martins":MAILTO:luzilenemartinss@gmail.com
END:VEVENT
BEGIN:VEVENT
DTSTART;VALUE=DATE:20250516
DTEND;VALUE=DATE:20250519
DTSTAMP:20260422T123601
CREATED:20250515T132552Z
LAST-MODIFIED:20250515T132552Z
UID:63610-1747353600-1747612799@www.cursilho.org.br
SUMMARY:16/05 - 117º CURSILHO MASCULINO ADULTO - GED CAMPANHA
DESCRIPTION:
URL:https://www.cursilho.org.br/event/16-05-117o-cursilho-masculino-adulto-ged-campanha/
LOCATION:GED DA CAMPANHA-MG\, R. Maestro Pompeu\, 150 - Centro\, Campanha\, minas gerais\, 37400-000\, Brazil
CATEGORIES:Cursilho
ORGANIZER;CN="Lucas Antonio Quintanilha":MAILTO:lucas@supremametal.com.br
END:VEVENT
END:VCALENDAR