BEGIN:VCALENDAR
VERSION:2.0
PRODID:-//MCC do Brasil - ECPv6.15.11//NONSGML v1.0//EN
CALSCALE:GREGORIAN
METHOD:PUBLISH
X-WR-CALNAME:MCC do Brasil
X-ORIGINAL-URL:https://www.cursilho.org.br
X-WR-CALDESC:Eventos para MCC do Brasil
REFRESH-INTERVAL;VALUE=DURATION:PT1H
X-Robots-Tag:noindex
X-PUBLISHED-TTL:PT1H
BEGIN:VTIMEZONE
TZID:America/Sao_Paulo
BEGIN:STANDARD
TZOFFSETFROM:-0300
TZOFFSETTO:-0300
TZNAME:-03
DTSTART:20240101T000000
END:STANDARD
END:VTIMEZONE
BEGIN:VEVENT
DTSTART;VALUE=DATE:20250718
DTEND;VALUE=DATE:20250721
DTSTAMP:20260422T080024
CREATED:20250519T121235Z
LAST-MODIFIED:20250519T121235Z
UID:63627-1752796800-1753055999@www.cursilho.org.br
SUMMARY:18/07 - 117º CURSILHO MISTO PARA JOVENS - GED DE FRANCA
DESCRIPTION:
URL:https://www.cursilho.org.br/event/18-07-117o-cursilho-misto-para-jovens-ged-de-franca/
LOCATION:GED FRANCA\, São Joaquim da Barra\, São Paulo\, Brasil
CATEGORIES:Cursilho
ORGANIZER;CN="JO%C3%83O VITOR MEDEIROS DE OLIVEIRA":MAILTO:cursilhojovenssjb@gmai.com
END:VEVENT
BEGIN:VEVENT
DTSTART;VALUE=DATE:20250718
DTEND;VALUE=DATE:20250721
DTSTAMP:20260422T080024
CREATED:20250512T141225Z
LAST-MODIFIED:20250512T141225Z
UID:63595-1752796800-1753055999@www.cursilho.org.br
SUMMARY:42º CURSILHO PARA HOMENS - DIOCESE DE URUGUAIANA
DESCRIPTION:
URL:https://www.cursilho.org.br/event/42o-cursilho-para-homens-diocese-de-uruguaiana/
LOCATION:DIOCESE DE URUGUAIANA\, R. Santana\, 2612\, Centro\, Uruguaiana - RS\, 97510-471\, Brasil
CATEGORIES:Cursilho
ORGANIZER;CN="Leonardo Machado Pereira":MAILTO:gedsantiago@gmail.com
END:VEVENT
BEGIN:VEVENT
DTSTART;VALUE=DATE:20250718
DTEND;VALUE=DATE:20250721
DTSTAMP:20260422T080024
CREATED:20250402T145323Z
LAST-MODIFIED:20250402T145323Z
UID:63478-1752796800-1753055999@www.cursilho.org.br
SUMMARY:18/07 - 13º CURSILHO MISTO JOVEM  - GED DA CAMPANHA - MG
DESCRIPTION:
URL:https://www.cursilho.org.br/event/18-07-13o-cursilho-misto-jovem-ged-da-campanha-mg/
LOCATION:GED DA CAMPANHA-MG\, R. Maestro Pompeu\, 150 - Centro\, Campanha\, minas gerais\, 37400-000\, Brazil
CATEGORIES:Cursilho
ORGANIZER;CN="Joelma De Paula Silva Machado":MAILTO:joelma_ged@yahoo.com
END:VEVENT
BEGIN:VEVENT
DTSTART;VALUE=DATE:20250718
DTEND;VALUE=DATE:20250721
DTSTAMP:20260422T080024
CREATED:20250331T143140Z
LAST-MODIFIED:20250331T143140Z
UID:63454-1752796800-1753055999@www.cursilho.org.br
SUMMARY:18/07 - 11º CURSILHO PARA JOVENS - GED CRUZ ALTA
DESCRIPTION:
URL:https://www.cursilho.org.br/event/18-07-11o-cursilho-para-jovens-ged-cruz-alta/
LOCATION:CRUZ ALTA\, RS\, Av. Venâncio Aires\, 810 - Centro\, Cruz Alta\, Rio Grande do Sul\, 98005-120\, Brasil
CATEGORIES:Cursilho
ORGANIZER;CN="Rafael Ritterbusch":MAILTO:r.ritterbusch@hotmail.com
END:VEVENT
BEGIN:VEVENT
DTSTART;VALUE=DATE:20250718
DTEND;VALUE=DATE:20250720
DTSTAMP:20260422T080024
CREATED:20250626T125502Z
LAST-MODIFIED:20250626T125502Z
UID:63754-1752796800-1752969599@www.cursilho.org.br
SUMMARY:18/07 - 33º CURSILHO PARA JOVENS DA DIOCESE DE ILHÉUS - GED ILHÉUS
DESCRIPTION:
URL:https://www.cursilho.org.br/event/18-07-33o-cursilho-para-jovens-da-diocese-de-ilheus-ged-ilheus/
LOCATION:GED ILHEUS\, ILHÉUS\, Bahia
CATEGORIES:Cursilho
ORGANIZER;CN="H%C3%A9lio Pereira Passos Neto":MAILTO:robsonmagalhaesadv@gmail.com
END:VEVENT
BEGIN:VEVENT
DTSTART;VALUE=DATE:20250717
DTEND;VALUE=DATE:20250721
DTSTAMP:20260422T080024
CREATED:20250716T141615Z
LAST-MODIFIED:20250716T141615Z
UID:63814-1752710400-1753055999@www.cursilho.org.br
SUMMARY:17/07 - 40º CURSILHO JOVEM MASCULINO DA DIOCESE DIVINÓPOLIS - GED ITATIAIUÇU
DESCRIPTION:
URL:https://www.cursilho.org.br/event/17-07-40o-cursilho-jovem-masculino-da-diocese-divinopolis-ged-itatiaiucu/
LOCATION:GED ITATIAIUÇU\, Praça Antônio Quirino da Silva\, 07\, Centro\, Itatiaiuçu-MG\, MINAS GERAIS\, Brazil
CATEGORIES:Cursilho
ORGANIZER;CN="BRUNO HENRIQUE DOS SANTOS":MAILTO:brunoh_852@hotmail.com
END:VEVENT
BEGIN:VEVENT
DTSTART;VALUE=DATE:20250717
DTEND;VALUE=DATE:20250721
DTSTAMP:20260422T080024
CREATED:20250716T122656Z
LAST-MODIFIED:20250716T122717Z
UID:63810-1752710400-1753055999@www.cursilho.org.br
SUMMARY:17/07 - 41° CURSILHO FEMININO PARA JOVENS - GED FLORIANÓPOLIS
DESCRIPTION:
URL:https://www.cursilho.org.br/event/17-07-41-cursilho-feminino-para-jovens-ged-florianopolis/
LOCATION:GED FLORIANÓPOLIS\, R. Esteves Júnior\, 447\, Centro\, Florianópolis\, 88015-130\, Brasil
CATEGORIES:Cursilho
ORGANIZER;CN="Algemiro Ambrosi Junior":MAILTO:algemiroambrosi@hotmail.com
END:VEVENT
BEGIN:VEVENT
DTSTART;VALUE=DATE:20250717
DTEND;VALUE=DATE:20250721
DTSTAMP:20260422T080024
CREATED:20250623T153856Z
LAST-MODIFIED:20250623T153856Z
UID:63745-1752710400-1753055999@www.cursilho.org.br
SUMMARY:17/07 - 37º CURSILHO FEMININO - GED MOSSORÓ
DESCRIPTION:
URL:https://www.cursilho.org.br/event/17-07-37o-cursilho-feminino-ged-mossoro/
LOCATION:GED MOSSORÓ\, Mossoró\, Rio Grande do Norte\, Brasil
CATEGORIES:Cursilho
ORGANIZER;CN="Caroliny Carlos Cavalcanti de Lira":MAILTO:gedmossoro@gmail.com
END:VEVENT
BEGIN:VEVENT
DTSTART;VALUE=DATE:20250717
DTEND;VALUE=DATE:20250721
DTSTAMP:20260422T080024
CREATED:20250612T120925Z
LAST-MODIFIED:20250612T120925Z
UID:63709-1752710400-1753055999@www.cursilho.org.br
SUMMARY:17/07 - 18º CURSILHO MASCULINO - GED PALMEIRA DOS INDIOS
DESCRIPTION:
URL:https://www.cursilho.org.br/event/17-07-18o-cursilho-masculino-ged-palmeira-dos-indios/
LOCATION:GED PALMEIRA DOS ÍNDIOS\, Praça Mons. Macedo\, 190\,\, Palmeira dos Índios\, AL\, Brazil
CATEGORIES:Cursilho
ORGANIZER;CN="THIAGO SILVER LIRA":MAILTO:cursilhodelmirogouveia@outlook.com
END:VEVENT
BEGIN:VEVENT
DTSTART;VALUE=DATE:20250717
DTEND;VALUE=DATE:20250721
DTSTAMP:20260422T080024
CREATED:20250610T122943Z
LAST-MODIFIED:20250610T122943Z
UID:63693-1752710400-1753055999@www.cursilho.org.br
SUMMARY:17/07 - 10º CURSILHO FEMININO - GED SÃO MATEUS
DESCRIPTION:
URL:https://www.cursilho.org.br/event/17-07-10o-cursilho-feminino-ged-sao-mateus/
LOCATION:GED SÃO MATEUS ES\, Av. João XXIII\, 410\, São Mateus- ES\, ESPIRITO SANTOS\, 29930-420\, Brasil
CATEGORIES:Cursilho
ORGANIZER;CN="RACHEL MORAES BARBOSA CREMASCO":MAILTO:ged.saomateus@gmail.com
END:VEVENT
BEGIN:VEVENT
DTSTART;VALUE=DATE:20250717
DTEND;VALUE=DATE:20250721
DTSTAMP:20260422T080024
CREATED:20250603T134002Z
LAST-MODIFIED:20250603T134002Z
UID:63674-1752710400-1753055999@www.cursilho.org.br
SUMMARY:17/07 - 16º CURSILHO MASCULINO - GED CARUARU
DESCRIPTION:
URL:https://www.cursilho.org.br/event/17-07-16o-cursilho-masculino-ged-caruaru/
LOCATION:GED CARUARU\, Cúria Diocesana Rua Silveira Mar􀆟ns\, 367 Petrópolis\, Caruaru-PE\, PERNAMBUCO\, 3046-5062\, Brazil
CATEGORIES:Cursilho
ORGANIZER;CN="Katia Cilene Silva Climaco":MAILTO:katiaclimaco@hotmail.com
END:VEVENT
BEGIN:VEVENT
DTSTART;VALUE=DATE:20250717
DTEND;VALUE=DATE:20250721
DTSTAMP:20260422T080024
CREATED:20250512T141518Z
LAST-MODIFIED:20250512T141518Z
UID:63599-1752710400-1753055999@www.cursilho.org.br
SUMMARY:10° CURSILHO MISTO PARA JOVENS - GED TOLEDO
DESCRIPTION:
URL:https://www.cursilho.org.br/event/10-cursilho-misto-para-jovens-ged-toledo/
LOCATION:GED TOLEDO\, R. Gen. Rondon\, 2006 - Jardim La Salle\, Toledo - PR\, 85901-160\, Brasil
CATEGORIES:Cursilho
ORGANIZER;CN="Laura Ricarda Ebeling Lautert":MAILTO:laurarebeling95@gmai.com
END:VEVENT
BEGIN:VEVENT
DTSTART;VALUE=DATE:20250717
DTEND;VALUE=DATE:20250721
DTSTAMP:20260422T080024
CREATED:20250424T122647Z
LAST-MODIFIED:20250424T122647Z
UID:63529-1752710400-1753055999@www.cursilho.org.br
SUMMARY:17/07 - 7ª CURSILHO MISTO PARA JOVENS - GED DIOCESE PRIMAVERA DO LESTE-PARANATINGA
DESCRIPTION:
URL:https://www.cursilho.org.br/event/17-07-7a-cursilho-misto-para-jovens-ged-diocese-primavera-do-leste-paranatinga/
LOCATION:Primavera do Leste/Paranatinga\, São João\, nº 440\, Centro\, 78850-000\, Brasil
CATEGORIES:Cursilho
ORGANIZER;CN="Valdeir Almeida":MAILTO:gedprimaveradolesteparanatinga@gmail.com
END:VEVENT
BEGIN:VEVENT
DTSTART;VALUE=DATE:20250716
DTEND;VALUE=DATE:20250720
DTSTAMP:20260422T080024
CREATED:20250623T173334Z
LAST-MODIFIED:20250623T173334Z
UID:63750-1752624000-1752969599@www.cursilho.org.br
SUMMARY:16/07 - 106º CURSILHO MASCULINO DE JOVENS E ADULTOS - GED DE LINS
DESCRIPTION:
URL:https://www.cursilho.org.br/event/16-07-106o-cursilho-masculino-de-jovens-e-adultos-ged-de-lins/
LOCATION:GED LINS\, Rua 9 de Julho\, 1010 - Centro\, Centro\, Lins - SP\, SÃO PAULO\, 16400-110\, Brasil
CATEGORIES:Cursilho
ORGANIZER;CN="ANA MARIA GAROFANO DOS SANTOS":MAILTO:ana.garofano@gmail.com
END:VEVENT
BEGIN:VEVENT
DTSTART;VALUE=DATE:20250710
DTEND;VALUE=DATE:20250714
DTSTAMP:20260422T080024
CREATED:20250707T130941Z
LAST-MODIFIED:20250707T130941Z
UID:63779-1752105600-1752451199@www.cursilho.org.br
SUMMARY:10/07 - 85º CURSILHO MASCULINO - GED GUARAPUAVA
DESCRIPTION:
URL:https://www.cursilho.org.br/event/10-07-85o-cursilho-masculino-ged-guarapuava/
LOCATION:GED GUARAPUAVA\, Avenida Presidente Getúlio Vargas\, nº 170 - Centro\, Pitanga\, Paraná\, 85200-000\, Brasil
CATEGORIES:Cursilho
ORGANIZER;CN="Rosana Bida":MAILTO:rosanabida@gmail.com
END:VEVENT
BEGIN:VEVENT
DTSTART;VALUE=DATE:20250710
DTEND;VALUE=DATE:20250714
DTSTAMP:20260422T080024
CREATED:20250528T172210Z
LAST-MODIFIED:20250528T172210Z
UID:63669-1752105600-1752451199@www.cursilho.org.br
SUMMARY:10/07 - 41° CURSILHO FEMININO - GED LAGARTO
DESCRIPTION:
URL:https://www.cursilho.org.br/event/10-07-41-cursilho-feminino-ged-lagarto/
LOCATION:GED LAGARTO\, Rua José Antônio de Vasconcelos\, Bairro São José\, Lagarto\, Lagarto\, SERGIPE\, 49400-000\, Brazil
CATEGORIES:Cursilho
ORGANIZER;CN="LAYSA VICTORIA DANTAS DOS SANTOS":MAILTO:Laysa353@gmail.com
END:VEVENT
BEGIN:VEVENT
DTSTART;VALUE=DATE:20250704
DTEND;VALUE=DATE:20250707
DTSTAMP:20260422T080024
CREATED:20250616T140153Z
LAST-MODIFIED:20250616T140153Z
UID:63723-1751587200-1751846399@www.cursilho.org.br
SUMMARY:04/07 - 22° CURSILHO MISTO DE SÃO MIGUEL DOS CAMPOS - GED PENEDO
DESCRIPTION:
URL:https://www.cursilho.org.br/event/04-07-22-cursilho-misto-de-sao-miguel-dos-campos-ged-penedo/
LOCATION:GED PENEDO\, Rua Siqueira Campos\, 187 - Centro\, Penedo\, PENEDO\, ALAGOAS\, 57200-000\, Brazil
CATEGORIES:Cursilho
ORGANIZER;CN="Felipe Roberto Tavares":MAILTO:felipe.r2016@hotmail.com
END:VEVENT
BEGIN:VEVENT
DTSTART;VALUE=DATE:20250704
DTEND;VALUE=DATE:20250707
DTSTAMP:20260422T080024
CREATED:20250227T134640Z
LAST-MODIFIED:20250227T134640Z
UID:63326-1751587200-1751846399@www.cursilho.org.br
SUMMARY:04/07 - 9° CURSILHO JOVEM FEMININO - GED CAÇADOR
DESCRIPTION:
URL:https://www.cursilho.org.br/event/04-07-9-cursilho-jovem-feminino-ged-cacador/
LOCATION:Ged Caçador\, R. 7 de Setembro\, 120 - Centro\, Caçador - SC\, 89500-000\, Brasil
CATEGORIES:Cursilho
ORGANIZER;CN="Taynara Augusto":MAILTO:augtaynara@icloud.com
END:VEVENT
BEGIN:VEVENT
DTSTART;VALUE=DATE:20250703
DTEND;VALUE=DATE:20250707
DTSTAMP:20260422T080024
CREATED:20250512T134936Z
LAST-MODIFIED:20250512T134936Z
UID:63591-1751500800-1751846399@www.cursilho.org.br
SUMMARY:262º CURSILHO PARA HOMENS - GED FLORIANÓPOLIS
DESCRIPTION:
URL:https://www.cursilho.org.br/event/262o-cursilho-para-homens-ged-florianopolis/
LOCATION:GED FLORIANÓPOLIS\, R. Esteves Júnior\, 447\, Centro\, Florianópolis\, 88015-130\, Brasil
CATEGORIES:Cursilho
END:VEVENT
BEGIN:VEVENT
DTSTART;VALUE=DATE:20250701
DTEND;VALUE=DATE:20250702
DTSTAMP:20260422T080024
CREATED:20250701T120311Z
LAST-MODIFIED:20250701T120311Z
UID:63760-1751328000-1751414399@www.cursilho.org.br
SUMMARY:18/07 - 8° CURSILHO FEMININO PARA JOVENS - GED OURINHOS
DESCRIPTION:
URL:https://www.cursilho.org.br/event/18-07-8-cursilho-feminino-para-jovens-ged-ourinhos/
LOCATION:GED OURINHOS\, R. Arlíndo Luz\, 446 - Centro\, Ourinhos - SP\, SÃO PAULO\, 19900-011\, Brasil
CATEGORIES:Cursilho
ORGANIZER;CN="Fabio Henrique":MAILTO:fabiohenrique.edinho@gmail.com
END:VEVENT
BEGIN:VEVENT
DTSTART;VALUE=DATE:20250627
DTEND;VALUE=DATE:20250630
DTSTAMP:20260422T080024
CREATED:20250623T140909Z
LAST-MODIFIED:20250623T140909Z
UID:63736-1750982400-1751241599@www.cursilho.org.br
SUMMARY:27/06 - 219º CURSILHO MASCULINO -GED TAUBATÉ
DESCRIPTION:
URL:https://www.cursilho.org.br/event/27-06-219o-cursilho-masculino-ged-taubate/
LOCATION:GED TAUBATÉ\, Rua Maria Basso Monteiro s/n\, Taubaté\, SP\, Brasil\, SÃO PAULO\, Brasil
CATEGORIES:Cursilho
ORGANIZER;CN="Bruna Andrade Pereira":MAILTO:bruna_a_pereira@hotmail.com
END:VEVENT
BEGIN:VEVENT
DTSTART;VALUE=DATE:20250627
DTEND;VALUE=DATE:20250630
DTSTAMP:20260422T080024
CREATED:20250618T130110Z
LAST-MODIFIED:20250618T130112Z
UID:63727-1750982400-1751241599@www.cursilho.org.br
SUMMARY:27/06 - 199° CURSILHO PARA JOVENS - MASCULINO - GED MARINGÁ-PR
DESCRIPTION:
URL:https://www.cursilho.org.br/event/27-06-199-cursilho-para-jovens-masculino-ged-maringa-pr/
LOCATION:GED MARINGÁ\, Av. Tiradentes\, 740 - Zona 1\, Maringá – PR\, 87.001-97(44) 3227-17060\, Brasil
CATEGORIES:Cursilho
ORGANIZER;CN="Junior Piancol":MAILTO:alavancasmaringa@gmail.com
END:VEVENT
BEGIN:VEVENT
DTSTART;VALUE=DATE:20250627
DTEND;VALUE=DATE:20250630
DTSTAMP:20260422T080024
CREATED:20250612T121150Z
LAST-MODIFIED:20250612T121150Z
UID:63714-1750982400-1751241599@www.cursilho.org.br
SUMMARY:27/06 - 52º CURSILHO MASCULINO - GED PETRÓPOLIS
DESCRIPTION:
URL:https://www.cursilho.org.br/event/27-06-52o-cursilho-masculino-ged-petropolis/
LOCATION:GED PETROPOLIS\, Avenida Simao da Mota\, 256\, Centro\, Mage - RJ\, RIO DE JANEIRO\, 25.900-001.\, Brasil
CATEGORIES:Cursilho
ORGANIZER;CN="Victor Hugo Guimaraes Barbosa":MAILTO:vh_barbosa@hotmail.com
END:VEVENT
BEGIN:VEVENT
DTSTART;VALUE=DATE:20250627
DTEND;VALUE=DATE:20250630
DTSTAMP:20260422T080024
CREATED:20250603T134339Z
LAST-MODIFIED:20250603T134339Z
UID:63680-1750982400-1751241599@www.cursilho.org.br
SUMMARY:27/06 - 76° CURSILHO MASCULINO - GED OURINHOS
DESCRIPTION:
URL:https://www.cursilho.org.br/event/27-06-76-cursilho-masculino-ged-ourinhos/
LOCATION:GED OURINHOS\, R. Arlíndo Luz\, 446 - Centro\, Ourinhos - SP\, SÃO PAULO\, 19900-011\, Brasil
CATEGORIES:Cursilho
ORGANIZER;CN="Fabio Henrique da Silva":MAILTO:fabiohenrique.edinho@gmail.com
END:VEVENT
BEGIN:VEVENT
DTSTART;VALUE=DATE:20250627
DTEND;VALUE=DATE:20250630
DTSTAMP:20260422T080024
CREATED:20250409T124826Z
LAST-MODIFIED:20250409T124826Z
UID:63493-1750982400-1751241599@www.cursilho.org.br
SUMMARY:27/06 - 170º CURSILHO MASCULINO - GED CAXIAS DO SUL
DESCRIPTION:
URL:https://www.cursilho.org.br/event/27-06-170o-cursilho-masculino-ged-caxias-do-sul/
LOCATION:CAXIAS DO SUL
CATEGORIES:Cursilho
ORGANIZER;CN="Rudimar Leopoldo Da S. Becker":MAILTO:rudibecker@retificadoracaxiense.com.br
END:VEVENT
BEGIN:VEVENT
DTSTART;VALUE=DATE:20250626
DTEND;VALUE=DATE:20250630
DTSTAMP:20260422T080024
CREATED:20250623T141345Z
LAST-MODIFIED:20250623T141345Z
UID:63742-1750896000-1751241599@www.cursilho.org.br
SUMMARY:26/09 - 261º CURSILHO MASCULINO ADULTO - GED FLORIANÓPOLIS
DESCRIPTION:
URL:https://www.cursilho.org.br/event/26-09-261o-cursilho-masculino-adulto-ged-florianopolis/
LOCATION:GED FLORIANÓPOLIS\, R. Esteves Júnior\, 447\, Centro\, Florianópolis\, 88015-130\, Brasil
CATEGORIES:Cursilho
ORGANIZER;CN="Valdomiro da Silva Cardoso":MAILTO:cursilhofloripa@gmail.com
END:VEVENT
BEGIN:VEVENT
DTSTART;VALUE=DATE:20250626
DTEND;VALUE=DATE:20250630
DTSTAMP:20260422T080024
CREATED:20250512T134743Z
LAST-MODIFIED:20250512T134743Z
UID:63589-1750896000-1751241599@www.cursilho.org.br
SUMMARY:259º CURSILHO PARA MULHERES - GED FLORIANÓPOLIS
DESCRIPTION:
URL:https://www.cursilho.org.br/event/259o-cursilho-para-mulheres-ged-florianopolis/
LOCATION:GED FLORIANÓPOLIS\, R. Esteves Júnior\, 447\, Centro\, Florianópolis\, 88015-130\, Brasil
CATEGORIES:Cursilho
ORGANIZER;CN="Claudinei Bussolo":MAILTO:claudineibussolo@outlook.com
END:VEVENT
BEGIN:VEVENT
DTSTART;VALUE=DATE:20250620
DTEND;VALUE=DATE:20250623
DTSTAMP:20260422T080024
CREATED:20250512T141121Z
LAST-MODIFIED:20250512T141121Z
UID:63593-1750377600-1750636799@www.cursilho.org.br
SUMMARY:17º CURSILHO MISTO PARA JOVENS - DIOCESE DE URUGUAIANA
DESCRIPTION:
URL:https://www.cursilho.org.br/event/17o-cursilho-misto-para-jovens-diocese-de-uruguaiana/
LOCATION:DIOCESE DE URUGUAIANA\, R. Santana\, 2612\, Centro\, Uruguaiana - RS\, 97510-471\, Brasil
CATEGORIES:Cursilho
ORGANIZER;CN="Leonardo Machado Pereira":MAILTO:gedsantiago@gmail.com
END:VEVENT
BEGIN:VEVENT
DTSTART;VALUE=DATE:20250613
DTEND;VALUE=DATE:20250616
DTSTAMP:20260422T080024
CREATED:20250227T134535Z
LAST-MODIFIED:20250227T134535Z
UID:63324-1749772800-1750031999@www.cursilho.org.br
SUMMARY:13/06 - 9° CURSILHO JOVEM MASCULINO - GED CAÇADOR
DESCRIPTION:
URL:https://www.cursilho.org.br/event/13-06-9-cursilho-jovem-masculino-ged-cacador/
LOCATION:Ged Caçador\, R. 7 de Setembro\, 120 - Centro\, Caçador - SC\, 89500-000\, Brasil
CATEGORIES:Cursilho
ORGANIZER;CN="Taynara Augusto":MAILTO:augtaynara@icloud.com
END:VEVENT
BEGIN:VEVENT
DTSTART;VALUE=DATE:20250612
DTEND;VALUE=DATE:20250616
DTSTAMP:20260422T080024
CREATED:20250113T172522Z
LAST-MODIFIED:20250113T172536Z
UID:63187-1749686400-1750031999@www.cursilho.org.br
SUMMARY:12/06 - 117º CURSILHO FEMININO DA ARQUIDIOCESE DE CUIABÁ - GED CUIABÁ
DESCRIPTION:
URL:https://www.cursilho.org.br/event/12-06-117o-cursilho-feminino-da-arquidiocese-de-cuiaba-egd/
LOCATION:GED CUIABÁ\, Av. Fernando Corrêa da Costa\, 3342 - Jardim Shangri-lá\, Cuiabá\, Mato Grosso\, 78070-001\, Brasil
CATEGORIES:Cursilho
ORGANIZER;CN="LEONARDO AFONSO MENDES":MAILTO:cursilhocuiaba@gmail.com
END:VEVENT
END:VCALENDAR