BEGIN:VCALENDAR
VERSION:2.0
PRODID:-//MCC do Brasil - ECPv6.15.11//NONSGML v1.0//EN
CALSCALE:GREGORIAN
METHOD:PUBLISH
X-ORIGINAL-URL:https://www.cursilho.org.br
X-WR-CALDESC:Eventos para MCC do Brasil
REFRESH-INTERVAL;VALUE=DURATION:PT1H
X-Robots-Tag:noindex
X-PUBLISHED-TTL:PT1H
BEGIN:VTIMEZONE
TZID:America/Sao_Paulo
BEGIN:STANDARD
TZOFFSETFROM:-0300
TZOFFSETTO:-0300
TZNAME:-03
DTSTART:20240101T000000
END:STANDARD
END:VTIMEZONE
BEGIN:VEVENT
DTSTART;VALUE=DATE:20250801
DTEND;VALUE=DATE:20250804
DTSTAMP:20260422T043806
CREATED:20250618T130341Z
LAST-MODIFIED:20250618T130342Z
UID:63729-1754006400-1754265599@www.cursilho.org.br
SUMMARY:01/08 - 199° CURSILHO PARA JOVENS - FEMININO - GED MARINGÁ-PR
DESCRIPTION:
URL:https://www.cursilho.org.br/event/01-08-199-cursilho-para-jovens-feminino-ged-maringa-pr/
LOCATION:GED MARINGÁ\, Av. Tiradentes\, 740 - Zona 1\, Maringá – PR\, 87.001-97(44) 3227-17060\, Brasil
CATEGORIES:Cursilho
ORGANIZER;CN="Junior Piancol":MAILTO:alavancasmaringa@gmail.com
END:VEVENT
BEGIN:VEVENT
DTSTART;VALUE=DATE:20250801
DTEND;VALUE=DATE:20250804
DTSTAMP:20260422T043806
CREATED:20250527T131329Z
LAST-MODIFIED:20250527T131329Z
UID:63664-1754006400-1754265599@www.cursilho.org.br
SUMMARY:01/08 - 17º CURSILHO PARA JOVENS FEMININO - GED GUAXUPÉ
DESCRIPTION:
URL:https://www.cursilho.org.br/event/01-08-17o-cursilho-para-jovens-feminino-ged-guaxupe/
LOCATION:GED GUAXUPÉ\, R. Francisco Ribeiro do Valle\, 242\, Guaxupé - MG\, Minas Gerais\, 37800-000\, Brasil
CATEGORIES:Cursilho
ORGANIZER;CN="Mariana Cristina Alves Paulino":MAILTO:maryaraujo17@hotmail.com
END:VEVENT
BEGIN:VEVENT
DTSTART;VALUE=DATE:20250801
DTEND;VALUE=DATE:20250804
DTSTAMP:20260422T043806
CREATED:20250520T144025Z
LAST-MODIFIED:20250520T144025Z
UID:63644-1754006400-1754265599@www.cursilho.org.br
SUMMARY:01/08 - 17º CURSILHO JOVEM FEMININO - GED GUAXUPÉ
DESCRIPTION:
URL:https://www.cursilho.org.br/event/01-08-17o-cursilho-jovem-feminino-ged-guaxupe/
LOCATION:GED GUAXUPÉ\, R. Francisco Ribeiro do Valle\, 242\, Guaxupé - MG\, Minas Gerais\, 37800-000\, Brasil
CATEGORIES:Cursilho
ORGANIZER;CN="JOAQUIM CANDIDO DE AVELAR FILHO":MAILTO:quinzinhoavelar@yahoo.com.br
END:VEVENT
BEGIN:VEVENT
DTSTART;VALUE=DATE:20250731
DTEND;VALUE=DATE:20250804
DTSTAMP:20260422T043806
CREATED:20250721T124018Z
LAST-MODIFIED:20250721T124018Z
UID:63821-1753920000-1754265599@www.cursilho.org.br
SUMMARY:31/07 - 42º CURSILHO PARA JOVENS FEMININO - GED FLORIANÓPOLIS
DESCRIPTION:
URL:https://www.cursilho.org.br/event/31-07-42o-cursilho-para-jovens-feminino-ged-florianopolis/
LOCATION:GED FLORIANÓPOLIS\, R. Esteves Júnior\, 447\, Centro\, Florianópolis\, 88015-130\, Brasil
CATEGORIES:Cursilho
ORGANIZER;CN="Elly Regina da Silva":MAILTO:ellyregyna@gmail.com
END:VEVENT
BEGIN:VEVENT
DTSTART;VALUE=DATE:20250731
DTEND;VALUE=DATE:20250804
DTSTAMP:20260422T043806
CREATED:20250612T121455Z
LAST-MODIFIED:20250612T121455Z
UID:63719-1753920000-1754265599@www.cursilho.org.br
SUMMARY:31/07 - 74º CURSILHO FEMININO - GED RIO DO SUL
DESCRIPTION:
URL:https://www.cursilho.org.br/event/31-07-74o-cursilho-feminino-ged-rio-do-sul/
LOCATION:GED RIO DO SUL – SC\, Rio do Oeste\, Santa Catarina
CATEGORIES:Cursilho
ORGANIZER;CN="LEOCADIO MENEGHELLI":MAILTO:leocadio@unidavi.edu.br
END:VEVENT
BEGIN:VEVENT
DTSTART;VALUE=DATE:20250725
DTEND;VALUE=DATE:20250728
DTSTAMP:20260422T043806
CREATED:20250721T124305Z
LAST-MODIFIED:20250721T124305Z
UID:63824-1753401600-1753660799@www.cursilho.org.br
SUMMARY:25/07 - 19º  CURSILHO MISTO PARA JOVENS - GED JABOTICABAL
DESCRIPTION:
URL:https://www.cursilho.org.br/event/25-07-19o-cursilho-misto-para-jovens-ged-jaboticabal/
LOCATION:GED JABOTICABAL\, Endereço: Rua Tibiriçá\, 879 Centro\, Ribeirão Preto – SP\, 14010-090\, Brasil
CATEGORIES:Cursilho
ORGANIZER;CN="Sergio Luiz de Souza":MAILTO:sergio_luiz@outlook.com
END:VEVENT
BEGIN:VEVENT
DTSTART;VALUE=DATE:20250725
DTEND;VALUE=DATE:20250728
DTSTAMP:20260422T043806
CREATED:20250711T122415Z
LAST-MODIFIED:20250711T122415Z
UID:63788-1753401600-1753660799@www.cursilho.org.br
SUMMARY:25/07 - 182º CURSILHO DE HOMENS - GED PORTO ALEGRE
DESCRIPTION:
URL:https://www.cursilho.org.br/event/25-07-182o-cursilho-de-homens-ged-porto-alegre/
LOCATION:GED PORTO ALEGRE\, Rua Espírito Santo\, 95\, Porto Alegre | RS\, 90010-370\, Brasil
CATEGORIES:Cursilho
ORGANIZER;CN="JACSON VIEIRA PORTO":MAILTO:jvieiraporto@gmail.com
END:VEVENT
BEGIN:VEVENT
DTSTART;VALUE=DATE:20250725
DTEND;VALUE=DATE:20250728
DTSTAMP:20260422T043806
CREATED:20250526T150616Z
LAST-MODIFIED:20250526T150616Z
UID:63651-1753401600-1753660799@www.cursilho.org.br
SUMMARY:25/07 - 150º CURSILHO MASCULINO - GED NOVA IGUAÇU
DESCRIPTION:
URL:https://www.cursilho.org.br/event/25-07-150o-cursilho-masculino-ged-nova-iguacu/
LOCATION:GED NOVA IGUAÇU\, Rua Dom Adriano Hipolito\, 8 - Moquetá\, Nova Iguaçu\, RIO DE JANEIRO\, 26215-090\, Brazil
CATEGORIES:Cursilho
ORGANIZER;CN="VILMA MARQUES DA SILVA":MAILTO:alavancascursilho.ni@gmail.com
END:VEVENT
BEGIN:VEVENT
DTSTART;VALUE=DATE:20250725
DTEND;VALUE=DATE:20250728
DTSTAMP:20260422T043806
CREATED:20250520T143910Z
LAST-MODIFIED:20250520T143910Z
UID:63642-1753401600-1753660799@www.cursilho.org.br
SUMMARY:25/07 - 17º CURSILHO JOVEM MASCULINO - GED GUAXUPÉ
DESCRIPTION:
URL:https://www.cursilho.org.br/event/25-07-17o-cursilho-jovem-masculino-ged-guaxupe/
LOCATION:GED GUAXUPÉ\, R. Francisco Ribeiro do Valle\, 242\, Guaxupé - MG\, Minas Gerais\, 37800-000\, Brasil
CATEGORIES:Cursilho
ORGANIZER;CN="JOAQUIM CANDIDO DE AVELAR FILHO":MAILTO:quinzinhoavelar@yahoo.com.br
END:VEVENT
BEGIN:VEVENT
DTSTART;VALUE=DATE:20250725
DTEND;VALUE=DATE:20250728
DTSTAMP:20260422T043806
CREATED:20250512T141346Z
LAST-MODIFIED:20250512T141346Z
UID:63597-1753401600-1753660799@www.cursilho.org.br
SUMMARY:42° CURSILHO PARA MULHERES - DIOCESE DE URUGUAIANA
DESCRIPTION:
URL:https://www.cursilho.org.br/event/42-cursilho-para-mulheres-diocese-de-uruguaiana/
LOCATION:DIOCESE DE URUGUAIANA\, R. Santana\, 2612\, Centro\, Uruguaiana - RS\, 97510-471\, Brasil
CATEGORIES:Cursilho
ORGANIZER;CN="Leonardo Machado Pereira":MAILTO:gedsantiago@gmail.com
END:VEVENT
BEGIN:VEVENT
DTSTART;VALUE=DATE:20250725
DTEND;VALUE=DATE:20250728
DTSTAMP:20260422T043806
CREATED:20250203T180527Z
LAST-MODIFIED:20250203T180540Z
UID:63234-1753401600-1753660799@www.cursilho.org.br
SUMMARY:25/07 - 3º CURSILHO PARA JOVENS - GED JUNDIAÍ
DESCRIPTION:
URL:https://www.cursilho.org.br/event/25-07-3o-cursilho-para-jovens-ged-jundiai/
LOCATION:SÃO PAULO
CATEGORIES:Cursilho
END:VEVENT
BEGIN:VEVENT
DTSTART;VALUE=DATE:20250724
DTEND;VALUE=DATE:20250728
DTSTAMP:20260422T043806
CREATED:20250716T123232Z
LAST-MODIFIED:20250716T123232Z
UID:63812-1753315200-1753660799@www.cursilho.org.br
SUMMARY:24/07 - 43° CURSILHO MASCULINO PARA JOVENS - GED FLORIANÓPOLIS
DESCRIPTION:
URL:https://www.cursilho.org.br/event/24-07-43-cursilho-masculino-para-jovens-ged-florianopolis/
LOCATION:GED FLORIANÓPOLIS\, R. Esteves Júnior\, 447\, Centro\, Florianópolis\, 88015-130\, Brasil
CATEGORIES:Cursilho
ORGANIZER;CN="Algemiro Ambrosi Junior":MAILTO:algemiroambrosi@hotmail.com
END:VEVENT
BEGIN:VEVENT
DTSTART;VALUE=DATE:20250724
DTEND;VALUE=DATE:20250728
DTSTAMP:20260422T043806
CREATED:20250612T121322Z
LAST-MODIFIED:20250612T121322Z
UID:63717-1753315200-1753660799@www.cursilho.org.br
SUMMARY:24/07 - 76º CURSILHO MASCULINO - GED RIO DO SUL
DESCRIPTION:
URL:https://www.cursilho.org.br/event/24-07-76o-cursilho-masculino-ged-rio-do-sul/
LOCATION:GED RIO DO SUL – SC\, Rio do Oeste\, Santa Catarina
CATEGORIES:Cursilho
ORGANIZER;CN="LEOCADIO MENEGHELLI":MAILTO:leocadio@unidavi.edu.br
END:VEVENT
BEGIN:VEVENT
DTSTART;VALUE=DATE:20250724
DTEND;VALUE=DATE:20250728
DTSTAMP:20260422T043806
CREATED:20250612T121034Z
LAST-MODIFIED:20250612T121034Z
UID:63712-1753315200-1753660799@www.cursilho.org.br
SUMMARY:24/07 - 18º CURSILHO FEMININO - GED PALMEIRA DOS INDIOS
DESCRIPTION:
URL:https://www.cursilho.org.br/event/24-07-18o-cursilho-feminino-ged-palmeira-dos-indios/
LOCATION:GED PALMEIRA DOS ÍNDIOS\, Praça Mons. Macedo\, 190\,\, Palmeira dos Índios\, AL\, Brazil
CATEGORIES:Cursilho
ORGANIZER;CN="THIAGO SILVER LIRA":MAILTO:cursilhodelmirogouveia@outlook.com
END:VEVENT
BEGIN:VEVENT
DTSTART;VALUE=DATE:20250724
DTEND;VALUE=DATE:20250728
DTSTAMP:20260422T043806
CREATED:20250603T134149Z
LAST-MODIFIED:20250603T134149Z
UID:63678-1753315200-1753660799@www.cursilho.org.br
SUMMARY:24/07 - 16º CURSILHO FEMININO - GED CARUARU
DESCRIPTION:
URL:https://www.cursilho.org.br/event/24-07-16o-cursilho-feminino-ged-caruaru/
LOCATION:GED CARUARU\, Cúria Diocesana Rua Silveira Mar􀆟ns\, 367 Petrópolis\, Caruaru-PE\, PERNAMBUCO\, 3046-5062\, Brazil
CATEGORIES:Cursilho
ORGANIZER;CN="Katia Cilene Silva Climaco":MAILTO:katiaclimaco@hotmail.com
END:VEVENT
BEGIN:VEVENT
DTSTART;VALUE=DATE:20250724
DTEND;VALUE=DATE:20250728
DTSTAMP:20260422T043806
CREATED:20250113T172959Z
LAST-MODIFIED:20250113T172959Z
UID:63194-1753315200-1753660799@www.cursilho.org.br
SUMMARY:24/07 -  28º CURSILHO PARA JOVENS DA ARQUIDIOCESE DE CUIABÁ - GED CUIABÁ
DESCRIPTION:
URL:https://www.cursilho.org.br/event/24-07-28o-cursilho-para-jovens-da-arquidiocese-de-cuiaba-ged-cuiaba/
LOCATION:GED CUIABÁ\, Av. Fernando Corrêa da Costa\, 3342 - Jardim Shangri-lá\, Cuiabá\, Mato Grosso\, 78070-001\, Brasil
CATEGORIES:Cursilho
ORGANIZER;CN="LEONARDO AFONSO MENDES":MAILTO:cursilhocuiaba@gmail.com
END:VEVENT
BEGIN:VEVENT
DTSTART;VALUE=DATE:20250723
DTEND;VALUE=DATE:20250727
DTSTAMP:20260422T043806
CREATED:20250623T172831Z
LAST-MODIFIED:20250623T172831Z
UID:63748-1753228800-1753574399@www.cursilho.org.br
SUMMARY:23/07 - 102º CURSILHO FEMININO DE JOVENS E ADULTOS - GED DE LINS
DESCRIPTION:
URL:https://www.cursilho.org.br/event/23-07-102o-cursilho-feminino-de-jovens-e-adultos-ged-de-lins/
LOCATION:GED LINS\, Rua 9 de Julho\, 1010 - Centro\, Centro\, Lins - SP\, SÃO PAULO\, 16400-110\, Brasil
CATEGORIES:Cursilho
ORGANIZER;CN="ANA MARIA GAROFANO DOS SANTOS":MAILTO:ana.garofano@gmail.com
END:VEVENT
BEGIN:VEVENT
DTSTART;VALUE=DATE:20250718
DTEND;VALUE=DATE:20250721
DTSTAMP:20260422T043806
CREATED:20250715T141037Z
LAST-MODIFIED:20250715T141056Z
UID:63794-1752796800-1753055999@www.cursilho.org.br
SUMMARY:18/07 - 13º CURSILHO MISTO PARA JOVENS DA DIOCESE DA CAMPANHA - MG
DESCRIPTION:
URL:https://www.cursilho.org.br/event/18-07-13o-cursilho-misto-para-jovens-da-diocese-da-campanha-mg/
LOCATION:GED DA CAMPANHA-MG\, R. Maestro Pompeu\, 150 - Centro\, Campanha\, minas gerais\, 37400-000\, Brazil
CATEGORIES:Cursilho
ORGANIZER;CN="Joelma De Paula Silva Machado":MAILTO:joelma_ged@yahoo.com
END:VEVENT
BEGIN:VEVENT
DTSTART;VALUE=DATE:20250718
DTEND;VALUE=DATE:20250721
DTSTAMP:20260422T043806
CREATED:20250707T130816Z
LAST-MODIFIED:20250707T130816Z
UID:63776-1752796800-1753055999@www.cursilho.org.br
SUMMARY:18/07 - 24º CURSILHO MISTO PARA JOVENS - GED FOZ DO IGUAÇU
DESCRIPTION:
URL:https://www.cursilho.org.br/event/18-07-24o-cursilho-misto-para-jovens-ged-foz-do-iguacu/
LOCATION:GED FOZ DO IGUAÇU\, Rua Patrulheiro Venanti Otremba\, nº 585\, Foz do Iguaçu\, PR\, 85852-020\, Brasil
CATEGORIES:Cursilho
ORGANIZER;CN="Gabriel Crestani":MAILTO:gabriel_crestani1@hotmail.com
END:VEVENT
BEGIN:VEVENT
DTSTART;VALUE=DATE:20250718
DTEND;VALUE=DATE:20250721
DTSTAMP:20260422T043806
CREATED:20250603T134626Z
LAST-MODIFIED:20250603T134626Z
UID:63682-1752796800-1753055999@www.cursilho.org.br
SUMMARY:18/07 - 22º CURSILHO PARA JOVENS - GED MACEIÓ
DESCRIPTION:
URL:https://www.cursilho.org.br/event/18-07-22o-cursilho-para-jovens-ged-maceio/
LOCATION:GED MACEIÓ\, R. Prof. Ângelo Neto\, 279 \, Farol\, Maceió\, Alagoas\, 57017-530\, Brasil
CATEGORIES:Cursilho
ORGANIZER;CN="LARISSA DE SOUZA MENDES":MAILTO:mcc.secretaria.mcz@gmail.com
END:VEVENT
BEGIN:VEVENT
DTSTART;VALUE=DATE:20250718
DTEND;VALUE=DATE:20250721
DTSTAMP:20260422T043806
CREATED:20250519T121235Z
LAST-MODIFIED:20250519T121235Z
UID:63627-1752796800-1753055999@www.cursilho.org.br
SUMMARY:18/07 - 117º CURSILHO MISTO PARA JOVENS - GED DE FRANCA
DESCRIPTION:
URL:https://www.cursilho.org.br/event/18-07-117o-cursilho-misto-para-jovens-ged-de-franca/
LOCATION:GED FRANCA\, São Joaquim da Barra\, São Paulo\, Brasil
CATEGORIES:Cursilho
ORGANIZER;CN="JO%C3%83O VITOR MEDEIROS DE OLIVEIRA":MAILTO:cursilhojovenssjb@gmai.com
END:VEVENT
BEGIN:VEVENT
DTSTART;VALUE=DATE:20250718
DTEND;VALUE=DATE:20250721
DTSTAMP:20260422T043806
CREATED:20250512T141225Z
LAST-MODIFIED:20250512T141225Z
UID:63595-1752796800-1753055999@www.cursilho.org.br
SUMMARY:42º CURSILHO PARA HOMENS - DIOCESE DE URUGUAIANA
DESCRIPTION:
URL:https://www.cursilho.org.br/event/42o-cursilho-para-homens-diocese-de-uruguaiana/
LOCATION:DIOCESE DE URUGUAIANA\, R. Santana\, 2612\, Centro\, Uruguaiana - RS\, 97510-471\, Brasil
CATEGORIES:Cursilho
ORGANIZER;CN="Leonardo Machado Pereira":MAILTO:gedsantiago@gmail.com
END:VEVENT
BEGIN:VEVENT
DTSTART;VALUE=DATE:20250718
DTEND;VALUE=DATE:20250721
DTSTAMP:20260422T043806
CREATED:20250402T145323Z
LAST-MODIFIED:20250402T145323Z
UID:63478-1752796800-1753055999@www.cursilho.org.br
SUMMARY:18/07 - 13º CURSILHO MISTO JOVEM  - GED DA CAMPANHA - MG
DESCRIPTION:
URL:https://www.cursilho.org.br/event/18-07-13o-cursilho-misto-jovem-ged-da-campanha-mg/
LOCATION:GED DA CAMPANHA-MG\, R. Maestro Pompeu\, 150 - Centro\, Campanha\, minas gerais\, 37400-000\, Brazil
CATEGORIES:Cursilho
ORGANIZER;CN="Joelma De Paula Silva Machado":MAILTO:joelma_ged@yahoo.com
END:VEVENT
BEGIN:VEVENT
DTSTART;VALUE=DATE:20250718
DTEND;VALUE=DATE:20250721
DTSTAMP:20260422T043806
CREATED:20250331T143140Z
LAST-MODIFIED:20250331T143140Z
UID:63454-1752796800-1753055999@www.cursilho.org.br
SUMMARY:18/07 - 11º CURSILHO PARA JOVENS - GED CRUZ ALTA
DESCRIPTION:
URL:https://www.cursilho.org.br/event/18-07-11o-cursilho-para-jovens-ged-cruz-alta/
LOCATION:CRUZ ALTA\, RS\, Av. Venâncio Aires\, 810 - Centro\, Cruz Alta\, Rio Grande do Sul\, 98005-120\, Brasil
CATEGORIES:Cursilho
ORGANIZER;CN="Rafael Ritterbusch":MAILTO:r.ritterbusch@hotmail.com
END:VEVENT
BEGIN:VEVENT
DTSTART;VALUE=DATE:20250718
DTEND;VALUE=DATE:20250720
DTSTAMP:20260422T043806
CREATED:20250626T125502Z
LAST-MODIFIED:20250626T125502Z
UID:63754-1752796800-1752969599@www.cursilho.org.br
SUMMARY:18/07 - 33º CURSILHO PARA JOVENS DA DIOCESE DE ILHÉUS - GED ILHÉUS
DESCRIPTION:
URL:https://www.cursilho.org.br/event/18-07-33o-cursilho-para-jovens-da-diocese-de-ilheus-ged-ilheus/
LOCATION:GED ILHEUS\, ILHÉUS\, Bahia
CATEGORIES:Cursilho
ORGANIZER;CN="H%C3%A9lio Pereira Passos Neto":MAILTO:robsonmagalhaesadv@gmail.com
END:VEVENT
BEGIN:VEVENT
DTSTART;VALUE=DATE:20250717
DTEND;VALUE=DATE:20250721
DTSTAMP:20260422T043806
CREATED:20250716T141615Z
LAST-MODIFIED:20250716T141615Z
UID:63814-1752710400-1753055999@www.cursilho.org.br
SUMMARY:17/07 - 40º CURSILHO JOVEM MASCULINO DA DIOCESE DIVINÓPOLIS - GED ITATIAIUÇU
DESCRIPTION:
URL:https://www.cursilho.org.br/event/17-07-40o-cursilho-jovem-masculino-da-diocese-divinopolis-ged-itatiaiucu/
LOCATION:GED ITATIAIUÇU\, Praça Antônio Quirino da Silva\, 07\, Centro\, Itatiaiuçu-MG\, MINAS GERAIS\, Brazil
CATEGORIES:Cursilho
ORGANIZER;CN="BRUNO HENRIQUE DOS SANTOS":MAILTO:brunoh_852@hotmail.com
END:VEVENT
BEGIN:VEVENT
DTSTART;VALUE=DATE:20250717
DTEND;VALUE=DATE:20250721
DTSTAMP:20260422T043806
CREATED:20250716T122656Z
LAST-MODIFIED:20250716T122717Z
UID:63810-1752710400-1753055999@www.cursilho.org.br
SUMMARY:17/07 - 41° CURSILHO FEMININO PARA JOVENS - GED FLORIANÓPOLIS
DESCRIPTION:
URL:https://www.cursilho.org.br/event/17-07-41-cursilho-feminino-para-jovens-ged-florianopolis/
LOCATION:GED FLORIANÓPOLIS\, R. Esteves Júnior\, 447\, Centro\, Florianópolis\, 88015-130\, Brasil
CATEGORIES:Cursilho
ORGANIZER;CN="Algemiro Ambrosi Junior":MAILTO:algemiroambrosi@hotmail.com
END:VEVENT
BEGIN:VEVENT
DTSTART;VALUE=DATE:20250717
DTEND;VALUE=DATE:20250721
DTSTAMP:20260422T043806
CREATED:20250623T153856Z
LAST-MODIFIED:20250623T153856Z
UID:63745-1752710400-1753055999@www.cursilho.org.br
SUMMARY:17/07 - 37º CURSILHO FEMININO - GED MOSSORÓ
DESCRIPTION:
URL:https://www.cursilho.org.br/event/17-07-37o-cursilho-feminino-ged-mossoro/
LOCATION:GED MOSSORÓ\, Mossoró\, Rio Grande do Norte\, Brasil
CATEGORIES:Cursilho
ORGANIZER;CN="Caroliny Carlos Cavalcanti de Lira":MAILTO:gedmossoro@gmail.com
END:VEVENT
BEGIN:VEVENT
DTSTART;VALUE=DATE:20250717
DTEND;VALUE=DATE:20250721
DTSTAMP:20260422T043806
CREATED:20250612T120925Z
LAST-MODIFIED:20250612T120925Z
UID:63709-1752710400-1753055999@www.cursilho.org.br
SUMMARY:17/07 - 18º CURSILHO MASCULINO - GED PALMEIRA DOS INDIOS
DESCRIPTION:
URL:https://www.cursilho.org.br/event/17-07-18o-cursilho-masculino-ged-palmeira-dos-indios/
LOCATION:GED PALMEIRA DOS ÍNDIOS\, Praça Mons. Macedo\, 190\,\, Palmeira dos Índios\, AL\, Brazil
CATEGORIES:Cursilho
ORGANIZER;CN="THIAGO SILVER LIRA":MAILTO:cursilhodelmirogouveia@outlook.com
END:VEVENT
BEGIN:VEVENT
DTSTART;VALUE=DATE:20250717
DTEND;VALUE=DATE:20250721
DTSTAMP:20260422T043806
CREATED:20250610T122943Z
LAST-MODIFIED:20250610T122943Z
UID:63693-1752710400-1753055999@www.cursilho.org.br
SUMMARY:17/07 - 10º CURSILHO FEMININO - GED SÃO MATEUS
DESCRIPTION:
URL:https://www.cursilho.org.br/event/17-07-10o-cursilho-feminino-ged-sao-mateus/
LOCATION:GED SÃO MATEUS ES\, Av. João XXIII\, 410\, São Mateus- ES\, ESPIRITO SANTOS\, 29930-420\, Brasil
CATEGORIES:Cursilho
ORGANIZER;CN="RACHEL MORAES BARBOSA CREMASCO":MAILTO:ged.saomateus@gmail.com
END:VEVENT
END:VCALENDAR