BEGIN:VCALENDAR
VERSION:2.0
PRODID:-//MCC do Brasil - ECPv6.15.11//NONSGML v1.0//EN
CALSCALE:GREGORIAN
METHOD:PUBLISH
X-WR-CALNAME:MCC do Brasil
X-ORIGINAL-URL:https://www.cursilho.org.br
X-WR-CALDESC:Eventos para MCC do Brasil
REFRESH-INTERVAL;VALUE=DURATION:PT1H
X-Robots-Tag:noindex
X-PUBLISHED-TTL:PT1H
BEGIN:VTIMEZONE
TZID:America/Sao_Paulo
BEGIN:STANDARD
TZOFFSETFROM:-0300
TZOFFSETTO:-0300
TZNAME:-03
DTSTART:20240101T000000
END:STANDARD
END:VTIMEZONE
BEGIN:VEVENT
DTSTART;VALUE=DATE:20250829
DTEND;VALUE=DATE:20250901
DTSTAMP:20260422T000001
CREATED:20250828T120737Z
LAST-MODIFIED:20250828T120737Z
UID:63944-1756425600-1756684799@www.cursilho.org.br
SUMMARY:29/08 - 3º CURSILHO MISTO DA ARQUIDIOCESE DE TERESINA - GED TERESINA
DESCRIPTION:
URL:https://www.cursilho.org.br/event/29-08-3o-cursilho-misto-da-arquidiocese-de-teresina-ged-teresina/
LOCATION:ARQUIDIOCESE DE TERESINA\, Av. Frei Serafim\, 3200 - Centro (Sul)\, Teresina - PI\, 64000-020
CATEGORIES:Cursilho
ORGANIZER;CN="LIANE MARINA COMASSETTO":MAILTO:etto.liane@gmail.com
END:VEVENT
BEGIN:VEVENT
DTSTART;VALUE=DATE:20250829
DTEND;VALUE=DATE:20250901
DTSTAMP:20260422T000001
CREATED:20250808T132801Z
LAST-MODIFIED:20250808T132801Z
UID:63891-1756425600-1756684799@www.cursilho.org.br
SUMMARY:29/08 - 122º CURSILHO DE HOMENS - GED PASSO FUNDO
DESCRIPTION:
URL:https://www.cursilho.org.br/event/29-08-122o-cursilho-de-homens-ged-passo-fundo/
LOCATION:CASA DE RETIROS – ARQUIDIOCESE DE PASSO FUNDO/RS\, R. Padre Nóbrega\, 486 - Vila Lucas Araujo\, Passo Fundo\, Rio Grande do Sul\, 99072-290\, Brasil
CATEGORIES:Cursilho
ORGANIZER;CN="DIRCEU ANTONIO MARINI":MAILTO:ged.passofundo@gmail.com
END:VEVENT
BEGIN:VEVENT
DTSTART;VALUE=DATE:20250829
DTEND;VALUE=DATE:20250901
DTSTAMP:20260422T000001
CREATED:20250703T121704Z
LAST-MODIFIED:20250703T121704Z
UID:63770-1756425600-1756684799@www.cursilho.org.br
SUMMARY:29/08 - 46º CURSILHO FEMININO MASCULINO PARA JOVENS - GED CORNÉLIO PROCÓPIO
DESCRIPTION:
URL:https://www.cursilho.org.br/event/29-08-46o-cursilho-feminino-masculino-para-jovens-ged-cornelio-procopio/
LOCATION:GED CORNÉLIO PROCÓPIO\, Av. Alberto Carazzai\, 1080 - Centro\, Cornélio Procópio - PR\, 86300-000\, Brasil
CATEGORIES:Cursilho
ORGANIZER;CN="Afonso Pereira da Silva Filho":MAILTO:afonsopereira-@hotmail.com
END:VEVENT
BEGIN:VEVENT
DTSTART;VALUE=DATE:20250829
DTEND;VALUE=DATE:20250901
DTSTAMP:20260422T000001
CREATED:20250526T150735Z
LAST-MODIFIED:20250526T150735Z
UID:63655-1756425600-1756684799@www.cursilho.org.br
SUMMARY:29/08 - 139º CURSILHO FEMININO - GED NOVA IGUAÇU
DESCRIPTION:
URL:https://www.cursilho.org.br/event/29-08-139o-cursilho-feminino-ged-nova-iguacu/
LOCATION:GED NOVA IGUAÇU\, Rua Dom Adriano Hipolito\, 8 - Moquetá\, Nova Iguaçu\, RIO DE JANEIRO\, 26215-090\, Brazil
CATEGORIES:Cursilho
ORGANIZER;CN="VILMA MARQUES DA SILVA":MAILTO:alavancascursilho.ni@gmail.com
END:VEVENT
BEGIN:VEVENT
DTSTART;VALUE=DATE:20250829
DTEND;VALUE=DATE:20250901
DTSTAMP:20260422T000001
CREATED:20250515T133121Z
LAST-MODIFIED:20250515T133121Z
UID:63618-1756425600-1756684799@www.cursilho.org.br
SUMMARY:29/08 - 47º CURSILHO MASCULINO - GED IPAMERI
DESCRIPTION:
URL:https://www.cursilho.org.br/event/29-08-47o-cursilho-masculino-ged-ipameri/
LOCATION:IPAMERI\, Av. Barão do Rio Branco\, 01 – Centro\, IPAMERI\, Goias\, 75780-000\, Brasil
CATEGORIES:Cursilho
ORGANIZER;CN="PAULO SERGIO DOS SANTOS":MAILTO:paulo.sergio96@hotmail.com
END:VEVENT
BEGIN:VEVENT
DTSTART;VALUE=DATE:20250829
DTEND;VALUE=DATE:20250901
DTSTAMP:20260422T000001
CREATED:20250422T140255Z
LAST-MODIFIED:20250422T140255Z
UID:63519-1756425600-1756684799@www.cursilho.org.br
SUMMARY:29/08 - 135º CURSILHO FEMININO - GED PATOS DE MINAS
DESCRIPTION:
URL:https://www.cursilho.org.br/event/29-08-135o-cursilho-feminino-ged-patos-de-minas/
LOCATION:GED PATOS DE MINAS\, Rua Tiradentes\, 388 - Centro\, Patos de Minas/MG\, Minas Gerais\, 38700-134\, Brasil
CATEGORIES:Cursilho
ORGANIZER;CN="BIANCA GONCALVES CAETANO":MAILTO:biancaagc@hotmail.com
END:VEVENT
BEGIN:VEVENT
DTSTART;VALUE=DATE:20250829
DTEND;VALUE=DATE:20250901
DTSTAMP:20260422T000001
CREATED:20250227T134759Z
LAST-MODIFIED:20250227T134759Z
UID:63328-1756425600-1756684799@www.cursilho.org.br
SUMMARY:29/08 - 53° CURSILHO ADULTO MASCULINO - GED CAÇADOR
DESCRIPTION:
URL:https://www.cursilho.org.br/event/29-08-53-cursilho-adulto-masculino-ged-cacador/
LOCATION:Ged Caçador\, R. 7 de Setembro\, 120 - Centro\, Caçador - SC\, 89500-000\, Brasil
CATEGORIES:Cursilho
ORGANIZER;CN="Taynara Augusto":MAILTO:augtaynara@icloud.com
END:VEVENT
BEGIN:VEVENT
DTSTART;VALUE=DATE:20250828
DTEND;VALUE=DATE:20250901
DTSTAMP:20260422T000001
CREATED:20250805T114458Z
LAST-MODIFIED:20250805T114458Z
UID:63882-1756339200-1756684799@www.cursilho.org.br
SUMMARY:28/08 - 67º CURSILHO DE CRISTANDADE - MASCULINO - GED - DIOCESE DE PETRÓPOLIS
DESCRIPTION:
URL:https://www.cursilho.org.br/event/28-08-67o-cursilho-de-cristandade-masculino-ged-diocese-de-petropolis/
LOCATION:GED PETROPOLIS\, Avenida Simao da Mota\, 256\, Centro\, Mage - RJ\, RIO DE JANEIRO\, 25.900-001.\, Brasil
CATEGORIES:Cursilho
ORGANIZER;CN="AD%C3%83O MIGUEL DOS SANTOS":MAILTO:mccpiabeta@gmail.com
END:VEVENT
BEGIN:VEVENT
DTSTART;VALUE=DATE:20250828
DTEND;VALUE=DATE:20250901
DTSTAMP:20260422T000001
CREATED:20250730T121651Z
LAST-MODIFIED:20250730T125040Z
UID:63861-1756339200-1756684799@www.cursilho.org.br
SUMMARY:28/08 - 16º CURSILHO FEMININO DO SETOR SANTANA DO IPANEMA – GED DE PALMEIRA DOS ÍNDIOS – AL
DESCRIPTION:
URL:https://www.cursilho.org.br/event/28-08-16o-cursilho-feminino-do-setor-santana-do-ipanema-ged-de-palmeira-dos-indios-al/
LOCATION:GED PALMEIRA DOS ÍNDIOS\, Praça Mons. Macedo\, 190\,\, Palmeira dos Índios\, AL\, Brazil
CATEGORIES:Cursilho
ORGANIZER;CN="CHEOPS ARAUJO MALTA":MAILTO:cheopsmalta@gmail.com
END:VEVENT
BEGIN:VEVENT
DTSTART;VALUE=DATE:20250828
DTEND;VALUE=DATE:20250901
DTSTAMP:20260422T000001
CREATED:20250730T121310Z
LAST-MODIFIED:20250730T121310Z
UID:63859-1756339200-1756684799@www.cursilho.org.br
SUMMARY:28/08 -  53º CURSILHO MASCULINO - GED COLATINA
DESCRIPTION:
URL:https://www.cursilho.org.br/event/28-08-53o-cursilho-masculino-ged-colatina/
LOCATION:GED Colatina Setor Aracruz\, Praça São João Batista Centro\, Aracruz (ES)\, Espirito Santo\, 29.190-054\, Brazil
CATEGORIES:Cursilho
ORGANIZER;CN="Julierme Rodolfo Zampa Bitti Blank":MAILTO:juliermeblank@yahoo.com.br
END:VEVENT
BEGIN:VEVENT
DTSTART;VALUE=DATE:20250828
DTEND;VALUE=DATE:20250901
DTSTAMP:20260422T000001
CREATED:20250707T150354Z
LAST-MODIFIED:20250707T150354Z
UID:63783-1756339200-1756684799@www.cursilho.org.br
SUMMARY:28/08 - 66° CURSILHO MASCULINO - GED PETRÓPOLIS
DESCRIPTION:
URL:https://www.cursilho.org.br/event/28-08-66-cursilho-masculino-ged-petropolis/
LOCATION:GED PETROPOLIS\, Avenida Simao da Mota\, 256\, Centro\, Mage - RJ\, RIO DE JANEIRO\, 25.900-001.\, Brasil
CATEGORIES:Cursilho
ORGANIZER;CN="Jos%C3%A9 Alves":MAILTO:jalves0507@gmail.com
END:VEVENT
BEGIN:VEVENT
DTSTART;VALUE=DATE:20250828
DTEND;VALUE=DATE:20250901
DTSTAMP:20260422T000001
CREATED:20250506T140400Z
LAST-MODIFIED:20250506T140400Z
UID:63579-1756339200-1756684799@www.cursilho.org.br
SUMMARY:28/08 - 1º CURSILHO EPISCOPAL FEMININO - GED OLINDA
DESCRIPTION:
URL:https://www.cursilho.org.br/event/28-08-1o-cursilho-episcopal-feminino-ged-olinda/
LOCATION:GED OLINDA\, Av. Rui Barbosa\, 409 - Graças\, OLINDA\, 52.011-040\, Brazil
CATEGORIES:Cursilho
ORGANIZER;CN="CLOVIS JOSE BARBOZA DE SANTANA":MAILTO:cursilhobetesda@gmail.com
END:VEVENT
BEGIN:VEVENT
DTSTART;VALUE=DATE:20250822
DTEND;VALUE=DATE:20250825
DTSTAMP:20260422T000001
CREATED:20250820T121128Z
LAST-MODIFIED:20250820T121128Z
UID:63942-1755820800-1756079999@www.cursilho.org.br
SUMMARY:22/08 - 1º CURSILHO PARA JOVENS MISTO - GED OURINHOS
DESCRIPTION:
URL:https://www.cursilho.org.br/event/22-08-1o-cursilho-para-jovens-misto-ged-ourinhos-2/
LOCATION:GED OURINHOS\, R. Arlíndo Luz\, 446 - Centro\, Ourinhos - SP\, SÃO PAULO\, 19900-011\, Brasil
CATEGORIES:Cursilho
ORGANIZER;CN="Guilherme Mateus Sampaio":MAILTO:matsampa2016@gmail.com
END:VEVENT
BEGIN:VEVENT
DTSTART;VALUE=DATE:20250822
DTEND;VALUE=DATE:20250825
DTSTAMP:20260422T000001
CREATED:20250818T124941Z
LAST-MODIFIED:20250818T124941Z
UID:63917-1755820800-1756079999@www.cursilho.org.br
SUMMARY:22/08 - 74º CURSILHO PARA JOVENS MISTO - GED CAMPINAS
DESCRIPTION:
URL:https://www.cursilho.org.br/event/22-08-74o-cursilho-para-jovens-misto-ged-campinas/
LOCATION:GED CAMPINAS\, Av. Aquidaban\, 744 - Vila Lídia\, Campinas - SP\, 13026-510\, Brasil
CATEGORIES:Cursilho
ORGANIZER;CN="Silvania Maria dos Santos Martins":MAILTO:silvaniasmartins@hotmail.com
END:VEVENT
BEGIN:VEVENT
DTSTART;VALUE=DATE:20250822
DTEND;VALUE=DATE:20250825
DTSTAMP:20260422T000001
CREATED:20250815T173136Z
LAST-MODIFIED:20250815T173136Z
UID:63914-1755820800-1756079999@www.cursilho.org.br
SUMMARY:22/08 - 1º CURSILHO PARA JOVENS MISTO -  GED OURINHOS
DESCRIPTION:
URL:https://www.cursilho.org.br/event/22-08-1o-cursilho-para-jovens-misto-ged-ourinhos/
LOCATION:GED OURINHOS\, R. Arlíndo Luz\, 446 - Centro\, Ourinhos - SP\, SÃO PAULO\, 19900-011\, Brasil
CATEGORIES:Cursilho
ORGANIZER;CN="Guilherme Mateus Sampaio":MAILTO:matsampa2016@gmail.com
END:VEVENT
BEGIN:VEVENT
DTSTART;VALUE=DATE:20250822
DTEND;VALUE=DATE:20250825
DTSTAMP:20260422T000001
CREATED:20250804T142231Z
LAST-MODIFIED:20250804T142231Z
UID:63873-1755820800-1756079999@www.cursilho.org.br
SUMMARY:22/08 - 1º CURSILHO PARA JOVENS MISTO GER SUL 1 BOTUCATU - GED OURINHOS
DESCRIPTION:
URL:https://www.cursilho.org.br/event/22-08-1o-cursilho-para-jovens-misto-ger-sul-1-botucatu-ged-ourinhos/
LOCATION:GED OURINHOS\, R. Arlíndo Luz\, 446 - Centro\, Ourinhos - SP\, SÃO PAULO\, 19900-011\, Brasil
CATEGORIES:Cursilho
ORGANIZER;CN="Guilherme Mateus Sampaio":MAILTO:matsampa2016@gmail.com
END:VEVENT
BEGIN:VEVENT
DTSTART;VALUE=DATE:20250822
DTEND;VALUE=DATE:20250825
DTSTAMP:20260422T000001
CREATED:20250703T121546Z
LAST-MODIFIED:20250703T121546Z
UID:63768-1755820800-1756079999@www.cursilho.org.br
SUMMARY:22/08 - 46º CURSILHO FEMININO FEMININO PARA JOVENS - GED CORNÉLIO PROCÓPIO
DESCRIPTION:
URL:https://www.cursilho.org.br/event/22-08-46o-cursilho-feminino-feminino-para-jovens-ged-cornelio-procopio/
LOCATION:GED CORNÉLIO PROCÓPIO\, Av. Alberto Carazzai\, 1080 - Centro\, Cornélio Procópio - PR\, 86300-000\, Brasil
CATEGORIES:Cursilho
ORGANIZER;CN="Afonso Pereira da Silva Filho":MAILTO:afonsopereira-@hotmail.com
END:VEVENT
BEGIN:VEVENT
DTSTART;VALUE=DATE:20250821
DTEND;VALUE=DATE:20250825
DTSTAMP:20260422T000001
CREATED:20250818T125151Z
LAST-MODIFIED:20250818T125151Z
UID:63920-1755734400-1756079999@www.cursilho.org.br
SUMMARY:21/08 - 29º CURSILHO MASCULINO JOVEM - GED GUARAPUAVA PARANÁ
DESCRIPTION:
URL:https://www.cursilho.org.br/event/21-08-29o-cursilho-masculino-jovem-ged-guarapuava-parana/
LOCATION:GED GUARAPUAVA\, Avenida Presidente Getúlio Vargas\, nº 170 - Centro\, Pitanga\, Paraná\, 85200-000\, Brasil
CATEGORIES:Cursilho
ORGANIZER;CN="Marco aurelio Klossinak gluskoski":MAILTO:qslmarco@gmail.com
END:VEVENT
BEGIN:VEVENT
DTSTART;VALUE=DATE:20250821
DTEND;VALUE=DATE:20250825
DTSTAMP:20260422T000001
CREATED:20250805T114334Z
LAST-MODIFIED:20250805T114334Z
UID:63879-1755734400-1756079999@www.cursilho.org.br
SUMMARY:21/08 - 66º CURSILHO DE CRISTANDADE - FEMININO - GED - DIOCESE DE PETRÓPOLIS
DESCRIPTION:
URL:https://www.cursilho.org.br/event/21-08-66o-cursilho-de-cristandade-feminino-ged-diocese-de-petropolis/
LOCATION:GED PETROPOLIS\, Avenida Simao da Mota\, 256\, Centro\, Mage - RJ\, RIO DE JANEIRO\, 25.900-001.\, Brasil
CATEGORIES:Cursilho
ORGANIZER;CN="AD%C3%83O MIGUEL DOS SANTOS":MAILTO:mccpiabeta@gmail.com
END:VEVENT
BEGIN:VEVENT
DTSTART;VALUE=DATE:20250821
DTEND;VALUE=DATE:20250825
DTSTAMP:20260422T000001
CREATED:20250731T121319Z
LAST-MODIFIED:20250731T121319Z
UID:63868-1755734400-1756079999@www.cursilho.org.br
SUMMARY:21/08 - 19º CURSILHO FEMININO-  GED PRIMAVERA DO LESTE - PARANATINGA
DESCRIPTION:
URL:https://www.cursilho.org.br/event/21-08-19o-cursilho-feminino-ged-primavera-do-leste-paranatinga/
LOCATION:Primavera do Leste/Paranatinga\, São João\, nº 440\, Centro\, 78850-000\, Brasil
CATEGORIES:Cursilho
ORGANIZER;CN="Valdeir Almeida":MAILTO:gedprimaveradolesteparanatinga@gmail.com
END:VEVENT
BEGIN:VEVENT
DTSTART;VALUE=DATE:20250821
DTEND;VALUE=DATE:20250825
DTSTAMP:20260422T000001
CREATED:20250730T121146Z
LAST-MODIFIED:20250730T121146Z
UID:63857-1755734400-1756079999@www.cursilho.org.br
SUMMARY:21/08 - 52º CURSILHO FEMININO - GED COLATINA
DESCRIPTION:
URL:https://www.cursilho.org.br/event/21-08-52o-cursilho-feminino-ged-colatina/
LOCATION:GED Colatina Setor Aracruz\, Praça São João Batista Centro\, Aracruz (ES)\, Espirito Santo\, 29.190-054\, Brazil
CATEGORIES:Cursilho
ORGANIZER;CN="Julierme Rodolfo Zampa Bitti Blank":MAILTO:juliermeblank@yahoo.com.br
END:VEVENT
BEGIN:VEVENT
DTSTART;VALUE=DATE:20250821
DTEND;VALUE=DATE:20250825
DTSTAMP:20260422T000001
CREATED:20250722T121024Z
LAST-MODIFIED:20250722T121024Z
UID:63845-1755734400-1756079999@www.cursilho.org.br
SUMMARY:21/08 -16º CURSILHO MASCULINO DO SETOR SANTANA DO IPANEMA - GED DE PALMEIRA DOS ÍNDIOS - AL
DESCRIPTION:
URL:https://www.cursilho.org.br/event/21-08-16o-cursilho-masculino-do-setor-santana-do-ipanema-ged-de-palmeira-dos-indios-al/
LOCATION:GED PALMEIRA DOS ÍNDIOS\, Praça Mons. Macedo\, 190\,\, Palmeira dos Índios\, AL\, Brazil
CATEGORIES:Cursilho
ORGANIZER;CN="CHEOPS ARAUJO MALTA":MAILTO:cheopsmalta@gmail.com
END:VEVENT
BEGIN:VEVENT
DTSTART;VALUE=DATE:20250815
DTEND;VALUE=DATE:20250818
DTSTAMP:20260422T000001
CREATED:20250811T121325Z
LAST-MODIFIED:20250811T121325Z
UID:63895-1755216000-1755475199@www.cursilho.org.br
SUMMARY:15/08 - 23º CURSILHO MASCULINO ADULTO - GED BLUMENAU
DESCRIPTION:
URL:https://www.cursilho.org.br/event/15-08-23o-cursilho-masculino-adulto-ged-blumenau/
LOCATION:Diocese de Blumenau\, R. XV de Novembro\, 955 - Centro\, Blumenau\, Santa Catarina\, 89010-971\, Brasil
CATEGORIES:Cursilho
ORGANIZER;CN="Henrique Eduardo":MAILTO:rickodaireduardo@gmail.com
END:VEVENT
BEGIN:VEVENT
DTSTART;VALUE=DATE:20250815
DTEND;VALUE=DATE:20250818
DTSTAMP:20260422T000001
CREATED:20250804T142424Z
LAST-MODIFIED:20250804T142424Z
UID:63875-1755216000-1755475199@www.cursilho.org.br
SUMMARY:15/08 - 18º CURSILHO FEMININO JOVEM - GED JACAREZINHO
DESCRIPTION:
URL:https://www.cursilho.org.br/event/15-08-18o-cursilho-feminino-jovem-ged-jacarezinho/
LOCATION:GED JACAREZINHO\, Av. Manoel Ribas\, Jacarezinho - PR\, Brasil
CATEGORIES:Cursilho
ORGANIZER;CN="Erasto de Mello J%C3%BAnior":MAILTO:erasto.junior@yahoo.com.br
END:VEVENT
BEGIN:VEVENT
DTSTART;VALUE=DATE:20250815
DTEND;VALUE=DATE:20250818
DTSTAMP:20260422T000001
CREATED:20250801T140839Z
LAST-MODIFIED:20250801T140839Z
UID:63870-1755216000-1755475199@www.cursilho.org.br
SUMMARY:15/08 - 13º CURSILHO MASCULINO PARA JOVENS - GED CRICIÚMA
DESCRIPTION:
URL:https://www.cursilho.org.br/event/15-08-13o-cursilho-masculino-para-jovens-ged-criciuma/
LOCATION:GED CRICIÚMA\, R. Pedro Manoel Apolinário\, 90 - Santa Barbara\, Criciúma - SC\, 88804-350\, Brasil
CATEGORIES:Cursilho
ORGANIZER;CN="LEANDRO MAGNUS BEDINOT":MAILTO:mbedinot973@gmail.com
END:VEVENT
BEGIN:VEVENT
DTSTART;VALUE=DATE:20250814
DTEND;VALUE=DATE:20250818
DTSTAMP:20260422T000001
CREATED:20250814T152250Z
LAST-MODIFIED:20250814T152250Z
UID:63909-1755129600-1755475199@www.cursilho.org.br
SUMMARY:14/08 - 29º CURSILHO FEMININO JOVEM - GED GUARAPUAVA
DESCRIPTION:
URL:https://www.cursilho.org.br/event/14-08-29o-cursilho-feminino-jovem-ged-guarapuava/
LOCATION:GED GUARAPUAVA\, Avenida Presidente Getúlio Vargas\, nº 170 - Centro\, Pitanga\, Paraná\, 85200-000\, Brasil
CATEGORIES:Cursilho
ORGANIZER;CN="Ani%C3%A9lli Trento":MAILTO:anietrento@gmail.com
END:VEVENT
BEGIN:VEVENT
DTSTART;VALUE=DATE:20250814
DTEND;VALUE=DATE:20250818
DTSTAMP:20260422T000001
CREATED:20250731T121140Z
LAST-MODIFIED:20250731T121140Z
UID:63865-1755129600-1755475199@www.cursilho.org.br
SUMMARY:14/08 - 19º CURSILHO MASCULINO -  GED PRIMAVERA DO LESTE - PARANATINGA
DESCRIPTION:
URL:https://www.cursilho.org.br/event/14-08-19o-cursilho-masculino-ged-primavera-do-leste-paranatinga/
LOCATION:Primavera do Leste/Paranatinga\, São João\, nº 440\, Centro\, 78850-000\, Brasil
CATEGORIES:Cursilho
ORGANIZER;CN="Valdeir Almeida":MAILTO:gedprimaveradolesteparanatinga@gmail.com
END:VEVENT
BEGIN:VEVENT
DTSTART;VALUE=DATE:20250801
DTEND;VALUE=DATE:20250804
DTSTAMP:20260422T000001
CREATED:20250721T124454Z
LAST-MODIFIED:20250721T124454Z
UID:63827-1754006400-1754265599@www.cursilho.org.br
SUMMARY:01/08 - 8º CURSILHO PARA JOVENS MASCULINO - GED OURINHOS
DESCRIPTION:
URL:https://www.cursilho.org.br/event/01-08-8o-cursilho-para-jovens-masculino-ged-ourinhos/
LOCATION:GED OURINHOS\, R. Arlíndo Luz\, 446 - Centro\, Ourinhos - SP\, SÃO PAULO\, 19900-011\, Brasil
CATEGORIES:Cursilho
ORGANIZER;CN="Guilherme Mateus Sampaio":MAILTO:matsampa2016@gmail.com
END:VEVENT
BEGIN:VEVENT
DTSTART;VALUE=DATE:20250801
DTEND;VALUE=DATE:20250804
DTSTAMP:20260422T000001
CREATED:20250711T122550Z
LAST-MODIFIED:20250711T122550Z
UID:63790-1754006400-1754265599@www.cursilho.org.br
SUMMARY:01/08 - 178º CURSILHO DE MULHERES - GED PORTO ALEGRE
DESCRIPTION:
URL:https://www.cursilho.org.br/event/01-08-178o-cursilho-de-mulheres-ged-porto-alegre/
LOCATION:GED PORTO ALEGRE\, Rua Espírito Santo\, 95\, Porto Alegre | RS\, 90010-370\, Brasil
CATEGORIES:Cursilho
ORGANIZER;CN="JACSON VIEIRA PORTO":MAILTO:jvieiraporto@gmail.com
END:VEVENT
BEGIN:VEVENT
DTSTART;VALUE=DATE:20250801
DTEND;VALUE=DATE:20250804
DTSTAMP:20260422T000001
CREATED:20250703T171659Z
LAST-MODIFIED:20250703T171659Z
UID:63772-1754006400-1754265599@www.cursilho.org.br
SUMMARY:01/08 - 8° CURSILHO PARA JOVENS MASCULINO - GED OURINHOS
DESCRIPTION:
URL:https://www.cursilho.org.br/event/01-08-8-cursilho-para-jovens-masculino-ged-ourinhos/
LOCATION:GED OURINHOS\, R. Arlíndo Luz\, 446 - Centro\, Ourinhos - SP\, SÃO PAULO\, 19900-011\, Brasil
CATEGORIES:Cursilho
ORGANIZER;CN="Fabio Henrique":MAILTO:fabiohenrique.edinho@gmail.com
END:VEVENT
END:VCALENDAR