BEGIN:VCALENDAR
VERSION:2.0
PRODID:-//MCC do Brasil - ECPv6.15.11//NONSGML v1.0//EN
CALSCALE:GREGORIAN
METHOD:PUBLISH
X-WR-CALNAME:MCC do Brasil
X-ORIGINAL-URL:https://www.cursilho.org.br
X-WR-CALDESC:Eventos para MCC do Brasil
REFRESH-INTERVAL;VALUE=DURATION:PT1H
X-Robots-Tag:noindex
X-PUBLISHED-TTL:PT1H
BEGIN:VTIMEZONE
TZID:America/Sao_Paulo
BEGIN:STANDARD
TZOFFSETFROM:-0300
TZOFFSETTO:-0300
TZNAME:-03
DTSTART:20240101T000000
END:STANDARD
END:VTIMEZONE
BEGIN:VEVENT
DTSTART;VALUE=DATE:20250919
DTEND;VALUE=DATE:20250922
DTSTAMP:20260421T210423
CREATED:20250828T121512Z
LAST-MODIFIED:20250828T121512Z
UID:63957-1758240000-1758499199@www.cursilho.org.br
SUMMARY:19/09 - 83º CURSILHO JOVEM MASCULINO - GED CURITIBA
DESCRIPTION:
URL:https://www.cursilho.org.br/event/19-09-83o-cursilho-jovem-masculino-ged-curitiba/
LOCATION:GED CURITIBA\, PR\, Brasil
CATEGORIES:Cursilho
ORGANIZER;CN="HERON SANTOS DE OLIVEIRA FILHO":MAILTO:alavancacursilho@gmail.com
END:VEVENT
BEGIN:VEVENT
DTSTART;VALUE=DATE:20250919
DTEND;VALUE=DATE:20250922
DTSTAMP:20260421T210423
CREATED:20250819T134711Z
LAST-MODIFIED:20250819T134711Z
UID:63931-1758240000-1758499199@www.cursilho.org.br
SUMMARY:19/09 - 83º CURSILHO PARA JOVENS MASCULINO - GED CURITIBA
DESCRIPTION:
URL:https://www.cursilho.org.br/event/19-09-83o-cursilho-para-jovens-masculino-ged-curitiba/
LOCATION:GED CURITIBA\, PR\, Brasil
CATEGORIES:Cursilho
ORGANIZER;CN="Ellen Selenko dos Santos":MAILTO:avancacursilho@gmail.com
END:VEVENT
BEGIN:VEVENT
DTSTART;VALUE=DATE:20250919
DTEND;VALUE=DATE:20250922
DTSTAMP:20260421T210423
CREATED:20250815T172954Z
LAST-MODIFIED:20250815T172954Z
UID:63912-1758240000-1758499199@www.cursilho.org.br
SUMMARY:19/09 - 108º CURSILHO MASCULINO - GED SANTA CRUZ DO SUL
DESCRIPTION:
URL:https://www.cursilho.org.br/event/19-09-108o-cursilho-masculino-ged-santa-cruz-do-sul-2/
LOCATION:Santa Cruz do Sul\, Rua Thomaz Flores\, 675 - Centro\, Santa Cruz do Sul\, Rio Grande do Sul\, 96810-068\, Brasil
CATEGORIES:Cursilho
ORGANIZER;CN="JO%C3%83O ERNANI RODRIGUES DA SILVA":MAILTO:joao@joaoernani.com.br
END:VEVENT
BEGIN:VEVENT
DTSTART;VALUE=DATE:20250919
DTEND;VALUE=DATE:20250922
DTSTAMP:20260421T210423
CREATED:20250808T120255Z
LAST-MODIFIED:20250808T120255Z
UID:63889-1758240000-1758499199@www.cursilho.org.br
SUMMARY:19/09 - 108º CURSILHO MASCULINO  - GED SANTA CRUZ DO SUL
DESCRIPTION:
URL:https://www.cursilho.org.br/event/19-09-108o-cursilho-masculino-ged-santa-cruz-do-sul/
LOCATION:Santa Cruz do Sul\, Rua Thomaz Flores\, 675 - Centro\, Santa Cruz do Sul\, Rio Grande do Sul\, 96810-068\, Brasil
CATEGORIES:Cursilho
ORGANIZER;CN="JO%C3%83O ERNANI RODRIGUES DA SILVA":MAILTO:joao@joaoernani.com.br
END:VEVENT
BEGIN:VEVENT
DTSTART;VALUE=DATE:20250919
DTEND;VALUE=DATE:20250922
DTSTAMP:20260421T210423
CREATED:20250703T121354Z
LAST-MODIFIED:20250703T121354Z
UID:63765-1758240000-1758499199@www.cursilho.org.br
SUMMARY:19/09 - 35º CURSILHO PARA JOVENS - GED SÃO CARLOS
DESCRIPTION:
URL:https://www.cursilho.org.br/event/19-09-35o-cursilho-para-jovens-ged-sao-carlos/
LOCATION:GED SÃO CARLOS\, Av. José Pereira Lopes\, 386 – Vila Prado\, São Carlos – SP\, 13574-380\, Brasil
CATEGORIES:Cursilho
ORGANIZER;CN="Paula de Oliveira Vianna":MAILTO:secretariagedsc@gmail.com
END:VEVENT
BEGIN:VEVENT
DTSTART;VALUE=DATE:20250919
DTEND;VALUE=DATE:20250922
DTSTAMP:20260421T210423
CREATED:20250520T143522Z
LAST-MODIFIED:20250520T143522Z
UID:63637-1758240000-1758499199@www.cursilho.org.br
SUMMARY:19/09 - 121º CURSILHO MASCULINO ADULTO - GED GUAXUPÉ
DESCRIPTION:
URL:https://www.cursilho.org.br/event/19-09-121o-cursilho-masculino-adulto-ged-guaxupe/
LOCATION:GED GUAXUPÉ\, R. Francisco Ribeiro do Valle\, 242\, Guaxupé - MG\, Minas Gerais\, 37800-000\, Brasil
CATEGORIES:Cursilho
ORGANIZER;CN="JOAQUIM CANDIDO DE AVELAR FILHO":MAILTO:quinzinhoavelar@yahoo.com.br
END:VEVENT
BEGIN:VEVENT
DTSTART;VALUE=DATE:20250918
DTEND;VALUE=DATE:20250922
DTSTAMP:20260421T210423
CREATED:20250722T115406Z
LAST-MODIFIED:20250722T115406Z
UID:63839-1758153600-1758499199@www.cursilho.org.br
SUMMARY:18/09 - 154° CURSILHO PARA HOMENS - GED CAMPO GRANDE
DESCRIPTION:
URL:https://www.cursilho.org.br/event/18-09-154-cursilho-para-homens-ged-campo-grande/
LOCATION:GED CAMPO GRANDE MS\, Rua Amando de Oliveira\, 448 – Bairro Amambai\, Campo Grande – MS\, 79008-010\, Brasil
CATEGORIES:Cursilho
ORGANIZER;CN="M%C3%81RIO M%C3%81RCIO ORRO GON%C3%87ALVES":MAILTO:cursilhocg.mcc@gmail.com
END:VEVENT
BEGIN:VEVENT
DTSTART;VALUE=DATE:20250918
DTEND;VALUE=DATE:20250922
DTSTAMP:20260421T210423
CREATED:20250331T143540Z
LAST-MODIFIED:20250331T143540Z
UID:63462-1758153600-1758499199@www.cursilho.org.br
SUMMARY:18/09 - 57º CURSILHO PARA HOMENS - GED GOVERNADOR VALADARES
DESCRIPTION:
URL:https://www.cursilho.org.br/event/18-09-57o-cursilho-para-homens-ged-governador-valadares/
LOCATION:Cúria Diocesana de Governador Valadares\, Av. Brasil\, 2770 – Centro\, Governador Valadares\, Minas Gerais\, 35010-020\, Brasil
CATEGORIES:Cursilho
END:VEVENT
BEGIN:VEVENT
DTSTART;VALUE=DATE:20250912
DTEND;VALUE=DATE:20250915
DTSTAMP:20260421T210423
CREATED:20250814T115216Z
LAST-MODIFIED:20250814T115216Z
UID:63906-1757635200-1757894399@www.cursilho.org.br
SUMMARY:12/09 - 274º RETIRO MASCULINO DA DIOCESE DE JOINVILLE - GED SÃO BENTO DO SUL
DESCRIPTION:
URL:https://www.cursilho.org.br/event/12-09-274o-retiro-masculino-da-diocese-de-joinville-ged-sao-bento-do-sul/
LOCATION:SÃO BENTO DO SUL\, São Bento do Sul\, Santa Catarina\, Brasil
CATEGORIES:Cursilho
ORGANIZER;CN="ADRIAN DILVANO NASCIMENTO":MAILTO:adriannascimento16@gmail.com
END:VEVENT
BEGIN:VEVENT
DTSTART;VALUE=DATE:20250911
DTEND;VALUE=DATE:20250915
DTSTAMP:20260421T210423
CREATED:20250829T123038Z
LAST-MODIFIED:20250829T123038Z
UID:63969-1757548800-1757894399@www.cursilho.org.br
SUMMARY:11/09 - 9° CURSILHO PARA MULHERES DE MANTENA - GED TEÓFILO OTONI
DESCRIPTION:
URL:https://www.cursilho.org.br/event/11-09-9-cursilho-para-mulheres-de-mantena-ged-teofilo-otoni/
LOCATION:GED Teófilo Otoni\, Padre Virgulino N°: 751\, Teófilo Otoni\, MINAS GERAIS\, 39.800-025\, Brasil
CATEGORIES:Cursilho
ORGANIZER;CN="Solange Rocha Pereira":MAILTO:cursilhomantena@gmail.com
END:VEVENT
BEGIN:VEVENT
DTSTART;VALUE=DATE:20250911
DTEND;VALUE=DATE:20250915
DTSTAMP:20260421T210423
CREATED:20250203T180951Z
LAST-MODIFIED:20250203T180951Z
UID:63240-1757548800-1757894399@www.cursilho.org.br
SUMMARY:11/09 - 228º CURSILHO MASCULINO -  GED JUNDIAÍ
DESCRIPTION:
URL:https://www.cursilho.org.br/event/11-09-228o-cursilho-masculino-ged-jundiai/
LOCATION:JUNDIAI\, Estrada do Garcia 905 Jardim Santhiago\, Campo Limpo Paulista/SP\, SP\, 13232-400\, Brasil
CATEGORIES:Cursilho
ORGANIZER;CN="EMERSON BARCARO":MAILTO:contato@cursilhojundiai.com.br
END:VEVENT
BEGIN:VEVENT
DTSTART;VALUE=DATE:20250906
DTEND;VALUE=DATE:20250907
DTSTAMP:20260421T210423
CREATED:20250623T141135Z
LAST-MODIFIED:20250623T141135Z
UID:63739-1757116800-1757203199@www.cursilho.org.br
SUMMARY:04/09 - 21º CURSILHO JOVEM - GED NAVIRAÍ
DESCRIPTION:
URL:https://www.cursilho.org.br/event/04-09-21o-cursilho-jovem-ged-navirai/
LOCATION:GED NAVIRAÍ\, R. Campanário\, 144\, Centro\, Naviraí - MS\, 79950-000\, Brasil
CATEGORIES:Cursilho
ORGANIZER;CN="Ana Maria de F%C3%A1tima Souza":MAILTO:anaamaria39@hotmail.com
END:VEVENT
BEGIN:VEVENT
DTSTART;VALUE=DATE:20250905
DTEND;VALUE=DATE:20250908
DTSTAMP:20260421T210423
CREATED:20250808T132929Z
LAST-MODIFIED:20250808T132929Z
UID:63893-1757030400-1757289599@www.cursilho.org.br
SUMMARY:05/09 - 122º CURSILHO DE MULHERES - GED PASSO FUNDO
DESCRIPTION:
URL:https://www.cursilho.org.br/event/05-09-122o-cursilho-de-mulheres-ged-passo-fundo/
LOCATION:CASA DE RETIROS – ARQUIDIOCESE DE PASSO FUNDO/RS\, R. Padre Nóbrega\, 486 - Vila Lucas Araujo\, Passo Fundo\, Rio Grande do Sul\, 99072-290\, Brasil
CATEGORIES:Cursilho
ORGANIZER;CN="DIRCEU ANTONIO MARINI":MAILTO:ged.passofundo@gmail.com
END:VEVENT
BEGIN:VEVENT
DTSTART;VALUE=DATE:20250905
DTEND;VALUE=DATE:20250908
DTSTAMP:20260421T210423
CREATED:20250618T130610Z
LAST-MODIFIED:20250618T130709Z
UID:63731-1757030400-1757289599@www.cursilho.org.br
SUMMARY:05/09 - 200° CURSILHO PARA HOMENS - GED MARINGÁ-PR
DESCRIPTION:
URL:https://www.cursilho.org.br/event/05-09-200-cursilho-para-homens-ged-maringa-pr/
LOCATION:GED MARINGÁ\, Av. Tiradentes\, 740 - Zona 1\, Maringá – PR\, 87.001-97(44) 3227-17060\, Brasil
CATEGORIES:Cursilho
ORGANIZER;CN="Junior Piancol":MAILTO:alavancasmaringa@gmail.com
END:VEVENT
BEGIN:VEVENT
DTSTART;VALUE=DATE:20250904
DTEND;VALUE=DATE:20250908
DTSTAMP:20260421T210423
CREATED:20250901T180736Z
LAST-MODIFIED:20250901T180736Z
UID:63975-1756944000-1757289599@www.cursilho.org.br
SUMMARY:04/09 - 21° CURSILHO JOVEM DIOCESE DE NAVIRAÍ - GED NAVIRAÍ
DESCRIPTION:
URL:https://www.cursilho.org.br/event/04-09-21-cursilho-jovem-diocese-de-navirai-ged-navirai/
LOCATION:GED NAVIRAÍ\, R. Campanário\, 144\, Centro\, Naviraí - MS\, 79950-000\, Brasil
CATEGORIES:Cursilho
ORGANIZER;CN="ANDERSON HENRIQUE LIMA COSTA":MAILTO:limacivil94@gmail.com
END:VEVENT
BEGIN:VEVENT
DTSTART;VALUE=DATE:20250904
DTEND;VALUE=DATE:20250908
DTSTAMP:20260421T210423
CREATED:20250828T122236Z
LAST-MODIFIED:20250828T122236Z
UID:63966-1756944000-1757289599@www.cursilho.org.br
SUMMARY:04/09 - 21º CURSILHO PARA JOVENS - GED NAVIRAÍ
DESCRIPTION:
URL:https://www.cursilho.org.br/event/04-09-21o-cursilho-para-jovens-ged-navirai/
LOCATION:GED NAVIRAÍ\, R. Campanário\, 144\, Centro\, Naviraí - MS\, 79950-000\, Brasil
CATEGORIES:Cursilho
ORGANIZER;CN="Rafael Henrique da Rocha":MAILTO:rafael_bio@outlook.com
END:VEVENT
BEGIN:VEVENT
DTSTART;VALUE=DATE:20250904
DTEND;VALUE=DATE:20250908
DTSTAMP:20260421T210423
CREATED:20250828T121933Z
LAST-MODIFIED:20250828T121933Z
UID:63963-1756944000-1757289599@www.cursilho.org.br
SUMMARY:04/09 - 66º CURSILHO PARA JOVENS - GED CAMPO GRANDE/MS
DESCRIPTION:
URL:https://www.cursilho.org.br/event/04-09-66o-cursilho-para-jovens-ged-campo-grande-ms/
LOCATION:Campo Grande MS\, Rua Amando de Oliveira\, 448\, Bairro Amambai\, Campo Grande – MS\, 79008-010\, Brasil
CATEGORIES:Cursilho
ORGANIZER;CN="Cristal Rosalia Aguero":MAILTO:cristalaguero18@gmail.com
END:VEVENT
BEGIN:VEVENT
DTSTART;VALUE=DATE:20250904
DTEND;VALUE=DATE:20250908
DTSTAMP:20260421T210423
CREATED:20250805T114652Z
LAST-MODIFIED:20250805T114652Z
UID:63884-1756944000-1757289599@www.cursilho.org.br
SUMMARY:04/09 - 21º CURSILHO JOVEM MISTO - GED DE NAVIRAÍ
DESCRIPTION:
URL:https://www.cursilho.org.br/event/04-09-21o-cursilho-jovem-misto-ged-de-navirai/
LOCATION:Ged  Naviraí
CATEGORIES:Cursilho
ORGANIZER;CN="Taynara Cristina de Souza":MAILTO:desouzataynara@outlook.com
END:VEVENT
BEGIN:VEVENT
DTSTART;VALUE=DATE:20250904
DTEND;VALUE=DATE:20250908
DTSTAMP:20260421T210423
CREATED:20250722T115550Z
LAST-MODIFIED:20250722T115550Z
UID:63842-1756944000-1757289599@www.cursilho.org.br
SUMMARY:04/09 - 66º CURSILHO PARA JOVENS MISTO - GED CAMPO GRANDE
DESCRIPTION:
URL:https://www.cursilho.org.br/event/04-09-66o-cursilho-para-jovens-misto-ged-campo-grande/
LOCATION:GED CAMPO GRANDE MS\, Rua Amando de Oliveira\, 448 – Bairro Amambai\, Campo Grande – MS\, 79008-010\, Brasil
CATEGORIES:Cursilho
ORGANIZER;CN="LET%C3%8DCIA EVELLYN SANCHINI FERREIRA":MAILTO:cursilhocg.mcc@gmail.com
END:VEVENT
BEGIN:VEVENT
DTSTART;VALUE=DATE:20250829
DTEND;VALUE=DATE:20250901
DTSTAMP:20260421T210423
CREATED:20250828T121757Z
LAST-MODIFIED:20250828T121757Z
UID:63960-1756425600-1756684799@www.cursilho.org.br
SUMMARY:29/08 - 38º CURSILHO DE JOVEM - GED TAUBATÉ
DESCRIPTION:
URL:https://www.cursilho.org.br/event/29-08-38o-cursilho-de-jovem-ged-taubate/
LOCATION:GED TAUBATÉ\, Rua Maria Basso Monteiro s/n\, Taubaté\, SP\, Brasil\, SÃO PAULO\, Brasil
CATEGORIES:Cursilho
ORGANIZER;CN="Ta%C3%ADssa Vaz Rangel":MAILTO:taissavrangel@gmail.com
END:VEVENT
BEGIN:VEVENT
DTSTART;VALUE=DATE:20250829
DTEND;VALUE=DATE:20250901
DTSTAMP:20260421T210423
CREATED:20250828T120737Z
LAST-MODIFIED:20250828T120737Z
UID:63944-1756425600-1756684799@www.cursilho.org.br
SUMMARY:29/08 - 3º CURSILHO MISTO DA ARQUIDIOCESE DE TERESINA - GED TERESINA
DESCRIPTION:
URL:https://www.cursilho.org.br/event/29-08-3o-cursilho-misto-da-arquidiocese-de-teresina-ged-teresina/
LOCATION:ARQUIDIOCESE DE TERESINA\, Av. Frei Serafim\, 3200 - Centro (Sul)\, Teresina - PI\, 64000-020
CATEGORIES:Cursilho
ORGANIZER;CN="LIANE MARINA COMASSETTO":MAILTO:etto.liane@gmail.com
END:VEVENT
BEGIN:VEVENT
DTSTART;VALUE=DATE:20250829
DTEND;VALUE=DATE:20250901
DTSTAMP:20260421T210423
CREATED:20250808T132801Z
LAST-MODIFIED:20250808T132801Z
UID:63891-1756425600-1756684799@www.cursilho.org.br
SUMMARY:29/08 - 122º CURSILHO DE HOMENS - GED PASSO FUNDO
DESCRIPTION:
URL:https://www.cursilho.org.br/event/29-08-122o-cursilho-de-homens-ged-passo-fundo/
LOCATION:CASA DE RETIROS – ARQUIDIOCESE DE PASSO FUNDO/RS\, R. Padre Nóbrega\, 486 - Vila Lucas Araujo\, Passo Fundo\, Rio Grande do Sul\, 99072-290\, Brasil
CATEGORIES:Cursilho
ORGANIZER;CN="DIRCEU ANTONIO MARINI":MAILTO:ged.passofundo@gmail.com
END:VEVENT
BEGIN:VEVENT
DTSTART;VALUE=DATE:20250829
DTEND;VALUE=DATE:20250901
DTSTAMP:20260421T210423
CREATED:20250703T121704Z
LAST-MODIFIED:20250703T121704Z
UID:63770-1756425600-1756684799@www.cursilho.org.br
SUMMARY:29/08 - 46º CURSILHO FEMININO MASCULINO PARA JOVENS - GED CORNÉLIO PROCÓPIO
DESCRIPTION:
URL:https://www.cursilho.org.br/event/29-08-46o-cursilho-feminino-masculino-para-jovens-ged-cornelio-procopio/
LOCATION:GED CORNÉLIO PROCÓPIO\, Av. Alberto Carazzai\, 1080 - Centro\, Cornélio Procópio - PR\, 86300-000\, Brasil
CATEGORIES:Cursilho
ORGANIZER;CN="Afonso Pereira da Silva Filho":MAILTO:afonsopereira-@hotmail.com
END:VEVENT
BEGIN:VEVENT
DTSTART;VALUE=DATE:20250829
DTEND;VALUE=DATE:20250901
DTSTAMP:20260421T210423
CREATED:20250526T150735Z
LAST-MODIFIED:20250526T150735Z
UID:63655-1756425600-1756684799@www.cursilho.org.br
SUMMARY:29/08 - 139º CURSILHO FEMININO - GED NOVA IGUAÇU
DESCRIPTION:
URL:https://www.cursilho.org.br/event/29-08-139o-cursilho-feminino-ged-nova-iguacu/
LOCATION:GED NOVA IGUAÇU\, Rua Dom Adriano Hipolito\, 8 - Moquetá\, Nova Iguaçu\, RIO DE JANEIRO\, 26215-090\, Brazil
CATEGORIES:Cursilho
ORGANIZER;CN="VILMA MARQUES DA SILVA":MAILTO:alavancascursilho.ni@gmail.com
END:VEVENT
BEGIN:VEVENT
DTSTART;VALUE=DATE:20250829
DTEND;VALUE=DATE:20250901
DTSTAMP:20260421T210423
CREATED:20250515T133121Z
LAST-MODIFIED:20250515T133121Z
UID:63618-1756425600-1756684799@www.cursilho.org.br
SUMMARY:29/08 - 47º CURSILHO MASCULINO - GED IPAMERI
DESCRIPTION:
URL:https://www.cursilho.org.br/event/29-08-47o-cursilho-masculino-ged-ipameri/
LOCATION:IPAMERI\, Av. Barão do Rio Branco\, 01 – Centro\, IPAMERI\, Goias\, 75780-000\, Brasil
CATEGORIES:Cursilho
ORGANIZER;CN="PAULO SERGIO DOS SANTOS":MAILTO:paulo.sergio96@hotmail.com
END:VEVENT
BEGIN:VEVENT
DTSTART;VALUE=DATE:20250829
DTEND;VALUE=DATE:20250901
DTSTAMP:20260421T210423
CREATED:20250422T140255Z
LAST-MODIFIED:20250422T140255Z
UID:63519-1756425600-1756684799@www.cursilho.org.br
SUMMARY:29/08 - 135º CURSILHO FEMININO - GED PATOS DE MINAS
DESCRIPTION:
URL:https://www.cursilho.org.br/event/29-08-135o-cursilho-feminino-ged-patos-de-minas/
LOCATION:GED PATOS DE MINAS\, Rua Tiradentes\, 388 - Centro\, Patos de Minas/MG\, Minas Gerais\, 38700-134\, Brasil
CATEGORIES:Cursilho
ORGANIZER;CN="BIANCA GONCALVES CAETANO":MAILTO:biancaagc@hotmail.com
END:VEVENT
BEGIN:VEVENT
DTSTART;VALUE=DATE:20250829
DTEND;VALUE=DATE:20250901
DTSTAMP:20260421T210423
CREATED:20250227T134759Z
LAST-MODIFIED:20250227T134759Z
UID:63328-1756425600-1756684799@www.cursilho.org.br
SUMMARY:29/08 - 53° CURSILHO ADULTO MASCULINO - GED CAÇADOR
DESCRIPTION:
URL:https://www.cursilho.org.br/event/29-08-53-cursilho-adulto-masculino-ged-cacador/
LOCATION:Ged Caçador\, R. 7 de Setembro\, 120 - Centro\, Caçador - SC\, 89500-000\, Brasil
CATEGORIES:Cursilho
ORGANIZER;CN="Taynara Augusto":MAILTO:augtaynara@icloud.com
END:VEVENT
BEGIN:VEVENT
DTSTART;VALUE=DATE:20250828
DTEND;VALUE=DATE:20250901
DTSTAMP:20260421T210423
CREATED:20250805T114458Z
LAST-MODIFIED:20250805T114458Z
UID:63882-1756339200-1756684799@www.cursilho.org.br
SUMMARY:28/08 - 67º CURSILHO DE CRISTANDADE - MASCULINO - GED - DIOCESE DE PETRÓPOLIS
DESCRIPTION:
URL:https://www.cursilho.org.br/event/28-08-67o-cursilho-de-cristandade-masculino-ged-diocese-de-petropolis/
LOCATION:GED PETROPOLIS\, Avenida Simao da Mota\, 256\, Centro\, Mage - RJ\, RIO DE JANEIRO\, 25.900-001.\, Brasil
CATEGORIES:Cursilho
ORGANIZER;CN="AD%C3%83O MIGUEL DOS SANTOS":MAILTO:mccpiabeta@gmail.com
END:VEVENT
BEGIN:VEVENT
DTSTART;VALUE=DATE:20250828
DTEND;VALUE=DATE:20250901
DTSTAMP:20260421T210423
CREATED:20250730T121651Z
LAST-MODIFIED:20250730T125040Z
UID:63861-1756339200-1756684799@www.cursilho.org.br
SUMMARY:28/08 - 16º CURSILHO FEMININO DO SETOR SANTANA DO IPANEMA – GED DE PALMEIRA DOS ÍNDIOS – AL
DESCRIPTION:
URL:https://www.cursilho.org.br/event/28-08-16o-cursilho-feminino-do-setor-santana-do-ipanema-ged-de-palmeira-dos-indios-al/
LOCATION:GED PALMEIRA DOS ÍNDIOS\, Praça Mons. Macedo\, 190\,\, Palmeira dos Índios\, AL\, Brazil
CATEGORIES:Cursilho
ORGANIZER;CN="CHEOPS ARAUJO MALTA":MAILTO:cheopsmalta@gmail.com
END:VEVENT
BEGIN:VEVENT
DTSTART;VALUE=DATE:20250828
DTEND;VALUE=DATE:20250901
DTSTAMP:20260421T210423
CREATED:20250730T121310Z
LAST-MODIFIED:20250730T121310Z
UID:63859-1756339200-1756684799@www.cursilho.org.br
SUMMARY:28/08 -  53º CURSILHO MASCULINO - GED COLATINA
DESCRIPTION:
URL:https://www.cursilho.org.br/event/28-08-53o-cursilho-masculino-ged-colatina/
LOCATION:GED Colatina Setor Aracruz\, Praça São João Batista Centro\, Aracruz (ES)\, Espirito Santo\, 29.190-054\, Brazil
CATEGORIES:Cursilho
ORGANIZER;CN="Julierme Rodolfo Zampa Bitti Blank":MAILTO:juliermeblank@yahoo.com.br
END:VEVENT
END:VCALENDAR