BEGIN:VCALENDAR
VERSION:2.0
PRODID:-//MCC do Brasil - ECPv6.15.11//NONSGML v1.0//EN
CALSCALE:GREGORIAN
METHOD:PUBLISH
X-ORIGINAL-URL:https://www.cursilho.org.br
X-WR-CALDESC:Eventos para MCC do Brasil
REFRESH-INTERVAL;VALUE=DURATION:PT1H
X-Robots-Tag:noindex
X-PUBLISHED-TTL:PT1H
BEGIN:VTIMEZONE
TZID:America/Sao_Paulo
BEGIN:STANDARD
TZOFFSETFROM:-0300
TZOFFSETTO:-0300
TZNAME:-03
DTSTART:20240101T000000
END:STANDARD
END:VTIMEZONE
BEGIN:VEVENT
DTSTART;VALUE=DATE:20250329
DTEND;VALUE=DATE:20250331
DTSTAMP:20260422T040840
CREATED:20250203T175913Z
LAST-MODIFIED:20250203T175913Z
UID:63224-1743206400-1743379199@www.cursilho.org.br
SUMMARY:29/03 - ASSEMBLEIA DIOCESANA ELETIVA - GED JUNDIAÍ
DESCRIPTION:
URL:https://www.cursilho.org.br/event/29-03-assembleia-diocesana-eletiva-ged-jundiai/
LOCATION:JUNDIAI\, Estrada do Garcia 905 Jardim Santhiago\, Campo Limpo Paulista/SP\, SP\, 13232-400\, Brasil
CATEGORIES:ASSEMBLEIA DIOCESANA
ORGANIZER;CN="EMERSON BARCARO":MAILTO:contato@cursilhojundiai.com.br
END:VEVENT
END:VCALENDAR