BEGIN:VCALENDAR
VERSION:2.0
PRODID:-//MCC do Brasil - ECPv6.15.11//NONSGML v1.0//EN
CALSCALE:GREGORIAN
METHOD:PUBLISH
X-WR-CALNAME:MCC do Brasil
X-ORIGINAL-URL:https://www.cursilho.org.br
X-WR-CALDESC:Eventos para MCC do Brasil
REFRESH-INTERVAL;VALUE=DURATION:PT1H
X-Robots-Tag:noindex
X-PUBLISHED-TTL:PT1H
BEGIN:VTIMEZONE
TZID:America/Sao_Paulo
BEGIN:STANDARD
TZOFFSETFROM:-0300
TZOFFSETTO:-0300
TZNAME:-03
DTSTART:20250101T000000
END:STANDARD
END:VTIMEZONE
BEGIN:VEVENT
DTSTART;VALUE=DATE:20260516
DTEND;VALUE=DATE:20260518
DTSTAMP:20260419T192610
CREATED:20260115T140418Z
LAST-MODIFIED:20260115T140418Z
UID:64490-1778889600-1779062399@www.cursilho.org.br
SUMMARY:16/05 - AD - ASSEMBLEIA DIOCESANA 2026 - GED BOTUCATU
DESCRIPTION:
URL:https://www.cursilho.org.br/event/16-05-ad-assembleia-diocesana-2026-ged-botucatu/
LOCATION:GED BOTUCATU\, Botucatu\, São Paulo\, Brasil
CATEGORIES:ASSEMBLEIA DIOCESANA
ORGANIZER;CN="Janderson de Oliveira e Silva":MAILTO:mccbcursilho@gmail.com
END:VEVENT
END:VCALENDAR